| Back to Multiple platform build/check report for BioC 3.8 |
|
This page was generated on 2019-04-16 11:53:11 -0400 (Tue, 16 Apr 2019).
| Package 841/1649 | Hostname | OS / Arch | INSTALL | BUILD | CHECK | BUILD BIN | ||||||
| loci2path 1.2.0 Tianlei Xu
| malbec1 | Linux (Ubuntu 16.04.6 LTS) / x86_64 | OK | OK | [ OK ] | |||||||
| merida1 | OS X 10.11.6 El Capitan / x86_64 | OK | OK | OK | OK |
| Package: loci2path |
| Version: 1.2.0 |
| Command: /home/biocbuild/bbs-3.8-bioc/R/bin/R CMD check --install=check:loci2path.install-out.txt --library=/home/biocbuild/bbs-3.8-bioc/R/library --no-vignettes --timings loci2path_1.2.0.tar.gz |
| StartedAt: 2019-04-16 01:01:19 -0400 (Tue, 16 Apr 2019) |
| EndedAt: 2019-04-16 01:03:05 -0400 (Tue, 16 Apr 2019) |
| EllapsedTime: 105.7 seconds |
| RetCode: 0 |
| Status: OK |
| CheckDir: loci2path.Rcheck |
| Warnings: 0 |
##############################################################################
##############################################################################
###
### Running command:
###
### /home/biocbuild/bbs-3.8-bioc/R/bin/R CMD check --install=check:loci2path.install-out.txt --library=/home/biocbuild/bbs-3.8-bioc/R/library --no-vignettes --timings loci2path_1.2.0.tar.gz
###
##############################################################################
##############################################################################
* using log directory ‘/home/biocbuild/bbs-3.8-bioc/meat/loci2path.Rcheck’
* using R version 3.5.3 (2019-03-11)
* using platform: x86_64-pc-linux-gnu (64-bit)
* using session charset: UTF-8
* using option ‘--no-vignettes’
* checking for file ‘loci2path/DESCRIPTION’ ... OK
* checking extension type ... Package
* this is package ‘loci2path’ version ‘1.2.0’
* package encoding: UTF-8
* checking package namespace information ... OK
* checking package dependencies ... OK
* checking if this is a source package ... OK
* checking if there is a namespace ... OK
* checking for hidden files and directories ... OK
* checking for portable file names ... OK
* checking for sufficient/correct file permissions ... OK
* checking whether package ‘loci2path’ can be installed ... OK
* checking installed package size ... OK
* checking package directory ... OK
* checking ‘build’ directory ... OK
* checking DESCRIPTION meta-information ... OK
* checking top-level files ... OK
* checking for left-over files ... OK
* checking index information ... OK
* checking package subdirectories ... OK
* checking R files for non-ASCII characters ... OK
* checking R files for syntax errors ... OK
* checking whether the package can be loaded ... OK
* checking whether the package can be loaded with stated dependencies ... OK
* checking whether the package can be unloaded cleanly ... OK
* checking whether the namespace can be loaded with stated dependencies ... OK
* checking whether the namespace can be unloaded cleanly ... OK
* checking dependencies in R code ... OK
* checking S3 generic/method consistency ... OK
* checking replacement functions ... OK
* checking foreign function calls ... OK
* checking R code for possible problems ... OK
* checking Rd files ... OK
* checking Rd metadata ... OK
* checking Rd cross-references ... OK
* checking for missing documentation entries ... OK
* checking for code/documentation mismatches ... OK
* checking Rd \usage sections ... OK
* checking Rd contents ... OK
* checking for unstated dependencies in examples ... OK
* checking contents of ‘data’ directory ... OK
* checking data for non-ASCII characters ... OK
* checking data for ASCII and uncompressed saves ... OK
* checking files in ‘vignettes’ ... OK
* checking examples ... OK
Examples with CPU or elapsed time > 5s
user system elapsed
query-methods 25.412 0.100 5.046
getTissueDegree-methods 20.736 0.064 3.963
getPval-methods 20.624 0.064 3.829
loci2pathResult-class 19.612 0.036 3.675
getWordcloud-methods 19.560 0.048 3.882
getHeatmap-methods 19.252 0.060 4.053
getMat-methods 19.100 0.060 3.673
getPathDescription-methods 18.504 0.032 3.377
* checking for unstated dependencies in vignettes ... OK
* checking package vignettes in ‘inst/doc’ ... OK
* checking running R code from vignettes ... SKIPPED
* checking re-building of vignette outputs ... SKIPPED
* checking PDF version of manual ... OK
* DONE
Status: OK
loci2path.Rcheck/00install.out
############################################################################## ############################################################################## ### ### Running command: ### ### /home/biocbuild/bbs-3.8-bioc/R/bin/R CMD INSTALL loci2path ### ############################################################################## ############################################################################## * installing to library ‘/home/biocbuild/bbs-3.8-bioc/R/library’ * installing *source* package ‘loci2path’ ... ** R ** data *** moving datasets to lazyload DB ** inst ** byte-compile and prepare package for lazy loading ** help *** installing help indices ** building package indices ** installing vignettes ** testing if installed package can be loaded * DONE (loci2path)
loci2path.Rcheck/loci2path-Ex.timings
| name | user | system | elapsed | |
| biocarta | 0.012 | 0.004 | 0.015 | |
| check.geneid | 0.012 | 0.000 | 0.012 | |
| eqtlSet-class | 0.172 | 0.016 | 0.204 | |
| eset.list | 0.000 | 0.000 | 0.001 | |
| geneSet-class | 0.016 | 0.000 | 0.021 | |
| getHeatmap-methods | 19.252 | 0.060 | 4.053 | |
| getMat-methods | 19.100 | 0.060 | 3.673 | |
| getPathDescription-methods | 18.504 | 0.032 | 3.377 | |
| getPval-methods | 20.624 | 0.064 | 3.829 | |
| getTissueDegree-methods | 20.736 | 0.064 | 3.963 | |
| getWordcloud-methods | 19.560 | 0.048 | 3.882 | |
| loci2pathResult-class | 19.612 | 0.036 | 3.675 | |
| query-methods | 25.412 | 0.100 | 5.046 | |
| query.gr | 0.004 | 0.000 | 0.002 | |