| Back to Multiple platform build/check report for BioC 3.8 |
|
This page was generated on 2019-04-13 11:23:49 -0400 (Sat, 13 Apr 2019).
| Package 575/1649 | Hostname | OS / Arch | INSTALL | BUILD | CHECK | BUILD BIN | ||||||
Alex Murison
| malbec1 | Linux (Ubuntu 16.04.6 LTS) / x86_64 | OK | OK | ERROR | |||||||
| tokay1 | Windows Server 2012 R2 Standard / x64 | OK | OK | ERROR | [ OK ] | |||||||
| merida1 | OS X 10.11.6 El Capitan / x86_64 | OK | OK | ERROR | OK |
| Package: gaucho |
| Version: 1.18.0 |
| Command: rm -rf gaucho.buildbin-libdir && mkdir gaucho.buildbin-libdir && C:\Users\biocbuild\bbs-3.8-bioc\R\bin\R.exe CMD INSTALL --merge-multiarch --build --library=gaucho.buildbin-libdir gaucho_1.18.0.tar.gz |
| StartedAt: 2019-04-13 07:17:11 -0400 (Sat, 13 Apr 2019) |
| EndedAt: 2019-04-13 07:17:28 -0400 (Sat, 13 Apr 2019) |
| EllapsedTime: 16.5 seconds |
| RetCode: 0 |
| Status: OK |
| PackageFile: gaucho_1.18.0.zip |
| PackageFileSize: 430.1 KiB |
##############################################################################
##############################################################################
###
### Running command:
###
### rm -rf gaucho.buildbin-libdir && mkdir gaucho.buildbin-libdir && C:\Users\biocbuild\bbs-3.8-bioc\R\bin\R.exe CMD INSTALL --merge-multiarch --build --library=gaucho.buildbin-libdir gaucho_1.18.0.tar.gz
###
##############################################################################
##############################################################################
install for i386
* installing *source* package 'gaucho' ...
** R
** inst
** byte-compile and prepare package for lazy loading
** help
*** installing help indices
converting help for package 'gaucho'
finding HTML links ... done
BYB1_G07_pruned html
finding level-2 HTML links ... done
gaucho html
gauchoReport html
gaucho_hidden_data html
gaucho_simple_data html
gaucho_synth_data html
gaucho_synth_data_jittered html
** building package indices
** installing vignettes
** testing if installed package can be loaded
Warning: Package 'gaucho' is deprecated and will be removed from Bioconductor
version 3.9
In R CMD INSTALL
install for x64
* installing *source* package 'gaucho' ...
** testing if installed package can be loaded
Warning: Package 'gaucho' is deprecated and will be removed from Bioconductor
version 3.9
* MD5 sums
packaged installation of 'gaucho' as gaucho_1.18.0.zip
* DONE (gaucho)
In R CMD INSTALL
In R CMD INSTALL