| Back to Multiple platform build/check report for BioC 3.8 |
|
This page was generated on 2019-04-16 11:57:36 -0400 (Tue, 16 Apr 2019).
| Package 575/1649 | Hostname | OS / Arch | INSTALL | BUILD | CHECK | BUILD BIN | ||||||
Alex Murison
| malbec1 | Linux (Ubuntu 16.04.6 LTS) / x86_64 | OK | OK | ERROR | |||||||
| merida1 | OS X 10.11.6 El Capitan / x86_64 | OK | OK | ERROR | [ OK ] |
| Package: gaucho |
| Version: 1.18.0 |
| Command: rm -rf gaucho.buildbin-libdir && mkdir gaucho.buildbin-libdir && /Users/biocbuild/BBS/utils/build-universal.sh gaucho_1.18.0.tar.gz /Library/Frameworks/R.framework/Versions/Current/Resources/bin/R gaucho.buildbin-libdir |
| StartedAt: 2019-04-16 04:05:25 -0400 (Tue, 16 Apr 2019) |
| EndedAt: 2019-04-16 04:06:09 -0400 (Tue, 16 Apr 2019) |
| EllapsedTime: 44.3 seconds |
| RetCode: 0 |
| Status: OK |
| PackageFile: gaucho_1.18.0.tgz |
| PackageFileSize: 417.2 KiB |
############################################################################## ############################################################################## ### ### Running command: ### ### rm -rf gaucho.buildbin-libdir && mkdir gaucho.buildbin-libdir && /Users/biocbuild/BBS/utils/build-universal.sh gaucho_1.18.0.tar.gz /Library/Frameworks/R.framework/Versions/Current/Resources/bin/R gaucho.buildbin-libdir ### ############################################################################## ############################################################################## >>>>>>> >>>>>>> INSTALLATION WITH 'R CMD INSTALL --preclean --no-multiarch --library=gaucho.buildbin-libdir gaucho_1.18.0.tar.gz' >>>>>>> * installing *source* package ‘gaucho’ ... ** R ** inst ** byte-compile and prepare package for lazy loading ** help *** installing help indices ** building package indices ** installing vignettes ** testing if installed package can be loaded Warning: Package 'gaucho' is deprecated and will be removed from Bioconductor version 3.9 * DONE (gaucho)