| Back to Multiple platform build/check report for BioC 3.8 |
|
This page was generated on 2019-04-13 11:24:43 -0400 (Sat, 13 Apr 2019).
| Package 677/1649 | Hostname | OS / Arch | INSTALL | BUILD | CHECK | BUILD BIN | ||||||
| gQTLstats 1.14.1 VJ Carey
| malbec1 | Linux (Ubuntu 16.04.6 LTS) / x86_64 | OK | OK | OK | |||||||
| tokay1 | Windows Server 2012 R2 Standard / x64 | [ OK ] | OK | WARNINGS | OK | |||||||
| merida1 | OS X 10.11.6 El Capitan / x86_64 | OK | OK | OK | OK |
| Package: gQTLstats |
| Version: 1.14.1 |
| Command: C:\cygwin\bin\curl.exe -O https://malbec1.bioconductor.org/BBS/3.8/bioc/src/contrib/gQTLstats_1.14.1.tar.gz && rm -rf gQTLstats.buildbin-libdir && mkdir gQTLstats.buildbin-libdir && C:\Users\biocbuild\bbs-3.8-bioc\R\bin\R.exe CMD INSTALL --merge-multiarch --build --library=gQTLstats.buildbin-libdir gQTLstats_1.14.1.tar.gz && C:\Users\biocbuild\bbs-3.8-bioc\R\bin\R.exe CMD INSTALL gQTLstats_1.14.1.zip && rm gQTLstats_1.14.1.tar.gz gQTLstats_1.14.1.zip |
| StartedAt: 2019-04-12 20:20:07 -0400 (Fri, 12 Apr 2019) |
| EndedAt: 2019-04-12 20:23:15 -0400 (Fri, 12 Apr 2019) |
| EllapsedTime: 187.7 seconds |
| RetCode: 0 |
| Status: OK |
##############################################################################
##############################################################################
###
### Running command:
###
### C:\cygwin\bin\curl.exe -O https://malbec1.bioconductor.org/BBS/3.8/bioc/src/contrib/gQTLstats_1.14.1.tar.gz && rm -rf gQTLstats.buildbin-libdir && mkdir gQTLstats.buildbin-libdir && C:\Users\biocbuild\bbs-3.8-bioc\R\bin\R.exe CMD INSTALL --merge-multiarch --build --library=gQTLstats.buildbin-libdir gQTLstats_1.14.1.tar.gz && C:\Users\biocbuild\bbs-3.8-bioc\R\bin\R.exe CMD INSTALL gQTLstats_1.14.1.zip && rm gQTLstats_1.14.1.tar.gz gQTLstats_1.14.1.zip
###
##############################################################################
##############################################################################
% Total % Received % Xferd Average Speed Time Time Time Current
Dload Upload Total Spent Left Speed
0 0 0 0 0 0 0 0 --:--:-- --:--:-- --:--:-- 0
21 62.6M 21 13.2M 0 0 48.9M 0 0:00:01 --:--:-- 0:00:01 49.4M
100 62.6M 100 62.6M 0 0 87.7M 0 --:--:-- --:--:-- --:--:-- 87.9M
install for i386
* installing *source* package 'gQTLstats' ...
** R
** data
** inst
** byte-compile and prepare package for lazy loading
** help
*** installing help indices
converting help for package 'gQTLstats'
finding HTML links ... done
FDRsupp-class html
TransStore-class html
Rd warning: C:/Users/biocbuild/bbs-3.8-bioc/tmpdir/RtmpC2dS7Q/R.INSTALL260c596f6aee/gQTLstats/man/TransStore-class.Rd:19: file link 'Registry' in package 'BatchJobs' does not exist and so has been treated as a topic
TransStore html
Rd warning: C:/Users/biocbuild/bbs-3.8-bioc/tmpdir/RtmpC2dS7Q/R.INSTALL260c596f6aee/gQTLstats/man/TransStore.Rd:18: file link 'Registry' in package 'BatchJobs' does not exist and so has been treated as a topic
cisAssoc html
Rd warning: C:/Users/biocbuild/bbs-3.8-bioc/tmpdir/RtmpC2dS7Q/R.INSTALL260c596f6aee/gQTLstats/man/cisAssoc.Rd:37: file link 'RangedSummarizedExperiment' in package 'SummarizedExperiment' does not exist and so has been treated as a topic
Rd warning: C:/Users/biocbuild/bbs-3.8-bioc/tmpdir/RtmpC2dS7Q/R.INSTALL260c596f6aee/gQTLstats/man/cisAssoc.Rd:40: file link 'TabixFile' in package 'Rsamtools' does not exist and so has been treated as a topic
Rd warning: C:/Users/biocbuild/bbs-3.8-bioc/tmpdir/RtmpC2dS7Q/R.INSTALL260c596f6aee/gQTLstats/man/cisAssoc.Rd:63: file link 'col.summary' in package 'snpStats' does not exist and so has been treated as a topic
Rd warning: C:/Users/biocbuild/bbs-3.8-bioc/tmpdir/RtmpC2dS7Q/R.INSTALL260c596f6aee/gQTLstats/man/cisAssoc.Rd:75: file link 'isSNV' in package 'VariantAnnotation' does not exist and so has been treated as a topic
clipPCs html
Rd warning: C:/Users/biocbuild/bbs-3.8-bioc/tmpdir/RtmpC2dS7Q/R.INSTALL260c596f6aee/gQTLstats/man/clipPCs.Rd:24: file link 'RangedSummarizedExperiment' in package 'SummarizedExperiment' does not exist and so has been treated as a topic
Rd warning: C:/Users/biocbuild/bbs-3.8-bioc/tmpdir/RtmpC2dS7Q/R.INSTALL260c596f6aee/gQTLstats/man/clipPCs.Rd:50: file link 'RangedSummarizedExperiment' in package 'SummarizedExperiment' does not exist and so has been treated as a topic
directPlot html
enumerateByFDR html
finding level-2 HTML links ... done
eqBox2 html
Rd warning: C:/Users/biocbuild/bbs-3.8-bioc/tmpdir/RtmpC2dS7Q/R.INSTALL260c596f6aee/gQTLstats/man/eqBox2.Rd:27: file link 'RangedSummarizedExperiment' in package 'SummarizedExperiment' does not exist and so has been treated as a topic
filtFDR html
gQTLs html
Rd warning: C:/Users/biocbuild/bbs-3.8-bioc/tmpdir/RtmpC2dS7Q/R.INSTALL260c596f6aee/gQTLstats/man/gQTLs.Rd:29: file link 'readVcf' in package 'VariantAnnotation' does not exist and so has been treated as a topic
gQTLstats-package html
hmm878 html
manhWngr html
Rd warning: C:/Users/biocbuild/bbs-3.8-bioc/tmpdir/RtmpC2dS7Q/R.INSTALL260c596f6aee/gQTLstats/man/manhWngr.Rd:28: file link 'GRanges' in package 'GenomicRanges' does not exist and so has been treated as a topic
mixedVCFtoSnpMatrix html
Rd warning: C:/Users/biocbuild/bbs-3.8-bioc/tmpdir/RtmpC2dS7Q/R.INSTALL260c596f6aee/gQTLstats/man/mixedVCFtoSnpMatrix.Rd:18: file link 'CollapsedVCF-class' in package 'VariantAnnotation' does not exist and so has been treated as a topic
Rd warning: C:/Users/biocbuild/bbs-3.8-bioc/tmpdir/RtmpC2dS7Q/R.INSTALL260c596f6aee/gQTLstats/man/mixedVCFtoSnpMatrix.Rd:24: file link 'genotypeToSnpMatrix' in package 'VariantAnnotation' does not exist and so has been treated as a topic
Rd warning: C:/Users/biocbuild/bbs-3.8-bioc/tmpdir/RtmpC2dS7Q/R.INSTALL260c596f6aee/gQTLstats/man/mixedVCFtoSnpMatrix.Rd:32: file link 'genotypeToSnpMatrix' in package 'VariantAnnotation' does not exist and so has been treated as a topic
Rd warning: C:/Users/biocbuild/bbs-3.8-bioc/tmpdir/RtmpC2dS7Q/R.INSTALL260c596f6aee/gQTLstats/man/mixedVCFtoSnpMatrix.Rd:50: file link 'genotypeToSnpMatrix' in package 'VariantAnnotation' does not exist and so has been treated as a topic
pifdr html
qqStore html
Rd warning: C:/Users/biocbuild/bbs-3.8-bioc/tmpdir/RtmpC2dS7Q/R.INSTALL260c596f6aee/gQTLstats/man/qqStore.Rd:28: file link 'storeToQuantiles' in package 'gQTLstats' does not exist and so has been treated as a topic
queryVCF html
Rd warning: C:/Users/biocbuild/bbs-3.8-bioc/tmpdir/RtmpC2dS7Q/R.INSTALL260c596f6aee/gQTLstats/man/queryVCF.Rd:29: file link 'genotypeToSnpMatrix' in package 'VariantAnnotation' does not exist and so has been treated as a topic
senstab html
setFDRfunc html
storeToStats html
tqbrowser html
transAssoc html
transBrowse html
tsByRank html
Rd warning: C:/Users/biocbuild/bbs-3.8-bioc/tmpdir/RtmpC2dS7Q/R.INSTALL260c596f6aee/gQTLstats/man/tsByRank.Rd:52: file link 'GRanges' in package 'GenomicRanges' does not exist and so has been treated as a topic
txsPlot html
** building package indices
** installing vignettes
** testing if installed package can be loaded
In R CMD INSTALL
install for x64
* installing *source* package 'gQTLstats' ...
** testing if installed package can be loaded
* MD5 sums
packaged installation of 'gQTLstats' as gQTLstats_1.14.1.zip
* DONE (gQTLstats)
In R CMD INSTALL
In R CMD INSTALL
* installing to library 'C:/Users/biocbuild/bbs-3.8-bioc/R/library'
package 'gQTLstats' successfully unpacked and MD5 sums checked
In R CMD INSTALL