| Back to Multiple platform build/check report for BioC 3.8 |
|
This page was generated on 2019-04-13 11:24:43 -0400 (Sat, 13 Apr 2019).
| Package 677/1649 | Hostname | OS / Arch | INSTALL | BUILD | CHECK | BUILD BIN | ||||||
| gQTLstats 1.14.1 VJ Carey
| malbec1 | Linux (Ubuntu 16.04.6 LTS) / x86_64 | OK | OK | OK | |||||||
| tokay1 | Windows Server 2012 R2 Standard / x64 | OK | OK | WARNINGS | [ OK ] | |||||||
| merida1 | OS X 10.11.6 El Capitan / x86_64 | OK | OK | OK | OK |
| Package: gQTLstats |
| Version: 1.14.1 |
| Command: rm -rf gQTLstats.buildbin-libdir && mkdir gQTLstats.buildbin-libdir && C:\Users\biocbuild\bbs-3.8-bioc\R\bin\R.exe CMD INSTALL --merge-multiarch --build --library=gQTLstats.buildbin-libdir gQTLstats_1.14.1.tar.gz |
| StartedAt: 2019-04-13 07:21:14 -0400 (Sat, 13 Apr 2019) |
| EndedAt: 2019-04-13 07:27:55 -0400 (Sat, 13 Apr 2019) |
| EllapsedTime: 400.9 seconds |
| RetCode: 0 |
| Status: OK |
| PackageFile: gQTLstats_1.14.1.zip |
| PackageFileSize: 63.59 MiB |
##############################################################################
##############################################################################
###
### Running command:
###
### rm -rf gQTLstats.buildbin-libdir && mkdir gQTLstats.buildbin-libdir && C:\Users\biocbuild\bbs-3.8-bioc\R\bin\R.exe CMD INSTALL --merge-multiarch --build --library=gQTLstats.buildbin-libdir gQTLstats_1.14.1.tar.gz
###
##############################################################################
##############################################################################
install for i386
* installing *source* package 'gQTLstats' ...
** R
** data
** inst
** byte-compile and prepare package for lazy loading
** help
*** installing help indices
converting help for package 'gQTLstats'
finding HTML links ... done
FDRsupp-class html
TransStore-class html
Rd warning: C:/Users/biocbuild/bbs-3.8-bioc/tmpdir/RtmpuaCkGS/R.INSTALL43f456782e29/gQTLstats/man/TransStore-class.Rd:19: file link 'Registry' in package 'BatchJobs' does not exist and so has been treated as a topic
TransStore html
Rd warning: C:/Users/biocbuild/bbs-3.8-bioc/tmpdir/RtmpuaCkGS/R.INSTALL43f456782e29/gQTLstats/man/TransStore.Rd:18: file link 'Registry' in package 'BatchJobs' does not exist and so has been treated as a topic
cisAssoc html
Rd warning: C:/Users/biocbuild/bbs-3.8-bioc/tmpdir/RtmpuaCkGS/R.INSTALL43f456782e29/gQTLstats/man/cisAssoc.Rd:37: file link 'RangedSummarizedExperiment' in package 'SummarizedExperiment' does not exist and so has been treated as a topic
Rd warning: C:/Users/biocbuild/bbs-3.8-bioc/tmpdir/RtmpuaCkGS/R.INSTALL43f456782e29/gQTLstats/man/cisAssoc.Rd:40: file link 'TabixFile' in package 'Rsamtools' does not exist and so has been treated as a topic
Rd warning: C:/Users/biocbuild/bbs-3.8-bioc/tmpdir/RtmpuaCkGS/R.INSTALL43f456782e29/gQTLstats/man/cisAssoc.Rd:63: file link 'col.summary' in package 'snpStats' does not exist and so has been treated as a topic
Rd warning: C:/Users/biocbuild/bbs-3.8-bioc/tmpdir/RtmpuaCkGS/R.INSTALL43f456782e29/gQTLstats/man/cisAssoc.Rd:75: file link 'isSNV' in package 'VariantAnnotation' does not exist and so has been treated as a topic
clipPCs html
Rd warning: C:/Users/biocbuild/bbs-3.8-bioc/tmpdir/RtmpuaCkGS/R.INSTALL43f456782e29/gQTLstats/man/clipPCs.Rd:24: file link 'RangedSummarizedExperiment' in package 'SummarizedExperiment' does not exist and so has been treated as a topic
Rd warning: C:/Users/biocbuild/bbs-3.8-bioc/tmpdir/RtmpuaCkGS/R.INSTALL43f456782e29/gQTLstats/man/clipPCs.Rd:50: file link 'RangedSummarizedExperiment' in package 'SummarizedExperiment' does not exist and so has been treated as a topic
directPlot html
enumerateByFDR html
finding level-2 HTML links ... done
eqBox2 html
Rd warning: C:/Users/biocbuild/bbs-3.8-bioc/tmpdir/RtmpuaCkGS/R.INSTALL43f456782e29/gQTLstats/man/eqBox2.Rd:27: file link 'RangedSummarizedExperiment' in package 'SummarizedExperiment' does not exist and so has been treated as a topic
filtFDR html
gQTLs html
Rd warning: C:/Users/biocbuild/bbs-3.8-bioc/tmpdir/RtmpuaCkGS/R.INSTALL43f456782e29/gQTLstats/man/gQTLs.Rd:29: file link 'readVcf' in package 'VariantAnnotation' does not exist and so has been treated as a topic
gQTLstats-package html
hmm878 html
manhWngr html
Rd warning: C:/Users/biocbuild/bbs-3.8-bioc/tmpdir/RtmpuaCkGS/R.INSTALL43f456782e29/gQTLstats/man/manhWngr.Rd:28: file link 'GRanges' in package 'GenomicRanges' does not exist and so has been treated as a topic
mixedVCFtoSnpMatrix html
Rd warning: C:/Users/biocbuild/bbs-3.8-bioc/tmpdir/RtmpuaCkGS/R.INSTALL43f456782e29/gQTLstats/man/mixedVCFtoSnpMatrix.Rd:18: file link 'CollapsedVCF-class' in package 'VariantAnnotation' does not exist and so has been treated as a topic
Rd warning: C:/Users/biocbuild/bbs-3.8-bioc/tmpdir/RtmpuaCkGS/R.INSTALL43f456782e29/gQTLstats/man/mixedVCFtoSnpMatrix.Rd:24: file link 'genotypeToSnpMatrix' in package 'VariantAnnotation' does not exist and so has been treated as a topic
Rd warning: C:/Users/biocbuild/bbs-3.8-bioc/tmpdir/RtmpuaCkGS/R.INSTALL43f456782e29/gQTLstats/man/mixedVCFtoSnpMatrix.Rd:32: file link 'genotypeToSnpMatrix' in package 'VariantAnnotation' does not exist and so has been treated as a topic
Rd warning: C:/Users/biocbuild/bbs-3.8-bioc/tmpdir/RtmpuaCkGS/R.INSTALL43f456782e29/gQTLstats/man/mixedVCFtoSnpMatrix.Rd:50: file link 'genotypeToSnpMatrix' in package 'VariantAnnotation' does not exist and so has been treated as a topic
pifdr html
qqStore html
Rd warning: C:/Users/biocbuild/bbs-3.8-bioc/tmpdir/RtmpuaCkGS/R.INSTALL43f456782e29/gQTLstats/man/qqStore.Rd:28: file link 'storeToQuantiles' in package 'gQTLstats' does not exist and so has been treated as a topic
queryVCF html
Rd warning: C:/Users/biocbuild/bbs-3.8-bioc/tmpdir/RtmpuaCkGS/R.INSTALL43f456782e29/gQTLstats/man/queryVCF.Rd:29: file link 'genotypeToSnpMatrix' in package 'VariantAnnotation' does not exist and so has been treated as a topic
senstab html
setFDRfunc html
storeToStats html
tqbrowser html
transAssoc html
transBrowse html
tsByRank html
Rd warning: C:/Users/biocbuild/bbs-3.8-bioc/tmpdir/RtmpuaCkGS/R.INSTALL43f456782e29/gQTLstats/man/tsByRank.Rd:52: file link 'GRanges' in package 'GenomicRanges' does not exist and so has been treated as a topic
txsPlot html
** building package indices
** installing vignettes
** testing if installed package can be loaded
In R CMD INSTALL
install for x64
* installing *source* package 'gQTLstats' ...
** testing if installed package can be loaded
* MD5 sums
packaged installation of 'gQTLstats' as gQTLstats_1.14.1.zip
* DONE (gQTLstats)
In R CMD INSTALL
In R CMD INSTALL