| Back to Multiple platform build/check report for BioC 3.8 |
|
This page was generated on 2019-04-16 11:56:32 -0400 (Tue, 16 Apr 2019).
| Package 578/1649 | Hostname | OS / Arch | INSTALL | BUILD | CHECK | BUILD BIN | ||||||
| gCMAP 1.26.0 Thomas Sandmann
| malbec1 | Linux (Ubuntu 16.04.6 LTS) / x86_64 | OK | OK | OK | |||||||
| merida1 | OS X 10.11.6 El Capitan / x86_64 | OK | OK | [ OK ] | OK |
| Package: gCMAP |
| Version: 1.26.0 |
| Command: /Library/Frameworks/R.framework/Versions/Current/Resources/bin/R CMD check --install=check:gCMAP.install-out.txt --library=/Library/Frameworks/R.framework/Versions/Current/Resources/library --no-vignettes --timings gCMAP_1.26.0.tar.gz |
| StartedAt: 2019-04-16 00:04:29 -0400 (Tue, 16 Apr 2019) |
| EndedAt: 2019-04-16 00:07:49 -0400 (Tue, 16 Apr 2019) |
| EllapsedTime: 200.2 seconds |
| RetCode: 0 |
| Status: OK |
| CheckDir: gCMAP.Rcheck |
| Warnings: 0 |
##############################################################################
##############################################################################
###
### Running command:
###
### /Library/Frameworks/R.framework/Versions/Current/Resources/bin/R CMD check --install=check:gCMAP.install-out.txt --library=/Library/Frameworks/R.framework/Versions/Current/Resources/library --no-vignettes --timings gCMAP_1.26.0.tar.gz
###
##############################################################################
##############################################################################
* using log directory ‘/Users/biocbuild/bbs-3.8-bioc/meat/gCMAP.Rcheck’
* using R version 3.5.3 (2019-03-11)
* using platform: x86_64-apple-darwin15.6.0 (64-bit)
* using session charset: UTF-8
* using option ‘--no-vignettes’
* checking for file ‘gCMAP/DESCRIPTION’ ... OK
* checking extension type ... Package
* this is package ‘gCMAP’ version ‘1.26.0’
* checking package namespace information ... OK
* checking package dependencies ... OK
* checking if this is a source package ... OK
* checking if there is a namespace ... OK
* checking for hidden files and directories ... NOTE
Found the following hidden files and directories:
.BBSoptions
These were most likely included in error. See section ‘Package
structure’ in the ‘Writing R Extensions’ manual.
* checking for portable file names ... OK
* checking for sufficient/correct file permissions ... OK
* checking whether package ‘gCMAP’ can be installed ... OK
* checking installed package size ... OK
* checking package directory ... OK
* checking ‘build’ directory ... OK
* checking DESCRIPTION meta-information ... OK
* checking top-level files ... OK
* checking for left-over files ... OK
* checking index information ... OK
* checking package subdirectories ... OK
* checking R files for non-ASCII characters ... OK
* checking R files for syntax errors ... OK
* checking whether the package can be loaded ... OK
* checking whether the package can be loaded with stated dependencies ... OK
* checking whether the package can be unloaded cleanly ... OK
* checking whether the namespace can be loaded with stated dependencies ... OK
* checking whether the namespace can be unloaded cleanly ... OK
* checking dependencies in R code ... NOTE
Namespace in Imports field not imported from: ‘bigmemory’
All declared Imports should be used.
* checking S3 generic/method consistency ... OK
* checking replacement functions ... OK
* checking foreign function calls ... OK
* checking R code for possible problems ... OK
* checking Rd files ... OK
* checking Rd metadata ... OK
* checking Rd cross-references ... OK
* checking for missing documentation entries ... OK
* checking for code/documentation mismatches ... OK
* checking Rd \usage sections ... OK
* checking Rd contents ... OK
* checking for unstated dependencies in examples ... OK
* checking contents of ‘data’ directory ... OK
* checking data for non-ASCII characters ... OK
* checking data for ASCII and uncompressed saves ... OK
* checking sizes of PDF files under ‘inst/doc’ ... OK
* checking files in ‘vignettes’ ... OK
* checking examples ... OK
Examples with CPU or elapsed time > 5s
user system elapsed
mgsa_score-methods 25.562 3.458 6.351
romer_score-methods 5.649 0.931 6.230
* checking for unstated dependencies in ‘tests’ ... OK
* checking tests ...
Running ‘runTests.R’
OK
* checking for unstated dependencies in vignettes ... OK
* checking package vignettes in ‘inst/doc’ ... OK
* checking running R code from vignettes ... SKIPPED
* checking re-building of vignette outputs ... SKIPPED
* checking PDF version of manual ... OK
* DONE
Status: 2 NOTEs
See
‘/Users/biocbuild/bbs-3.8-bioc/meat/gCMAP.Rcheck/00check.log’
for details.
gCMAP.Rcheck/00install.out
############################################################################## ############################################################################## ### ### Running command: ### ### /Library/Frameworks/R.framework/Versions/Current/Resources/bin/R CMD INSTALL gCMAP ### ############################################################################## ############################################################################## * installing to library ‘/Library/Frameworks/R.framework/Versions/3.5/Resources/library’ * installing *source* package ‘gCMAP’ ... ** R ** data ** inst ** byte-compile and prepare package for lazy loading ** help *** installing help indices ** building package indices ** installing vignettes ** testing if installed package can be loaded * DONE (gCMAP)
gCMAP.Rcheck/tests/runTests.Rout
R version 3.5.3 (2019-03-11) -- "Great Truth"
Copyright (C) 2019 The R Foundation for Statistical Computing
Platform: x86_64-apple-darwin15.6.0 (64-bit)
R is free software and comes with ABSOLUTELY NO WARRANTY.
You are welcome to redistribute it under certain conditions.
Type 'license()' or 'licence()' for distribution details.
R is a collaborative project with many contributors.
Type 'contributors()' for more information and
'citation()' on how to cite R or R packages in publications.
Type 'demo()' for some demos, 'help()' for on-line help, or
'help.start()' for an HTML browser interface to help.
Type 'q()' to quit R.
> require("gCMAP") || stop("unable to load gCMAP")
Loading required package: gCMAP
Loading required package: GSEABase
Loading required package: BiocGenerics
Loading required package: parallel
Attaching package: 'BiocGenerics'
The following objects are masked from 'package:parallel':
clusterApply, clusterApplyLB, clusterCall, clusterEvalQ,
clusterExport, clusterMap, parApply, parCapply, parLapply,
parLapplyLB, parRapply, parSapply, parSapplyLB
The following objects are masked from 'package:stats':
IQR, mad, sd, var, xtabs
The following objects are masked from 'package:base':
Filter, Find, Map, Position, Reduce, anyDuplicated, append,
as.data.frame, basename, cbind, colMeans, colSums, colnames,
dirname, do.call, duplicated, eval, evalq, get, grep, grepl,
intersect, is.unsorted, lapply, lengths, mapply, match, mget,
order, paste, pmax, pmax.int, pmin, pmin.int, rank, rbind,
rowMeans, rowSums, rownames, sapply, setdiff, sort, table, tapply,
union, unique, unsplit, which, which.max, which.min
Loading required package: Biobase
Welcome to Bioconductor
Vignettes contain introductory material; view with
'browseVignettes()'. To cite Bioconductor, see
'citation("Biobase")', and for packages 'citation("pkgname")'.
Loading required package: annotate
Loading required package: AnnotationDbi
Loading required package: stats4
Loading required package: IRanges
Loading required package: S4Vectors
Attaching package: 'S4Vectors'
The following object is masked from 'package:base':
expand.grid
Loading required package: XML
Loading required package: graph
Attaching package: 'graph'
The following object is masked from 'package:XML':
addNode
Loading required package: limma
Attaching package: 'limma'
The following object is masked from 'package:BiocGenerics':
plotMA
Attaching package: 'gCMAP'
The following object is masked from 'package:IRanges':
members
[1] TRUE
> BiocGenerics:::testPackage("gCMAP")
Loading required package: bigmemory
Loading required package: bigmemory
Design is based on 'predictor' parameter.
Loading required package: bigmemory
Loading required package: bigmemory
Loading required package: bigmemory
Loading required package: bigmemory
Loading required package: bigmemory
Loading required package: bigmemory
Loading required package: bigmemory
Loading required package: bigmemory
Loading required package: bigmemory
Loading required package: bigmemory
eSets 'x' and 'y' share 500 common features.
Attaching package: 'gplots'
The following object is masked from 'package:IRanges':
space
The following object is masked from 'package:S4Vectors':
space
The following object is masked from 'package:stats':
lowess
Loading required package: bigmemory
Loading required package: bigmemory
Loading required package: bigmemory
Loading required package: bigmemory
Loading required package: bigmemory
Loading required package: bigmemory
Design is based on 'predictor' parameter.
Loading required package: bigmemory
Loading required package: bigmemory
Design is based on 'predictor' parameter.
The following factor(s) will be ignored: score
Using type as factor of interest.
Loading required package: bigmemory
Loading required package: bigmemory
RUNIT TEST PROTOCOL -- Tue Apr 16 00:07:43 2019
***********************************************
Number of test functions: 19
Number of errors: 0
Number of failures: 0
1 Test Suite :
gCMAP RUnit Tests - 19 test functions, 0 errors, 0 failures
Number of test functions: 19
Number of errors: 0
Number of failures: 0
>
> proc.time()
user system elapsed
32.114 8.710 25.299
gCMAP.Rcheck/gCMAP-Ex.timings
| name | user | system | elapsed | |
| CMAPCollection-class | 1.107 | 0.459 | 1.054 | |
| CMAPResults-class | 2.056 | 0.188 | 2.261 | |
| KEGG2cmap | 0 | 0 | 0 | |
| SignedGeneSet-class | 0.019 | 0.000 | 0.019 | |
| annotate_eset_list | 0.102 | 0.007 | 0.113 | |
| camera_score-methods | 1.097 | 0.495 | 1.104 | |
| center_eSet | 0.034 | 0.005 | 0.040 | |
| connectivity_score-methods | 0.854 | 0.563 | 0.887 | |
| eSetOnDisk | 1.141 | 0.148 | 1.294 | |
| eset_instances | 0.055 | 0.004 | 0.059 | |
| featureScores-methods | 0.612 | 0.284 | 0.586 | |
| fisher_score-methods | 0.681 | 0.449 | 0.705 | |
| gCMAPData-dataset | 0.505 | 0.326 | 0.503 | |
| geneIndex-methods | 0.383 | 0.180 | 0.340 | |
| generate_gCMAP_NChannelSet | 0.156 | 0.023 | 0.179 | |
| gsealm_jg_score-methods | 0.550 | 0.316 | 0.554 | |
| gsealm_score-methods | 2.316 | 0.289 | 2.387 | |
| induceCMAPCollection-methods | 0.324 | 0.189 | 0.290 | |
| mapNmerge | 0.001 | 0.000 | 0.001 | |
| memorize | 0.913 | 0.149 | 1.073 | |
| mergeCMAPs | 0.130 | 0.004 | 0.134 | |
| mgsa_score-methods | 25.562 | 3.458 | 6.351 | |
| minSetSize-methods | 0.802 | 0.304 | 0.393 | |
| mroast_score-methods | 0.836 | 0.317 | 0.872 | |
| romer_score-methods | 5.649 | 0.931 | 6.230 | |
| signedRankSumTest | 0.003 | 0.000 | 0.004 | |
| splitPerturbations | 0.072 | 0.009 | 0.081 | |
| wilcox_score-methods | 0.573 | 0.489 | 0.674 | |