| Back to Multiple platform build/check report for BioC 3.8 |
|
This page was generated on 2019-04-16 11:49:44 -0400 (Tue, 16 Apr 2019).
| Package 578/1649 | Hostname | OS / Arch | INSTALL | BUILD | CHECK | BUILD BIN | ||||||
| gCMAP 1.26.0 Thomas Sandmann
| malbec1 | Linux (Ubuntu 16.04.6 LTS) / x86_64 | OK | OK | [ OK ] | |||||||
| merida1 | OS X 10.11.6 El Capitan / x86_64 | OK | OK | OK | OK |
| Package: gCMAP |
| Version: 1.26.0 |
| Command: /home/biocbuild/bbs-3.8-bioc/R/bin/R CMD check --install=check:gCMAP.install-out.txt --library=/home/biocbuild/bbs-3.8-bioc/R/library --no-vignettes --timings gCMAP_1.26.0.tar.gz |
| StartedAt: 2019-04-16 00:04:00 -0400 (Tue, 16 Apr 2019) |
| EndedAt: 2019-04-16 00:07:08 -0400 (Tue, 16 Apr 2019) |
| EllapsedTime: 188.0 seconds |
| RetCode: 0 |
| Status: OK |
| CheckDir: gCMAP.Rcheck |
| Warnings: 0 |
##############################################################################
##############################################################################
###
### Running command:
###
### /home/biocbuild/bbs-3.8-bioc/R/bin/R CMD check --install=check:gCMAP.install-out.txt --library=/home/biocbuild/bbs-3.8-bioc/R/library --no-vignettes --timings gCMAP_1.26.0.tar.gz
###
##############################################################################
##############################################################################
* using log directory ‘/home/biocbuild/bbs-3.8-bioc/meat/gCMAP.Rcheck’
* using R version 3.5.3 (2019-03-11)
* using platform: x86_64-pc-linux-gnu (64-bit)
* using session charset: UTF-8
* using option ‘--no-vignettes’
* checking for file ‘gCMAP/DESCRIPTION’ ... OK
* checking extension type ... Package
* this is package ‘gCMAP’ version ‘1.26.0’
* checking package namespace information ... OK
* checking package dependencies ... OK
* checking if this is a source package ... OK
* checking if there is a namespace ... OK
* checking for hidden files and directories ... NOTE
Found the following hidden files and directories:
.BBSoptions
These were most likely included in error. See section ‘Package
structure’ in the ‘Writing R Extensions’ manual.
* checking for portable file names ... OK
* checking for sufficient/correct file permissions ... OK
* checking whether package ‘gCMAP’ can be installed ... OK
* checking installed package size ... OK
* checking package directory ... OK
* checking ‘build’ directory ... OK
* checking DESCRIPTION meta-information ... OK
* checking top-level files ... OK
* checking for left-over files ... OK
* checking index information ... OK
* checking package subdirectories ... OK
* checking R files for non-ASCII characters ... OK
* checking R files for syntax errors ... OK
* checking whether the package can be loaded ... OK
* checking whether the package can be loaded with stated dependencies ... OK
* checking whether the package can be unloaded cleanly ... OK
* checking whether the namespace can be loaded with stated dependencies ... OK
* checking whether the namespace can be unloaded cleanly ... OK
* checking dependencies in R code ... NOTE
Namespace in Imports field not imported from: ‘bigmemory’
All declared Imports should be used.
* checking S3 generic/method consistency ... OK
* checking replacement functions ... OK
* checking foreign function calls ... OK
* checking R code for possible problems ... OK
* checking Rd files ... OK
* checking Rd metadata ... OK
* checking Rd cross-references ... OK
* checking for missing documentation entries ... OK
* checking for code/documentation mismatches ... OK
* checking Rd \usage sections ... OK
* checking Rd contents ... OK
* checking for unstated dependencies in examples ... OK
* checking contents of ‘data’ directory ... OK
* checking data for non-ASCII characters ... OK
* checking data for ASCII and uncompressed saves ... OK
* checking files in ‘vignettes’ ... OK
* checking examples ... OK
Examples with CPU or elapsed time > 5s
user system elapsed
mgsa_score-methods 20.692 0.332 6.454
romer_score-methods 5.620 0.232 5.585
* checking for unstated dependencies in ‘tests’ ... OK
* checking tests ...
Running ‘runTests.R’
OK
* checking for unstated dependencies in vignettes ... OK
* checking package vignettes in ‘inst/doc’ ... OK
* checking running R code from vignettes ... SKIPPED
* checking re-building of vignette outputs ... SKIPPED
* checking PDF version of manual ... OK
* DONE
Status: 2 NOTEs
See
‘/home/biocbuild/bbs-3.8-bioc/meat/gCMAP.Rcheck/00check.log’
for details.
gCMAP.Rcheck/00install.out
############################################################################## ############################################################################## ### ### Running command: ### ### /home/biocbuild/bbs-3.8-bioc/R/bin/R CMD INSTALL gCMAP ### ############################################################################## ############################################################################## * installing to library ‘/home/biocbuild/bbs-3.8-bioc/R/library’ * installing *source* package ‘gCMAP’ ... ** R ** data ** inst ** byte-compile and prepare package for lazy loading ** help *** installing help indices ** building package indices ** installing vignettes ** testing if installed package can be loaded * DONE (gCMAP)
gCMAP.Rcheck/tests/runTests.Rout
R version 3.5.3 (2019-03-11) -- "Great Truth"
Copyright (C) 2019 The R Foundation for Statistical Computing
Platform: x86_64-pc-linux-gnu (64-bit)
R is free software and comes with ABSOLUTELY NO WARRANTY.
You are welcome to redistribute it under certain conditions.
Type 'license()' or 'licence()' for distribution details.
R is a collaborative project with many contributors.
Type 'contributors()' for more information and
'citation()' on how to cite R or R packages in publications.
Type 'demo()' for some demos, 'help()' for on-line help, or
'help.start()' for an HTML browser interface to help.
Type 'q()' to quit R.
> require("gCMAP") || stop("unable to load gCMAP")
Loading required package: gCMAP
Loading required package: GSEABase
Loading required package: BiocGenerics
Loading required package: parallel
Attaching package: 'BiocGenerics'
The following objects are masked from 'package:parallel':
clusterApply, clusterApplyLB, clusterCall, clusterEvalQ,
clusterExport, clusterMap, parApply, parCapply, parLapply,
parLapplyLB, parRapply, parSapply, parSapplyLB
The following objects are masked from 'package:stats':
IQR, mad, sd, var, xtabs
The following objects are masked from 'package:base':
Filter, Find, Map, Position, Reduce, anyDuplicated, append,
as.data.frame, basename, cbind, colMeans, colSums, colnames,
dirname, do.call, duplicated, eval, evalq, get, grep, grepl,
intersect, is.unsorted, lapply, lengths, mapply, match, mget,
order, paste, pmax, pmax.int, pmin, pmin.int, rank, rbind,
rowMeans, rowSums, rownames, sapply, setdiff, sort, table, tapply,
union, unique, unsplit, which, which.max, which.min
Loading required package: Biobase
Welcome to Bioconductor
Vignettes contain introductory material; view with
'browseVignettes()'. To cite Bioconductor, see
'citation("Biobase")', and for packages 'citation("pkgname")'.
Loading required package: annotate
Loading required package: AnnotationDbi
Loading required package: stats4
Loading required package: IRanges
Loading required package: S4Vectors
Attaching package: 'S4Vectors'
The following object is masked from 'package:base':
expand.grid
Loading required package: XML
Loading required package: graph
Attaching package: 'graph'
The following object is masked from 'package:XML':
addNode
Loading required package: limma
Attaching package: 'limma'
The following object is masked from 'package:BiocGenerics':
plotMA
Attaching package: 'gCMAP'
The following object is masked from 'package:IRanges':
members
[1] TRUE
> BiocGenerics:::testPackage("gCMAP")
Loading required package: bigmemory
Loading required package: bigmemory
Design is based on 'predictor' parameter.
Loading required package: bigmemory
Loading required package: bigmemory
Loading required package: bigmemory
Loading required package: bigmemory
Loading required package: bigmemory
Loading required package: bigmemory
Loading required package: bigmemory
Loading required package: bigmemory
Loading required package: bigmemory
Loading required package: bigmemory
eSets 'x' and 'y' share 500 common features.
Attaching package: 'gplots'
The following object is masked from 'package:IRanges':
space
The following object is masked from 'package:S4Vectors':
space
The following object is masked from 'package:stats':
lowess
Loading required package: bigmemory
Loading required package: bigmemory
Loading required package: bigmemory
Loading required package: bigmemory
Loading required package: bigmemory
Loading required package: bigmemory
Design is based on 'predictor' parameter.
Loading required package: bigmemory
Loading required package: bigmemory
Design is based on 'predictor' parameter.
The following factor(s) will be ignored: score
Using type as factor of interest.
Loading required package: bigmemory
Loading required package: bigmemory
RUNIT TEST PROTOCOL -- Tue Apr 16 00:07:04 2019
***********************************************
Number of test functions: 19
Number of errors: 0
Number of failures: 0
1 Test Suite :
gCMAP RUnit Tests - 19 test functions, 0 errors, 0 failures
Number of test functions: 19
Number of errors: 0
Number of failures: 0
>
> proc.time()
user system elapsed
31.344 2.764 24.541
gCMAP.Rcheck/gCMAP-Ex.timings
| name | user | system | elapsed | |
| CMAPCollection-class | 0.940 | 0.252 | 0.787 | |
| CMAPResults-class | 2.156 | 0.076 | 2.237 | |
| KEGG2cmap | 0 | 0 | 0 | |
| SignedGeneSet-class | 0.024 | 0.000 | 0.026 | |
| annotate_eset_list | 0.120 | 0.000 | 0.132 | |
| camera_score-methods | 0.920 | 0.256 | 0.788 | |
| center_eSet | 0.024 | 0.000 | 0.024 | |
| connectivity_score-methods | 0.800 | 0.496 | 0.899 | |
| eSetOnDisk | 1.172 | 0.112 | 1.221 | |
| eset_instances | 0.052 | 0.000 | 0.055 | |
| featureScores-methods | 0.588 | 0.184 | 0.544 | |
| fisher_score-methods | 0.684 | 0.248 | 0.598 | |
| gCMAPData-dataset | 0.556 | 0.232 | 0.420 | |
| geneIndex-methods | 0.408 | 0.088 | 0.274 | |
| generate_gCMAP_NChannelSet | 0.148 | 0.000 | 0.148 | |
| gsealm_jg_score-methods | 0.500 | 0.220 | 0.456 | |
| gsealm_score-methods | 3.124 | 0.180 | 2.996 | |
| induceCMAPCollection-methods | 0.392 | 0.100 | 0.256 | |
| mapNmerge | 0.004 | 0.000 | 0.001 | |
| memorize | 1.124 | 0.068 | 1.193 | |
| mergeCMAPs | 0.160 | 0.004 | 0.162 | |
| mgsa_score-methods | 20.692 | 0.332 | 6.454 | |
| minSetSize-methods | 0.368 | 0.132 | 0.321 | |
| mroast_score-methods | 0.792 | 0.208 | 0.787 | |
| romer_score-methods | 5.620 | 0.232 | 5.585 | |
| signedRankSumTest | 0.004 | 0.000 | 0.003 | |
| splitPerturbations | 0.048 | 0.004 | 0.051 | |
| wilcox_score-methods | 0.520 | 0.532 | 0.663 | |