| Back to Multiple platform build/check report for BioC 3.8 |
|
This page was generated on 2019-04-13 11:29:52 -0400 (Sat, 13 Apr 2019).
| Package 319/1649 | Hostname | OS / Arch | INSTALL | BUILD | CHECK | BUILD BIN | ||||||
| consensusDE 1.0.6 Ashley J. Waardenberg
| malbec1 | Linux (Ubuntu 16.04.6 LTS) / x86_64 | OK | OK | OK | |||||||
| tokay1 | Windows Server 2012 R2 Standard / x64 | OK | OK | OK | [ OK ] | |||||||
| merida1 | OS X 10.11.6 El Capitan / x86_64 | OK | OK | OK | OK |
| Package: consensusDE |
| Version: 1.0.6 |
| Command: rm -rf consensusDE.buildbin-libdir && mkdir consensusDE.buildbin-libdir && C:\Users\biocbuild\bbs-3.8-bioc\R\bin\R.exe CMD INSTALL --merge-multiarch --build --library=consensusDE.buildbin-libdir consensusDE_1.0.6.tar.gz |
| StartedAt: 2019-04-13 07:06:27 -0400 (Sat, 13 Apr 2019) |
| EndedAt: 2019-04-13 07:07:18 -0400 (Sat, 13 Apr 2019) |
| EllapsedTime: 50.2 seconds |
| RetCode: 0 |
| Status: OK |
| PackageFile: consensusDE_1.0.6.zip |
| PackageFileSize: 486.5 KiB |
##############################################################################
##############################################################################
###
### Running command:
###
### rm -rf consensusDE.buildbin-libdir && mkdir consensusDE.buildbin-libdir && C:\Users\biocbuild\bbs-3.8-bioc\R\bin\R.exe CMD INSTALL --merge-multiarch --build --library=consensusDE.buildbin-libdir consensusDE_1.0.6.tar.gz
###
##############################################################################
##############################################################################
install for i386
* installing *source* package 'consensusDE' ...
** R
** inst
** byte-compile and prepare package for lazy loading
** help
*** installing help indices
converting help for package 'consensusDE'
finding HTML links ... done
buildSummarized html
diag_plots html
multi_de_pairs html
** building package indices
** installing vignettes
** testing if installed package can be loaded
In R CMD INSTALL
install for x64
* installing *source* package 'consensusDE' ...
** testing if installed package can be loaded
* MD5 sums
packaged installation of 'consensusDE' as consensusDE_1.0.6.zip
* DONE (consensusDE)
In R CMD INSTALL
In R CMD INSTALL