| Back to Multiple platform build/check report for BioC 3.8 |
|
This page was generated on 2019-04-16 12:13:56 -0400 (Tue, 16 Apr 2019).
| Package 319/1649 | Hostname | OS / Arch | INSTALL | BUILD | CHECK | BUILD BIN | ||||||
| consensusDE 1.0.6 Ashley J. Waardenberg
| malbec1 | Linux (Ubuntu 16.04.6 LTS) / x86_64 | OK | OK | OK | |||||||
| merida1 | OS X 10.11.6 El Capitan / x86_64 | OK | OK | OK | [ OK ] |
| Package: consensusDE |
| Version: 1.0.6 |
| Command: rm -rf consensusDE.buildbin-libdir && mkdir consensusDE.buildbin-libdir && /Users/biocbuild/BBS/utils/build-universal.sh consensusDE_1.0.6.tar.gz /Library/Frameworks/R.framework/Versions/Current/Resources/bin/R consensusDE.buildbin-libdir |
| StartedAt: 2019-04-16 03:53:09 -0400 (Tue, 16 Apr 2019) |
| EndedAt: 2019-04-16 03:53:54 -0400 (Tue, 16 Apr 2019) |
| EllapsedTime: 45.1 seconds |
| RetCode: 0 |
| Status: OK |
| PackageFile: consensusDE_1.0.6.tgz |
| PackageFileSize: 1.04 MiB |
############################################################################## ############################################################################## ### ### Running command: ### ### rm -rf consensusDE.buildbin-libdir && mkdir consensusDE.buildbin-libdir && /Users/biocbuild/BBS/utils/build-universal.sh consensusDE_1.0.6.tar.gz /Library/Frameworks/R.framework/Versions/Current/Resources/bin/R consensusDE.buildbin-libdir ### ############################################################################## ############################################################################## >>>>>>> >>>>>>> INSTALLATION WITH 'R CMD INSTALL --preclean --no-multiarch --library=consensusDE.buildbin-libdir consensusDE_1.0.6.tar.gz' >>>>>>> * installing *source* package ‘consensusDE’ ... ** R ** inst ** byte-compile and prepare package for lazy loading ** help *** installing help indices ** building package indices ** installing vignettes ** testing if installed package can be loaded * DONE (consensusDE)