| Back to Multiple platform build/check report for BioC 3.8 |
|
This page was generated on 2019-04-13 11:22:06 -0400 (Sat, 13 Apr 2019).
| Package 215/1649 | Hostname | OS / Arch | INSTALL | BUILD | CHECK | BUILD BIN | ||||||
| cellGrowth 1.26.1 Julien Gagneur
| malbec1 | Linux (Ubuntu 16.04.6 LTS) / x86_64 | OK | OK | OK | |||||||
| tokay1 | Windows Server 2012 R2 Standard / x64 | OK | OK | OK | [ OK ] | |||||||
| merida1 | OS X 10.11.6 El Capitan / x86_64 | OK | OK | OK | OK |
| Package: cellGrowth |
| Version: 1.26.1 |
| Command: rm -rf cellGrowth.buildbin-libdir && mkdir cellGrowth.buildbin-libdir && C:\Users\biocbuild\bbs-3.8-bioc\R\bin\R.exe CMD INSTALL --merge-multiarch --build --library=cellGrowth.buildbin-libdir cellGrowth_1.26.1.tar.gz |
| StartedAt: 2019-04-13 07:01:19 -0400 (Sat, 13 Apr 2019) |
| EndedAt: 2019-04-13 07:01:34 -0400 (Sat, 13 Apr 2019) |
| EllapsedTime: 15.3 seconds |
| RetCode: 0 |
| Status: OK |
| PackageFile: cellGrowth_1.26.1.zip |
| PackageFileSize: 600.7 KiB |
##############################################################################
##############################################################################
###
### Running command:
###
### rm -rf cellGrowth.buildbin-libdir && mkdir cellGrowth.buildbin-libdir && C:\Users\biocbuild\bbs-3.8-bioc\R\bin\R.exe CMD INSTALL --merge-multiarch --build --library=cellGrowth.buildbin-libdir cellGrowth_1.26.1.tar.gz
###
##############################################################################
##############################################################################
install for i386
* installing *source* package 'cellGrowth' ...
** R
** inst
** byte-compile and prepare package for lazy loading
** help
*** installing help indices
converting help for package 'cellGrowth'
finding HTML links ... done
bandwidthCV html
baranyi html
fitCellGrowth html
fitCellGrowths html
getRowColumn html
getWellIdsTecan html
gompertz html
guessCellGrowthParams html
logistic html
plot.cellGrowthFit html
plot.well html
plotPlate html
readGenios html
readYeastGrower html
rosso html
standardWellId html
wellDataFrame html
** building package indices
** installing vignettes
** testing if installed package can be loaded
In R CMD INSTALL
install for x64
* installing *source* package 'cellGrowth' ...
** testing if installed package can be loaded
* MD5 sums
packaged installation of 'cellGrowth' as cellGrowth_1.26.1.zip
* DONE (cellGrowth)
In R CMD INSTALL
In R CMD INSTALL