| Back to Multiple platform build/check report for BioC 3.8 |
|
This page was generated on 2019-04-16 11:56:17 -0400 (Tue, 16 Apr 2019).
| Package 215/1649 | Hostname | OS / Arch | INSTALL | BUILD | CHECK | BUILD BIN | ||||||
| cellGrowth 1.26.1 Julien Gagneur
| malbec1 | Linux (Ubuntu 16.04.6 LTS) / x86_64 | OK | OK | OK | |||||||
| merida1 | OS X 10.11.6 El Capitan / x86_64 | OK | OK | OK | [ OK ] |
| Package: cellGrowth |
| Version: 1.26.1 |
| Command: rm -rf cellGrowth.buildbin-libdir && mkdir cellGrowth.buildbin-libdir && /Users/biocbuild/BBS/utils/build-universal.sh cellGrowth_1.26.1.tar.gz /Library/Frameworks/R.framework/Versions/Current/Resources/bin/R cellGrowth.buildbin-libdir |
| StartedAt: 2019-04-16 03:48:24 -0400 (Tue, 16 Apr 2019) |
| EndedAt: 2019-04-16 03:49:06 -0400 (Tue, 16 Apr 2019) |
| EllapsedTime: 42.0 seconds |
| RetCode: 0 |
| Status: OK |
| PackageFile: cellGrowth_1.26.1.tgz |
| PackageFileSize: 580.5 KiB |
############################################################################## ############################################################################## ### ### Running command: ### ### rm -rf cellGrowth.buildbin-libdir && mkdir cellGrowth.buildbin-libdir && /Users/biocbuild/BBS/utils/build-universal.sh cellGrowth_1.26.1.tar.gz /Library/Frameworks/R.framework/Versions/Current/Resources/bin/R cellGrowth.buildbin-libdir ### ############################################################################## ############################################################################## >>>>>>> >>>>>>> INSTALLATION WITH 'R CMD INSTALL --preclean --no-multiarch --library=cellGrowth.buildbin-libdir cellGrowth_1.26.1.tar.gz' >>>>>>> * installing *source* package ‘cellGrowth’ ... ** R ** inst ** byte-compile and prepare package for lazy loading ** help *** installing help indices ** building package indices ** installing vignettes ** testing if installed package can be loaded * DONE (cellGrowth)