| Back to Multiple platform build/check report for BioC 3.8 |
|
This page was generated on 2019-04-13 11:26:08 -0400 (Sat, 13 Apr 2019).
| Package 151/1649 | Hostname | OS / Arch | INSTALL | BUILD | CHECK | BUILD BIN | ||||||
| biomformat 1.10.1 Paul J. McMurdie
| malbec1 | Linux (Ubuntu 16.04.6 LTS) / x86_64 | OK | OK | OK | |||||||
| tokay1 | Windows Server 2012 R2 Standard / x64 | OK | OK | WARNINGS | [ OK ] | |||||||
| merida1 | OS X 10.11.6 El Capitan / x86_64 | OK | OK | OK | OK |
| Package: biomformat |
| Version: 1.10.1 |
| Command: rm -rf biomformat.buildbin-libdir && mkdir biomformat.buildbin-libdir && C:\Users\biocbuild\bbs-3.8-bioc\R\bin\R.exe CMD INSTALL --merge-multiarch --build --library=biomformat.buildbin-libdir biomformat_1.10.1.tar.gz |
| StartedAt: 2019-04-13 06:57:59 -0400 (Sat, 13 Apr 2019) |
| EndedAt: 2019-04-13 06:58:28 -0400 (Sat, 13 Apr 2019) |
| EllapsedTime: 29.1 seconds |
| RetCode: 0 |
| Status: OK |
| PackageFile: biomformat_1.10.1.zip |
| PackageFileSize: 435.1 KiB |
##############################################################################
##############################################################################
###
### Running command:
###
### rm -rf biomformat.buildbin-libdir && mkdir biomformat.buildbin-libdir && C:\Users\biocbuild\bbs-3.8-bioc\R\bin\R.exe CMD INSTALL --merge-multiarch --build --library=biomformat.buildbin-libdir biomformat_1.10.1.tar.gz
###
##############################################################################
##############################################################################
install for i386
* installing *source* package 'biomformat' ...
** R
** inst
** byte-compile and prepare package for lazy loading
Creating a generic function for 'nrow' from package 'base' in package 'biomformat'
Creating a generic function for 'ncol' from package 'base' in package 'biomformat'
Creating a generic function for 'rownames' from package 'base' in package 'biomformat'
Creating a generic function for 'colnames' from package 'base' in package 'biomformat'
** help
*** installing help indices
converting help for package 'biomformat'
finding HTML links ... done
biom-class html
biom-methods html
finding level-2 HTML links ... done
biom-package html
biom_data-methods html
biom_shape-methods html
colnames-methods html
header-methods html
make_biom html
matrix_element_type-methods html
ncol-methods html
Rd warning: C:/Users/biocbuild/bbs-3.8-bioc/tmpdir/RtmpCSSFoN/R.INSTALL15fc5424437e/biomformat/man/ncol-methods.Rd:6: file link 'ncol' in package 'base' does not exist and so has been treated as a topic
Rd warning: C:/Users/biocbuild/bbs-3.8-bioc/tmpdir/RtmpCSSFoN/R.INSTALL15fc5424437e/biomformat/man/ncol-methods.Rd:19: file link 'ncol' in package 'base' does not exist and so has been treated as a topic
Rd warning: C:/Users/biocbuild/bbs-3.8-bioc/tmpdir/RtmpCSSFoN/R.INSTALL15fc5424437e/biomformat/man/ncol-methods.Rd:31: file link 'ncol' in package 'base' does not exist and so has been treated as a topic
nrow-methods html
observation_metadata-methods html
read_biom html
read_hdf5_biom html
rownames-methods html
Rd warning: C:/Users/biocbuild/bbs-3.8-bioc/tmpdir/RtmpCSSFoN/R.INSTALL15fc5424437e/biomformat/man/rownames-methods.Rd:6: file link 'rownames' in package 'base' does not exist and so has been treated as a topic
Rd warning: C:/Users/biocbuild/bbs-3.8-bioc/tmpdir/RtmpCSSFoN/R.INSTALL15fc5424437e/biomformat/man/rownames-methods.Rd:19: file link 'rownames' in package 'base' does not exist and so has been treated as a topic
Rd warning: C:/Users/biocbuild/bbs-3.8-bioc/tmpdir/RtmpCSSFoN/R.INSTALL15fc5424437e/biomformat/man/rownames-methods.Rd:31: file link 'rownames' in package 'base' does not exist and so has been treated as a topic
sample_metadata-methods html
show-methods html
write_biom html
** building package indices
** installing vignettes
** testing if installed package can be loaded
In R CMD INSTALL
install for x64
* installing *source* package 'biomformat' ...
** testing if installed package can be loaded
* MD5 sums
packaged installation of 'biomformat' as biomformat_1.10.1.zip
* DONE (biomformat)
In R CMD INSTALL
In R CMD INSTALL