| Back to Multiple platform build/check report for BioC 3.8 |
|
This page was generated on 2019-04-16 11:51:43 -0400 (Tue, 16 Apr 2019).
| Package 151/1649 | Hostname | OS / Arch | INSTALL | BUILD | CHECK | BUILD BIN | ||||||
| biomformat 1.10.1 Paul J. McMurdie
| malbec1 | Linux (Ubuntu 16.04.6 LTS) / x86_64 | OK | OK | [ OK ] | |||||||
| merida1 | OS X 10.11.6 El Capitan / x86_64 | OK | OK | OK | OK |
| Package: biomformat |
| Version: 1.10.1 |
| Command: /home/biocbuild/bbs-3.8-bioc/R/bin/R CMD check --install=check:biomformat.install-out.txt --library=/home/biocbuild/bbs-3.8-bioc/R/library --no-vignettes --timings biomformat_1.10.1.tar.gz |
| StartedAt: 2019-04-15 22:31:09 -0400 (Mon, 15 Apr 2019) |
| EndedAt: 2019-04-15 22:31:51 -0400 (Mon, 15 Apr 2019) |
| EllapsedTime: 41.7 seconds |
| RetCode: 0 |
| Status: OK |
| CheckDir: biomformat.Rcheck |
| Warnings: 0 |
##############################################################################
##############################################################################
###
### Running command:
###
### /home/biocbuild/bbs-3.8-bioc/R/bin/R CMD check --install=check:biomformat.install-out.txt --library=/home/biocbuild/bbs-3.8-bioc/R/library --no-vignettes --timings biomformat_1.10.1.tar.gz
###
##############################################################################
##############################################################################
* using log directory ‘/home/biocbuild/bbs-3.8-bioc/meat/biomformat.Rcheck’
* using R version 3.5.3 (2019-03-11)
* using platform: x86_64-pc-linux-gnu (64-bit)
* using session charset: UTF-8
* using option ‘--no-vignettes’
* checking for file ‘biomformat/DESCRIPTION’ ... OK
* checking extension type ... Package
* this is package ‘biomformat’ version ‘1.10.1’
* checking package namespace information ... OK
* checking package dependencies ... OK
* checking if this is a source package ... OK
* checking if there is a namespace ... OK
* checking for hidden files and directories ... OK
* checking for portable file names ... OK
* checking for sufficient/correct file permissions ... OK
* checking whether package ‘biomformat’ can be installed ... OK
* checking installed package size ... OK
* checking package directory ... OK
* checking ‘build’ directory ... OK
* checking DESCRIPTION meta-information ... OK
* checking top-level files ... OK
* checking for left-over files ... OK
* checking index information ... OK
* checking package subdirectories ... OK
* checking R files for non-ASCII characters ... OK
* checking R files for syntax errors ... OK
* checking whether the package can be loaded ... OK
* checking whether the package can be loaded with stated dependencies ... OK
* checking whether the package can be unloaded cleanly ... OK
* checking whether the namespace can be loaded with stated dependencies ... OK
* checking whether the namespace can be unloaded cleanly ... OK
* checking dependencies in R code ... OK
* checking S3 generic/method consistency ... OK
* checking replacement functions ... OK
* checking foreign function calls ... OK
* checking R code for possible problems ... NOTE
make_biom: no visible global function definition for ‘packageVersion’
namedList: no visible global function definition for ‘setNames’
Undefined global functions or variables:
packageVersion setNames
Consider adding
importFrom("stats", "setNames")
importFrom("utils", "packageVersion")
to your NAMESPACE file.
* checking Rd files ... OK
* checking Rd metadata ... OK
* checking Rd cross-references ... OK
* checking for missing documentation entries ... OK
* checking for code/documentation mismatches ... OK
* checking Rd \usage sections ... OK
* checking Rd contents ... OK
* checking for unstated dependencies in examples ... OK
* checking files in ‘vignettes’ ... OK
* checking examples ... OK
* checking for unstated dependencies in ‘tests’ ... OK
* checking tests ...
Running ‘testthat-biomformat.R’
OK
* checking for unstated dependencies in vignettes ... OK
* checking package vignettes in ‘inst/doc’ ... OK
* checking running R code from vignettes ... SKIPPED
* checking re-building of vignette outputs ... SKIPPED
* checking PDF version of manual ... OK
* DONE
Status: 1 NOTE
See
‘/home/biocbuild/bbs-3.8-bioc/meat/biomformat.Rcheck/00check.log’
for details.
biomformat.Rcheck/00install.out
############################################################################## ############################################################################## ### ### Running command: ### ### /home/biocbuild/bbs-3.8-bioc/R/bin/R CMD INSTALL biomformat ### ############################################################################## ############################################################################## * installing to library ‘/home/biocbuild/bbs-3.8-bioc/R/library’ * installing *source* package ‘biomformat’ ... ** R ** inst ** byte-compile and prepare package for lazy loading Creating a generic function for ‘nrow’ from package ‘base’ in package ‘biomformat’ Creating a generic function for ‘ncol’ from package ‘base’ in package ‘biomformat’ Creating a generic function for ‘rownames’ from package ‘base’ in package ‘biomformat’ Creating a generic function for ‘colnames’ from package ‘base’ in package ‘biomformat’ ** help *** installing help indices ** building package indices ** installing vignettes ** testing if installed package can be loaded * DONE (biomformat)
biomformat.Rcheck/tests/testthat-biomformat.Rout
R version 3.5.3 (2019-03-11) -- "Great Truth"
Copyright (C) 2019 The R Foundation for Statistical Computing
Platform: x86_64-pc-linux-gnu (64-bit)
R is free software and comes with ABSOLUTELY NO WARRANTY.
You are welcome to redistribute it under certain conditions.
Type 'license()' or 'licence()' for distribution details.
R is a collaborative project with many contributors.
Type 'contributors()' for more information and
'citation()' on how to cite R or R packages in publications.
Type 'demo()' for some demos, 'help()' for on-line help, or
'help.start()' for an HTML browser interface to help.
Type 'q()' to quit R.
> library("testthat")
> # As suggested for opt-out option on testing by users, recommended by CRAN
> # http://adv-r.had.co.nz/Testing.html
> # Previously, best practice was to put all test files in inst/tests and ensure that R CMD check ran them by putting the following code in tests/test-all.R:
> # library(testthat)
> # library(yourpackage)
> # test_package("yourpackage")
> # Now, recommended practice is to put your tests in tests/testthat, and ensure R CMD check runs them by putting the following code in tests/test-all.R:
> # library(testthat)
> # test_check("yourpackage")
> # The advantage of this new structure is that the user has control over whether or not tests are installed using the –install-tests parameter to R CMD install, or INSTALL_opts = c(“–install-tests”) argument to install.packages(). I’m not sure why you wouldn’t want to install the tests, but now you have the flexibility as requested by CRAN maintainers.
> test_check("biomformat")
Loading required package: biomformat
══ testthat results ═══════════════════════════════════════════════════════════
OK: 136 SKIPPED: 0 FAILED: 0
>
> proc.time()
user system elapsed
2.540 0.084 2.623
biomformat.Rcheck/biomformat-Ex.timings
| name | user | system | elapsed | |
| biom-class | 0.088 | 0.000 | 0.104 | |
| biom-methods | 0.016 | 0.000 | 0.016 | |
| biom_data-methods | 0.080 | 0.004 | 0.097 | |
| biom_shape-methods | 0.008 | 0.000 | 0.005 | |
| colnames-methods | 0.004 | 0.000 | 0.004 | |
| header-methods | 0.004 | 0.000 | 0.005 | |
| make_biom | 0.076 | 0.004 | 0.080 | |
| matrix_element_type-methods | 0.004 | 0.000 | 0.005 | |
| ncol-methods | 0.004 | 0.000 | 0.005 | |
| nrow-methods | 0.004 | 0.000 | 0.007 | |
| observation_metadata-methods | 0.032 | 0.000 | 0.034 | |
| read_biom | 0.004 | 0.000 | 0.006 | |
| read_hdf5_biom | 0.072 | 0.004 | 0.079 | |
| rownames-methods | 0.004 | 0.000 | 0.003 | |
| sample_metadata-methods | 0.024 | 0.000 | 0.022 | |
| show-methods | 0.000 | 0.000 | 0.003 | |
| write_biom | 0.008 | 0.000 | 0.010 | |