| Back to Multiple platform build/check report for BioC 3.8 |
|
This page was generated on 2019-04-13 11:28:25 -0400 (Sat, 13 Apr 2019).
| Package 63/1649 | Hostname | OS / Arch | INSTALL | BUILD | CHECK | BUILD BIN | ||||||
| anota2seq 1.4.2 Christian Oertlin
| malbec1 | Linux (Ubuntu 16.04.6 LTS) / x86_64 | OK | OK | OK | |||||||
| tokay1 | Windows Server 2012 R2 Standard / x64 | OK | OK | OK | [ OK ] | |||||||
| merida1 | OS X 10.11.6 El Capitan / x86_64 | OK | OK | OK | OK |
| Package: anota2seq |
| Version: 1.4.2 |
| Command: rm -rf anota2seq.buildbin-libdir && mkdir anota2seq.buildbin-libdir && C:\Users\biocbuild\bbs-3.8-bioc\R\bin\R.exe CMD INSTALL --merge-multiarch --build --library=anota2seq.buildbin-libdir anota2seq_1.4.2.tar.gz |
| StartedAt: 2019-04-13 06:54:11 -0400 (Sat, 13 Apr 2019) |
| EndedAt: 2019-04-13 06:54:50 -0400 (Sat, 13 Apr 2019) |
| EllapsedTime: 39.3 seconds |
| RetCode: 0 |
| Status: OK |
| PackageFile: anota2seq_1.4.2.zip |
| PackageFileSize: 1.432 MiB |
##############################################################################
##############################################################################
###
### Running command:
###
### rm -rf anota2seq.buildbin-libdir && mkdir anota2seq.buildbin-libdir && C:\Users\biocbuild\bbs-3.8-bioc\R\bin\R.exe CMD INSTALL --merge-multiarch --build --library=anota2seq.buildbin-libdir anota2seq_1.4.2.tar.gz
###
##############################################################################
##############################################################################
install for i386
* installing *source* package 'anota2seq' ...
** R
** data
*** moving datasets to lazyload DB
** inst
** byte-compile and prepare package for lazy loading
** help
*** installing help indices
converting help for package 'anota2seq'
finding HTML links ... done
Anota2seqDataSet-class html
anota2seq-plots html
anota2seqAnalyze html
anota2seqDataSetFromMatrix html
anota2seqGetContrasts html
anota2seqGetCovariates html
anota2seqGetDeltaData html
anota2seqGetNormalizedData html
anota2seqGetOutput html
anota2seqGetQualityControl html
anota2seqGetResidOutlierTest html
anota2seqGetThresholds html
anota2seqPerformQC html
anota2seqRegModes html
anota2seqResidOutlierTest html
anota2seqRun html
anota2seqSelSigGenes html
anota2seq_data html
show-Anota2seqDataSet-method html
** building package indices
** installing vignettes
** testing if installed package can be loaded
In R CMD INSTALL
install for x64
* installing *source* package 'anota2seq' ...
** testing if installed package can be loaded
* MD5 sums
packaged installation of 'anota2seq' as anota2seq_1.4.2.zip
* DONE (anota2seq)
In R CMD INSTALL
In R CMD INSTALL