| Back to Multiple platform build/check report for BioC 3.8 | 
 | 
This page was generated on 2019-04-13 11:28:16 -0400 (Sat, 13 Apr 2019).
| Package 44/1649 | Hostname | OS / Arch | INSTALL | BUILD | CHECK | BUILD BIN | ||||||
| amplican 1.4.1 Eivind Valen 
 | malbec1 | Linux (Ubuntu 16.04.6 LTS) / x86_64 | OK | OK | OK |  | ||||||
| tokay1 | Windows Server 2012 R2 Standard / x64 | OK | OK | [ OK ] | OK |  | ||||||
| merida1 | OS X 10.11.6 El Capitan / x86_64 | OK | OK | OK | OK |  | 
| Package: amplican | 
| Version: 1.4.1 | 
| Command: C:\Users\biocbuild\bbs-3.8-bioc\R\bin\R.exe CMD check --force-multiarch --install=check:amplican.install-out.txt --library=C:\Users\biocbuild\bbs-3.8-bioc\R\library --no-vignettes --timings amplican_1.4.1.tar.gz | 
| StartedAt: 2019-04-13 00:28:30 -0400 (Sat, 13 Apr 2019) | 
| EndedAt: 2019-04-13 00:33:01 -0400 (Sat, 13 Apr 2019) | 
| EllapsedTime: 271.5 seconds | 
| RetCode: 0 | 
| Status: OK | 
| CheckDir: amplican.Rcheck | 
| Warnings: 0 | 
##############################################################################
##############################################################################
###
### Running command:
###
###   C:\Users\biocbuild\bbs-3.8-bioc\R\bin\R.exe CMD check --force-multiarch --install=check:amplican.install-out.txt --library=C:\Users\biocbuild\bbs-3.8-bioc\R\library --no-vignettes --timings amplican_1.4.1.tar.gz
###
##############################################################################
##############################################################################
* using log directory 'C:/Users/biocbuild/bbs-3.8-bioc/meat/amplican.Rcheck'
* using R version 3.5.3 (2019-03-11)
* using platform: x86_64-w64-mingw32 (64-bit)
* using session charset: ISO8859-1
* using option '--no-vignettes'
* checking for file 'amplican/DESCRIPTION' ... OK
* checking extension type ... Package
* this is package 'amplican' version '1.4.1'
* package encoding: UTF-8
* checking package namespace information ... OK
* checking package dependencies ...Warning: unable to access index for repository https://CRAN.R-project.org/src/contrib:
  cannot open URL 'https://CRAN.R-project.org/src/contrib/PACKAGES'
 OK
* checking if this is a source package ... OK
* checking if there is a namespace ... OK
* checking for hidden files and directories ... OK
* checking for portable file names ... OK
* checking whether package 'amplican' can be installed ... OK
* checking installed package size ... OK
* checking package directory ... OK
* checking 'build' directory ... OK
* checking DESCRIPTION meta-information ... OK
* checking top-level files ... OK
* checking for left-over files ... OK
* checking index information ... OK
* checking package subdirectories ... OK
* checking R files for non-ASCII characters ... OK
* checking R files for syntax errors ... OK
* loading checks for arch 'i386'
** checking whether the package can be loaded ... OK
** checking whether the package can be loaded with stated dependencies ... OK
** checking whether the package can be unloaded cleanly ... OK
** checking whether the namespace can be loaded with stated dependencies ... OK
** checking whether the namespace can be unloaded cleanly ... OK
* loading checks for arch 'x64'
** checking whether the package can be loaded ... OK
** checking whether the package can be loaded with stated dependencies ... OK
** checking whether the package can be unloaded cleanly ... OK
** checking whether the namespace can be loaded with stated dependencies ... OK
** checking whether the namespace can be unloaded cleanly ... OK
* checking dependencies in R code ... OK
* checking S3 generic/method consistency ... OK
* checking replacement functions ... OK
* checking foreign function calls ... OK
* checking R code for possible problems ... OK
* checking Rd files ... OK
* checking Rd metadata ... OK
* checking Rd cross-references ... OK
* checking for missing documentation entries ... OK
* checking for code/documentation mismatches ... OK
* checking Rd \usage sections ... OK
* checking Rd contents ... OK
* checking for unstated dependencies in examples ... OK
* checking files in 'vignettes' ... OK
* checking examples ...
** running examples for arch 'i386' ... OK
Examples with CPU or elapsed time > 5s
                 user system elapsed
amplicanAlign    8.52   2.47   11.83
amplicanPipeline 4.49   1.80    6.56
** running examples for arch 'x64' ... OK
Examples with CPU or elapsed time > 5s
                 user system elapsed
amplicanAlign    7.21   2.02    9.23
amplicanPipeline 4.43   1.52    5.89
* checking for unstated dependencies in 'tests' ... OK
* checking tests ...
** running tests for arch 'i386' ...
  Running 'testthat.R'
 OK
** running tests for arch 'x64' ...
  Running 'testthat.R'
 OK
* checking for unstated dependencies in vignettes ... OK
* checking package vignettes in 'inst/doc' ... OK
* checking running R code from vignettes ... SKIPPED
* checking re-building of vignette outputs ... SKIPPED
* checking PDF version of manual ... OK
* DONE
Status: OK
amplican.Rcheck/00install.out
##############################################################################
##############################################################################
###
### Running command:
###
###   C:\cygwin\bin\curl.exe -O https://malbec1.bioconductor.org/BBS/3.8/bioc/src/contrib/amplican_1.4.1.tar.gz && rm -rf amplican.buildbin-libdir && mkdir amplican.buildbin-libdir && C:\Users\biocbuild\bbs-3.8-bioc\R\bin\R.exe CMD INSTALL --merge-multiarch --build --library=amplican.buildbin-libdir amplican_1.4.1.tar.gz && C:\Users\biocbuild\bbs-3.8-bioc\R\bin\R.exe CMD INSTALL amplican_1.4.1.zip && rm amplican_1.4.1.tar.gz amplican_1.4.1.zip
###
##############################################################################
##############################################################################
  % Total    % Received % Xferd  Average Speed   Time    Time     Time  Current
                                 Dload  Upload   Total   Spent    Left  Speed
  0     0    0     0    0     0      0      0 --:--:-- --:--:-- --:--:--     0
100  420k  100  420k    0     0  10.0M      0 --:--:-- --:--:-- --:--:-- 11.0M
install for i386
* installing *source* package 'amplican' ...
** R
** inst
** byte-compile and prepare package for lazy loading
** help
*** installing help indices
  converting help for package 'amplican'
    finding HTML links ... done
    AlignmentsExperimentSet-class           html  
    finding level-2 HTML links ... done
    alphabetQuality                         html  
    amplican                                html  
    amplicanAlign                           html  
    amplicanConsensus                       html  
    amplicanFilter                          html  
    amplicanMap                             html  
    amplicanNormalize                       html  
    amplicanOverlap                         html  
    amplicanPipeline                        html  
    amplicanReport                          html  
    amplicanSummarize                       html  
    amplican_print_reads                    html  
    assignedCount                           html  
    barcodeData-set                         html  
    barcodeData                             html  
    checkConfigFile                         html  
    checkFileWriteAccess                    html  
    checkPrimers                            html  
    checkTarget                             html  
    cigarsToEvents                          html  
    comb_along                              html  
    cumsumw                                 html  
    decode                                  html  
    defGR                                   html  
    experimentData-set                      html  
    experimentData                          html  
    extractEvents                           html  
    findEOP                                 html  
    findLQR                                 html  
    findPD                                  html  
    flipRanges                              html  
    fwdReads-set                            html  
    fwdReads                                html  
    fwdReadsType-set                        html  
    fwdReadsType                            html  
    getEventInfo                            html  
    getEvents                               html  
    get_amplicon                            html  
    get_left_primer                         html  
    get_right_primer                        html  
    goodAvgQuality                          html  
    goodBaseQuality                         html  
    lookupAlignment                         html  
    makeAlignment                           html  
    metaplot_deletions                      html  
    metaplot_insertions                     html  
    metaplot_mismatches                     html  
    pairToEvents                            html  
    plot_amplicon                           html  
    plot_cuts                               html  
    plot_deletions                          html  
    plot_height                             html  
    plot_heterogeneity                      html  
    plot_insertions                         html  
    plot_mismatches                         html  
    plot_variants                           html  
    readCounts-set                          html  
    readCounts                              html  
    revComp                                 html  
    rveReads-set                            html  
    rveReads                                html  
    rveReadsType-set                        html  
    rveReadsType                            html  
    unassignedCount                         html  
    unassignedData-set                      html  
    unassignedData                          html  
    upperGroups                             html  
    writeAlignments                         html  
** building package indices
** installing vignettes
** testing if installed package can be loaded
In R CMD INSTALL
install for x64
* installing *source* package 'amplican' ...
** testing if installed package can be loaded
* MD5 sums
packaged installation of 'amplican' as amplican_1.4.1.zip
* DONE (amplican)
In R CMD INSTALL
In R CMD INSTALL
* installing to library 'C:/Users/biocbuild/bbs-3.8-bioc/R/library'
package 'amplican' successfully unpacked and MD5 sums checked
In R CMD INSTALL
| amplican.Rcheck/tests_i386/testthat.Rout 
R version 3.5.3 (2019-03-11) -- "Great Truth"
Copyright (C) 2019 The R Foundation for Statistical Computing
Platform: i386-w64-mingw32/i386 (32-bit)
R is free software and comes with ABSOLUTELY NO WARRANTY.
You are welcome to redistribute it under certain conditions.
Type 'license()' or 'licence()' for distribution details.
R is a collaborative project with many contributors.
Type 'contributors()' for more information and
'citation()' on how to cite R or R packages in publications.
Type 'demo()' for some demos, 'help()' for on-line help, or
'help.start()' for an HTML browser interface to help.
Type 'q()' to quit R.
> library(testthat)
> library(amplican)
Loading required package: BiocGenerics
Loading required package: parallel
Attaching package: 'BiocGenerics'
The following objects are masked from 'package:parallel':
    clusterApply, clusterApplyLB, clusterCall, clusterEvalQ,
    clusterExport, clusterMap, parApply, parCapply, parLapply,
    parLapplyLB, parRapply, parSapply, parSapplyLB
The following objects are masked from 'package:stats':
    IQR, mad, sd, var, xtabs
The following objects are masked from 'package:base':
    Filter, Find, Map, Position, Reduce, anyDuplicated, append,
    as.data.frame, basename, cbind, colMeans, colSums, colnames,
    dirname, do.call, duplicated, eval, evalq, get, grep, grepl,
    intersect, is.unsorted, lapply, lengths, mapply, match, mget,
    order, paste, pmax, pmax.int, pmin, pmin.int, rank, rbind,
    rowMeans, rowSums, rownames, sapply, setdiff, sort, table, tapply,
    union, unique, unsplit, which, which.max, which.min
Loading required package: Biostrings
Loading required package: S4Vectors
Loading required package: stats4
Attaching package: 'S4Vectors'
The following object is masked from 'package:base':
    expand.grid
Loading required package: IRanges
Attaching package: 'IRanges'
The following object is masked from 'package:grDevices':
    windows
Loading required package: XVector
Attaching package: 'Biostrings'
The following object is masked from 'package:base':
    strsplit
Loading required package: data.table
Attaching package: 'data.table'
The following object is masked from 'package:IRanges':
    shift
The following objects are masked from 'package:S4Vectors':
    first, second
> 
> test_check("amplican")
== testthat results  ===========================================================
OK: 59 SKIPPED: 0 FAILED: 0
> 
> proc.time()
   user  system elapsed 
  18.89    2.70   21.56 
 | amplican.Rcheck/tests_x64/testthat.Rout 
R version 3.5.3 (2019-03-11) -- "Great Truth"
Copyright (C) 2019 The R Foundation for Statistical Computing
Platform: x86_64-w64-mingw32/x64 (64-bit)
R is free software and comes with ABSOLUTELY NO WARRANTY.
You are welcome to redistribute it under certain conditions.
Type 'license()' or 'licence()' for distribution details.
R is a collaborative project with many contributors.
Type 'contributors()' for more information and
'citation()' on how to cite R or R packages in publications.
Type 'demo()' for some demos, 'help()' for on-line help, or
'help.start()' for an HTML browser interface to help.
Type 'q()' to quit R.
> library(testthat)
> library(amplican)
Loading required package: BiocGenerics
Loading required package: parallel
Attaching package: 'BiocGenerics'
The following objects are masked from 'package:parallel':
    clusterApply, clusterApplyLB, clusterCall, clusterEvalQ,
    clusterExport, clusterMap, parApply, parCapply, parLapply,
    parLapplyLB, parRapply, parSapply, parSapplyLB
The following objects are masked from 'package:stats':
    IQR, mad, sd, var, xtabs
The following objects are masked from 'package:base':
    Filter, Find, Map, Position, Reduce, anyDuplicated, append,
    as.data.frame, basename, cbind, colMeans, colSums, colnames,
    dirname, do.call, duplicated, eval, evalq, get, grep, grepl,
    intersect, is.unsorted, lapply, lengths, mapply, match, mget,
    order, paste, pmax, pmax.int, pmin, pmin.int, rank, rbind,
    rowMeans, rowSums, rownames, sapply, setdiff, sort, table, tapply,
    union, unique, unsplit, which, which.max, which.min
Loading required package: Biostrings
Loading required package: S4Vectors
Loading required package: stats4
Attaching package: 'S4Vectors'
The following object is masked from 'package:base':
    expand.grid
Loading required package: IRanges
Attaching package: 'IRanges'
The following object is masked from 'package:grDevices':
    windows
Loading required package: XVector
Attaching package: 'Biostrings'
The following object is masked from 'package:base':
    strsplit
Loading required package: data.table
Attaching package: 'data.table'
The following object is masked from 'package:IRanges':
    shift
The following objects are masked from 'package:S4Vectors':
    first, second
> 
> test_check("amplican")
== testthat results  ===========================================================
OK: 59 SKIPPED: 0 FAILED: 0
> 
> proc.time()
   user  system elapsed 
  21.17    2.06   23.20 
 | 
| amplican.Rcheck/examples_i386/amplican-Ex.timings 
 | amplican.Rcheck/examples_x64/amplican-Ex.timings 
 |