| Back to Multiple platform build/check report for BioC 3.8 |
|
This page was generated on 2019-04-16 11:53:00 -0400 (Tue, 16 Apr 2019).
| Package 44/1649 | Hostname | OS / Arch | INSTALL | BUILD | CHECK | BUILD BIN | ||||||
| amplican 1.4.1 Eivind Valen
| malbec1 | Linux (Ubuntu 16.04.6 LTS) / x86_64 | OK | OK | [ OK ] | |||||||
| merida1 | OS X 10.11.6 El Capitan / x86_64 | OK | OK | OK | OK |
| Package: amplican |
| Version: 1.4.1 |
| Command: /home/biocbuild/bbs-3.8-bioc/R/bin/R CMD check --install=check:amplican.install-out.txt --library=/home/biocbuild/bbs-3.8-bioc/R/library --no-vignettes --timings amplican_1.4.1.tar.gz |
| StartedAt: 2019-04-15 22:09:21 -0400 (Mon, 15 Apr 2019) |
| EndedAt: 2019-04-15 22:12:07 -0400 (Mon, 15 Apr 2019) |
| EllapsedTime: 165.5 seconds |
| RetCode: 0 |
| Status: OK |
| CheckDir: amplican.Rcheck |
| Warnings: 0 |
##############################################################################
##############################################################################
###
### Running command:
###
### /home/biocbuild/bbs-3.8-bioc/R/bin/R CMD check --install=check:amplican.install-out.txt --library=/home/biocbuild/bbs-3.8-bioc/R/library --no-vignettes --timings amplican_1.4.1.tar.gz
###
##############################################################################
##############################################################################
* using log directory ‘/home/biocbuild/bbs-3.8-bioc/meat/amplican.Rcheck’
* using R version 3.5.3 (2019-03-11)
* using platform: x86_64-pc-linux-gnu (64-bit)
* using session charset: UTF-8
* using option ‘--no-vignettes’
* checking for file ‘amplican/DESCRIPTION’ ... OK
* checking extension type ... Package
* this is package ‘amplican’ version ‘1.4.1’
* package encoding: UTF-8
* checking package namespace information ... OK
* checking package dependencies ... OK
* checking if this is a source package ... OK
* checking if there is a namespace ... OK
* checking for hidden files and directories ... OK
* checking for portable file names ... OK
* checking for sufficient/correct file permissions ... OK
* checking whether package ‘amplican’ can be installed ... OK
* checking installed package size ... OK
* checking package directory ... OK
* checking ‘build’ directory ... OK
* checking DESCRIPTION meta-information ... OK
* checking top-level files ... OK
* checking for left-over files ... OK
* checking index information ... OK
* checking package subdirectories ... OK
* checking R files for non-ASCII characters ... OK
* checking R files for syntax errors ... OK
* checking whether the package can be loaded ... OK
* checking whether the package can be loaded with stated dependencies ... OK
* checking whether the package can be unloaded cleanly ... OK
* checking whether the namespace can be loaded with stated dependencies ... OK
* checking whether the namespace can be unloaded cleanly ... OK
* checking dependencies in R code ... OK
* checking S3 generic/method consistency ... OK
* checking replacement functions ... OK
* checking foreign function calls ... OK
* checking R code for possible problems ... OK
* checking Rd files ... OK
* checking Rd metadata ... OK
* checking Rd cross-references ... OK
* checking for missing documentation entries ... OK
* checking for code/documentation mismatches ... OK
* checking Rd \usage sections ... OK
* checking Rd contents ... OK
* checking for unstated dependencies in examples ... OK
* checking files in ‘vignettes’ ... OK
* checking examples ... OK
Examples with CPU or elapsed time > 5s
user system elapsed
amplicanPipeline 19.576 0.104 7.373
amplicanAlign 7.532 0.192 7.804
amplicanConsensus 5.528 0.028 1.124
amplicanSummarize 5.468 0.016 1.125
* checking for unstated dependencies in ‘tests’ ... OK
* checking tests ...
Running ‘testthat.R’
OK
* checking for unstated dependencies in vignettes ... OK
* checking package vignettes in ‘inst/doc’ ... OK
* checking running R code from vignettes ... SKIPPED
* checking re-building of vignette outputs ... SKIPPED
* checking PDF version of manual ... OK
* DONE
Status: OK
amplican.Rcheck/00install.out
############################################################################## ############################################################################## ### ### Running command: ### ### /home/biocbuild/bbs-3.8-bioc/R/bin/R CMD INSTALL amplican ### ############################################################################## ############################################################################## * installing to library ‘/home/biocbuild/bbs-3.8-bioc/R/library’ * installing *source* package ‘amplican’ ... ** R ** inst ** byte-compile and prepare package for lazy loading ** help *** installing help indices ** building package indices ** installing vignettes ** testing if installed package can be loaded * DONE (amplican)
amplican.Rcheck/tests/testthat.Rout
R version 3.5.3 (2019-03-11) -- "Great Truth"
Copyright (C) 2019 The R Foundation for Statistical Computing
Platform: x86_64-pc-linux-gnu (64-bit)
R is free software and comes with ABSOLUTELY NO WARRANTY.
You are welcome to redistribute it under certain conditions.
Type 'license()' or 'licence()' for distribution details.
R is a collaborative project with many contributors.
Type 'contributors()' for more information and
'citation()' on how to cite R or R packages in publications.
Type 'demo()' for some demos, 'help()' for on-line help, or
'help.start()' for an HTML browser interface to help.
Type 'q()' to quit R.
> library(testthat)
> library(amplican)
Loading required package: BiocGenerics
Loading required package: parallel
Attaching package: 'BiocGenerics'
The following objects are masked from 'package:parallel':
clusterApply, clusterApplyLB, clusterCall, clusterEvalQ,
clusterExport, clusterMap, parApply, parCapply, parLapply,
parLapplyLB, parRapply, parSapply, parSapplyLB
The following objects are masked from 'package:stats':
IQR, mad, sd, var, xtabs
The following objects are masked from 'package:base':
Filter, Find, Map, Position, Reduce, anyDuplicated, append,
as.data.frame, basename, cbind, colMeans, colSums, colnames,
dirname, do.call, duplicated, eval, evalq, get, grep, grepl,
intersect, is.unsorted, lapply, lengths, mapply, match, mget,
order, paste, pmax, pmax.int, pmin, pmin.int, rank, rbind,
rowMeans, rowSums, rownames, sapply, setdiff, sort, table, tapply,
union, unique, unsplit, which, which.max, which.min
Loading required package: Biostrings
Loading required package: S4Vectors
Loading required package: stats4
Attaching package: 'S4Vectors'
The following object is masked from 'package:base':
expand.grid
Loading required package: IRanges
Loading required package: XVector
Attaching package: 'Biostrings'
The following object is masked from 'package:base':
strsplit
Loading required package: data.table
Attaching package: 'data.table'
The following object is masked from 'package:IRanges':
shift
The following objects are masked from 'package:S4Vectors':
first, second
>
> test_check("amplican")
══ testthat results ═══════════════════════════════════════════════════════════
OK: 59 SKIPPED: 0 FAILED: 0
>
> proc.time()
user system elapsed
57.676 0.660 32.380
amplican.Rcheck/amplican-Ex.timings
| name | user | system | elapsed | |
| AlignmentsExperimentSet-class | 1.420 | 0.032 | 1.457 | |
| amplicanAlign | 7.532 | 0.192 | 7.804 | |
| amplicanConsensus | 5.528 | 0.028 | 1.124 | |
| amplicanFilter | 4.404 | 0.004 | 0.805 | |
| amplicanMap | 0.292 | 0.004 | 0.295 | |
| amplicanNormalize | 4.404 | 0.032 | 0.895 | |
| amplicanOverlap | 0.228 | 0.004 | 0.058 | |
| amplicanPipeline | 19.576 | 0.104 | 7.373 | |
| amplicanReport | 0.020 | 0.000 | 0.021 | |
| amplicanSummarize | 5.468 | 0.016 | 1.125 | |
| amplican_print_reads | 0.404 | 0.008 | 0.434 | |
| assignedCount | 0.032 | 0.000 | 0.156 | |
| barcodeData-set | 0.008 | 0.000 | 0.010 | |
| barcodeData | 0.012 | 0.000 | 0.011 | |
| comb_along | 0.032 | 0.000 | 0.033 | |
| experimentData-set | 0.008 | 0.000 | 0.010 | |
| experimentData | 0.016 | 0.000 | 0.014 | |
| extractEvents | 2.724 | 0.012 | 2.743 | |
| findEOP | 0.004 | 0.000 | 0.004 | |
| findLQR | 0.420 | 0.000 | 0.097 | |
| findPD | 0.012 | 0.000 | 0.005 | |
| fwdReads-set | 0.004 | 0.000 | 0.005 | |
| fwdReads | 0.516 | 0.000 | 0.516 | |
| fwdReadsType-set | 0.008 | 0.000 | 0.009 | |
| fwdReadsType | 0.008 | 0.000 | 0.007 | |
| lookupAlignment | 0.3 | 0.0 | 0.3 | |
| metaplot_deletions | 1.372 | 0.004 | 0.625 | |
| metaplot_insertions | 1.084 | 0.000 | 0.590 | |
| metaplot_mismatches | 1.192 | 0.016 | 0.648 | |
| plot_cuts | 0.872 | 0.004 | 0.612 | |
| plot_deletions | 0.844 | 0.000 | 0.214 | |
| plot_height | 0 | 0 | 0 | |
| plot_heterogeneity | 4.052 | 0.024 | 1.072 | |
| plot_insertions | 1.208 | 0.000 | 0.625 | |
| plot_mismatches | 1.144 | 0.000 | 0.573 | |
| plot_variants | 4.892 | 0.020 | 1.677 | |
| readCounts-set | 0.008 | 0.000 | 0.009 | |
| readCounts | 0.008 | 0.000 | 0.007 | |
| rveReads-set | 0.008 | 0.000 | 0.009 | |
| rveReads | 0.476 | 0.004 | 0.482 | |
| rveReadsType-set | 0.008 | 0.000 | 0.009 | |
| rveReadsType | 0.008 | 0.000 | 0.007 | |
| unassignedCount | 0.008 | 0.000 | 0.008 | |
| unassignedData-set | 0.008 | 0.000 | 0.008 | |
| unassignedData | 0.008 | 0.000 | 0.010 | |
| writeAlignments | 0.036 | 0.000 | 0.036 | |