| Back to Multiple platform build/check report for BioC 3.8 |
|
This page was generated on 2019-04-13 11:19:47 -0400 (Sat, 13 Apr 2019).
| Package 24/1649 | Hostname | OS / Arch | INSTALL | BUILD | CHECK | BUILD BIN | ||||||
| affycoretools 1.54.0 James W. MacDonald
| malbec1 | Linux (Ubuntu 16.04.6 LTS) / x86_64 | OK | OK | OK | |||||||
| tokay1 | Windows Server 2012 R2 Standard / x64 | [ OK ] | OK | WARNINGS | OK | |||||||
| merida1 | OS X 10.11.6 El Capitan / x86_64 | OK | OK | OK | OK |
| Package: affycoretools |
| Version: 1.54.0 |
| Command: C:\cygwin\bin\curl.exe -O https://malbec1.bioconductor.org/BBS/3.8/bioc/src/contrib/affycoretools_1.54.0.tar.gz && rm -rf affycoretools.buildbin-libdir && mkdir affycoretools.buildbin-libdir && C:\Users\biocbuild\bbs-3.8-bioc\R\bin\R.exe CMD INSTALL --merge-multiarch --build --library=affycoretools.buildbin-libdir affycoretools_1.54.0.tar.gz && C:\Users\biocbuild\bbs-3.8-bioc\R\bin\R.exe CMD INSTALL affycoretools_1.54.0.zip && rm affycoretools_1.54.0.tar.gz affycoretools_1.54.0.zip |
| StartedAt: 2019-04-12 20:18:49 -0400 (Fri, 12 Apr 2019) |
| EndedAt: 2019-04-12 20:20:19 -0400 (Fri, 12 Apr 2019) |
| EllapsedTime: 90.5 seconds |
| RetCode: 0 |
| Status: OK |
##############################################################################
##############################################################################
###
### Running command:
###
### C:\cygwin\bin\curl.exe -O https://malbec1.bioconductor.org/BBS/3.8/bioc/src/contrib/affycoretools_1.54.0.tar.gz && rm -rf affycoretools.buildbin-libdir && mkdir affycoretools.buildbin-libdir && C:\Users\biocbuild\bbs-3.8-bioc\R\bin\R.exe CMD INSTALL --merge-multiarch --build --library=affycoretools.buildbin-libdir affycoretools_1.54.0.tar.gz && C:\Users\biocbuild\bbs-3.8-bioc\R\bin\R.exe CMD INSTALL affycoretools_1.54.0.zip && rm affycoretools_1.54.0.tar.gz affycoretools_1.54.0.zip
###
##############################################################################
##############################################################################
% Total % Received % Xferd Average Speed Time Time Time Current
Dload Upload Total Spent Left Speed
0 0 0 0 0 0 0 0 --:--:-- --:--:-- --:--:-- 0
100 6442k 100 6442k 0 0 62.8M 0 --:--:-- --:--:-- --:--:-- 65.5M
install for i386
* installing *source* package 'affycoretools' ...
** R
** inst
** byte-compile and prepare package for lazy loading
** help
*** installing help indices
converting help for package 'affycoretools'
finding HTML links ... done
affycoretools-defunct html
affycoretools html
affystart html
annotateEset html
Rd warning: C:/Users/biocbuild/bbs-3.8-bioc/tmpdir/RtmpGOLMQf/R.INSTALL19f41d4e5c45/affycoretools/man/annotateEset.Rd:47: file link 'columns' in package 'AnnotationDbi' does not exist and so has been treated as a topic
Rd warning: C:/Users/biocbuild/bbs-3.8-bioc/tmpdir/RtmpGOLMQf/R.INSTALL19f41d4e5c45/affycoretools/man/annotateEset.Rd:50: file link 'mapIds' in package 'AnnotationDbi' does not exist and so has been treated as a topic
Rd warning: C:/Users/biocbuild/bbs-3.8-bioc/tmpdir/RtmpGOLMQf/R.INSTALL19f41d4e5c45/affycoretools/man/annotateEset.Rd:55: file link 'rma' in package 'oligo' does not exist and so has been treated as a topic
dataAndHeatmapPage html
entrezLinks html
fixHeaderAndGo html
geneSetPage html
finding level-2 HTML links ... done
getCols html
getMainProbes html
gsHeatmap html
intNames html
make.cl html
makeGoGeneTable html
makeGoTable html
makeHmap html
makeImages html
makeIndices html
makeVenn html
Rd warning: C:/Users/biocbuild/bbs-3.8-bioc/tmpdir/RtmpGOLMQf/R.INSTALL19f41d4e5c45/affycoretools/man/makeVenn.Rd:72: file link 'glmQLFit' in package 'edgeR' does not exist and so has been treated as a topic
maplot html
mirna2mrna html
outputRomer html
pca.legend html
plotDeg html
plotPCA html
runRomer html
tableFilt html
venn4Way html
vennCounts2 html
vennInLine html
vennPage html
vennSelect2 html
writeFit html
Rd warning: C:/Users/biocbuild/bbs-3.8-bioc/tmpdir/RtmpGOLMQf/R.INSTALL19f41d4e5c45/affycoretools/man/writeFit.Rd:35: file link 'write.fit' in package 'limma' does not exist and so has been treated as a topic
** building package indices
** installing vignettes
** testing if installed package can be loaded
In R CMD INSTALL
install for x64
* installing *source* package 'affycoretools' ...
** testing if installed package can be loaded
* MD5 sums
packaged installation of 'affycoretools' as affycoretools_1.54.0.zip
* DONE (affycoretools)
In R CMD INSTALL
In R CMD INSTALL
* installing to library 'C:/Users/biocbuild/bbs-3.8-bioc/R/library'
package 'affycoretools' successfully unpacked and MD5 sums checked
In R CMD INSTALL