| Back to Multiple platform build/check report for BioC 3.8 | 
  | 
This page was generated on 2019-04-16 11:54:22 -0400 (Tue, 16 Apr 2019).
| Package 24/1649 | Hostname | OS / Arch | INSTALL | BUILD | CHECK | BUILD BIN | ||||||
| affycoretools 1.54.0 James W. MacDonald 
  | malbec1 | Linux (Ubuntu 16.04.6 LTS) / x86_64 | OK | OK | OK | |||||||
| merida1 | OS X 10.11.6 El Capitan / x86_64 | OK | [ OK ] | OK | OK | 
| Package: affycoretools | 
| Version: 1.54.0 | 
| Command: /Library/Frameworks/R.framework/Versions/Current/Resources/bin/R CMD build --keep-empty-dirs --no-resave-data affycoretools | 
| StartedAt: 2019-04-15 18:58:54 -0400 (Mon, 15 Apr 2019) | 
| EndedAt: 2019-04-15 19:00:08 -0400 (Mon, 15 Apr 2019) | 
| EllapsedTime: 74.1 seconds | 
| RetCode: 0 | 
| Status: OK | 
| PackageFile: affycoretools_1.54.0.tar.gz | 
| PackageFileSize: 6.575 MiB | 
############################################################################## ############################################################################## ### ### Running command: ### ### /Library/Frameworks/R.framework/Versions/Current/Resources/bin/R CMD build --keep-empty-dirs --no-resave-data affycoretools ### ############################################################################## ############################################################################## * checking for file ‘affycoretools/DESCRIPTION’ ... OK * preparing ‘affycoretools’: * checking DESCRIPTION meta-information ... OK * installing the package to build vignettes * creating vignettes ... OK * checking for LF line-endings in source and make files and shell scripts * checking for empty or unneeded directories * building ‘affycoretools_1.54.0.tar.gz’