| Back to Multiple platform build/check report for BioC 3.8 |
|
This page was generated on 2019-04-13 11:27:16 -0400 (Sat, 13 Apr 2019).
| Package 1514/1649 | Hostname | OS / Arch | INSTALL | BUILD | CHECK | BUILD BIN | ||||||
| StarBioTrek 1.8.2 Claudia Cava
| malbec1 | Linux (Ubuntu 16.04.6 LTS) / x86_64 | OK | OK | NA | |||||||
| tokay1 | Windows Server 2012 R2 Standard / x64 | OK | OK | ERROR | [ OK ] | |||||||
| merida1 | OS X 10.11.6 El Capitan / x86_64 | OK | OK | ERROR | OK |
| Package: StarBioTrek |
| Version: 1.8.2 |
| Command: rm -rf StarBioTrek.buildbin-libdir && mkdir StarBioTrek.buildbin-libdir && C:\Users\biocbuild\bbs-3.8-bioc\R\bin\R.exe CMD INSTALL --merge-multiarch --build --library=StarBioTrek.buildbin-libdir StarBioTrek_1.8.2.tar.gz |
| StartedAt: 2019-04-13 08:00:00 -0400 (Sat, 13 Apr 2019) |
| EndedAt: 2019-04-13 08:00:34 -0400 (Sat, 13 Apr 2019) |
| EllapsedTime: 34.2 seconds |
| RetCode: 0 |
| Status: OK |
| PackageFile: StarBioTrek_1.8.2.zip |
| PackageFileSize: 12.58 MiB |
##############################################################################
##############################################################################
###
### Running command:
###
### rm -rf StarBioTrek.buildbin-libdir && mkdir StarBioTrek.buildbin-libdir && C:\Users\biocbuild\bbs-3.8-bioc\R\bin\R.exe CMD INSTALL --merge-multiarch --build --library=StarBioTrek.buildbin-libdir StarBioTrek_1.8.2.tar.gz
###
##############################################################################
##############################################################################
install for i386
* installing *source* package 'StarBioTrek' ...
** R
** data
*** moving datasets to lazyload DB
** inst
** byte-compile and prepare package for lazy loading
** help
*** installing help indices
converting help for package 'StarBioTrek'
finding HTML links ... done
Data_CANCER_normUQ_filt html
GE_matrix html
IPPI html
SelectedSample html
StarBioTrek html
average html
ds_score_crtlk html
euc_dist_crtlk html
getKEGGdata html
getNETdata html
list_path_net html
list_path_plot html
matrix_plot html
netw html
norm html
path html
path_net html
plotting_cross_talk html
proc_path html
process_matrix html
score_euc_dist html
select_class html
st_dv html
svm_classification html
tumo html
** building package indices
** installing vignettes
** testing if installed package can be loaded
In R CMD INSTALL
install for x64
* installing *source* package 'StarBioTrek' ...
** testing if installed package can be loaded
* MD5 sums
packaged installation of 'StarBioTrek' as StarBioTrek_1.8.2.zip
* DONE (StarBioTrek)
In R CMD INSTALL
In R CMD INSTALL