| Back to Multiple platform build/check report for BioC 3.8 |
|
This page was generated on 2019-04-13 11:28:42 -0400 (Sat, 13 Apr 2019).
| Package 1299/1649 | Hostname | OS / Arch | INSTALL | BUILD | CHECK | BUILD BIN | ||||||
| RGMQL 1.2.0 Simone Pallotta
| malbec1 | Linux (Ubuntu 16.04.6 LTS) / x86_64 | OK | OK | OK | |||||||
| tokay1 | Windows Server 2012 R2 Standard / x64 | [ OK ] | OK | OK | OK | |||||||
| merida1 | OS X 10.11.6 El Capitan / x86_64 | OK | OK | WARNINGS | OK |
| Package: RGMQL |
| Version: 1.2.0 |
| Command: C:\cygwin\bin\curl.exe -O https://malbec1.bioconductor.org/BBS/3.8/bioc/src/contrib/RGMQL_1.2.0.tar.gz && rm -rf RGMQL.buildbin-libdir && mkdir RGMQL.buildbin-libdir && C:\Users\biocbuild\bbs-3.8-bioc\R\bin\R.exe CMD INSTALL --merge-multiarch --build --library=RGMQL.buildbin-libdir RGMQL_1.2.0.tar.gz && C:\Users\biocbuild\bbs-3.8-bioc\R\bin\R.exe CMD INSTALL RGMQL_1.2.0.zip && rm RGMQL_1.2.0.tar.gz RGMQL_1.2.0.zip |
| StartedAt: 2019-04-12 19:54:45 -0400 (Fri, 12 Apr 2019) |
| EndedAt: 2019-04-12 20:00:21 -0400 (Fri, 12 Apr 2019) |
| EllapsedTime: 336.0 seconds |
| RetCode: 0 |
| Status: OK |
##############################################################################
##############################################################################
###
### Running command:
###
### C:\cygwin\bin\curl.exe -O https://malbec1.bioconductor.org/BBS/3.8/bioc/src/contrib/RGMQL_1.2.0.tar.gz && rm -rf RGMQL.buildbin-libdir && mkdir RGMQL.buildbin-libdir && C:\Users\biocbuild\bbs-3.8-bioc\R\bin\R.exe CMD INSTALL --merge-multiarch --build --library=RGMQL.buildbin-libdir RGMQL_1.2.0.tar.gz && C:\Users\biocbuild\bbs-3.8-bioc\R\bin\R.exe CMD INSTALL RGMQL_1.2.0.zip && rm RGMQL_1.2.0.tar.gz RGMQL_1.2.0.zip
###
##############################################################################
##############################################################################
% Total % Received % Xferd Average Speed Time Time Time Current
Dload Upload Total Spent Left Speed
0 0 0 0 0 0 0 0 --:--:-- --:--:-- --:--:-- 0
100 2835k 100 2835k 0 0 40.6M 0 --:--:-- --:--:-- --:--:-- 42.5M
install for i386
* installing *source* package 'RGMQL' ...
** R
** inst
** byte-compile and prepare package for lazy loading
** help
*** installing help indices
converting help for package 'RGMQL'
finding HTML links ... done
aggr-class html
aggregate html
arrange html
collect html
compile_query html
condition_eval_func html
cover-param-class html
cover html
delete_dataset html
distal-class html
download_dataset html
execute html
export_gmql html
extend html
filter html
filter_and_extract html
group_by html
import_gmql html
init_gmql html
log_job html
login_gmql html
logout_gmql html
map html
merge html
operator-class html
ordering-class html
read-function html
register_gmql html
remote_processing html
run_query html
sample_metadata html
sample_region html
save_query html
select html
semijoin html
setdiff html
show_dataset html
show_jobs_list html
show_queries_list html
show_samples_list html
show_schema html
stop_gmql html
stop_job html
take html
union html
upload_dataset html
** building package indices
** installing vignettes
** testing if installed package can be loaded
In R CMD INSTALL
install for x64
* installing *source* package 'RGMQL' ...
** testing if installed package can be loaded
* MD5 sums
packaged installation of 'RGMQL' as RGMQL_1.2.0.zip
* DONE (RGMQL)
In R CMD INSTALL
In R CMD INSTALL
* installing to library 'C:/Users/biocbuild/bbs-3.8-bioc/R/library'
package 'RGMQL' successfully unpacked and MD5 sums checked
In R CMD INSTALL