| Back to Multiple platform build/check report for BioC 3.8 |
|
This page was generated on 2019-04-16 11:53:13 -0400 (Tue, 16 Apr 2019).
| Package 1299/1649 | Hostname | OS / Arch | INSTALL | BUILD | CHECK | BUILD BIN | ||||||
| RGMQL 1.2.0 Simone Pallotta
| malbec1 | Linux (Ubuntu 16.04.6 LTS) / x86_64 | OK | OK | [ OK ] | |||||||
| merida1 | OS X 10.11.6 El Capitan / x86_64 | OK | OK | WARNINGS | OK |
| Package: RGMQL |
| Version: 1.2.0 |
| Command: /home/biocbuild/bbs-3.8-bioc/R/bin/R CMD check --install=check:RGMQL.install-out.txt --library=/home/biocbuild/bbs-3.8-bioc/R/library --no-vignettes --timings RGMQL_1.2.0.tar.gz |
| StartedAt: 2019-04-16 02:35:59 -0400 (Tue, 16 Apr 2019) |
| EndedAt: 2019-04-16 02:39:34 -0400 (Tue, 16 Apr 2019) |
| EllapsedTime: 215.2 seconds |
| RetCode: 0 |
| Status: OK |
| CheckDir: RGMQL.Rcheck |
| Warnings: 0 |
##############################################################################
##############################################################################
###
### Running command:
###
### /home/biocbuild/bbs-3.8-bioc/R/bin/R CMD check --install=check:RGMQL.install-out.txt --library=/home/biocbuild/bbs-3.8-bioc/R/library --no-vignettes --timings RGMQL_1.2.0.tar.gz
###
##############################################################################
##############################################################################
* using log directory ‘/home/biocbuild/bbs-3.8-bioc/meat/RGMQL.Rcheck’
* using R version 3.5.3 (2019-03-11)
* using platform: x86_64-pc-linux-gnu (64-bit)
* using session charset: UTF-8
* using option ‘--no-vignettes’
* checking for file ‘RGMQL/DESCRIPTION’ ... OK
* checking extension type ... Package
* this is package ‘RGMQL’ version ‘1.2.0’
* package encoding: UTF-8
* checking package namespace information ... OK
* checking package dependencies ... OK
* checking if this is a source package ... OK
* checking if there is a namespace ... OK
* checking for hidden files and directories ... OK
* checking for portable file names ... OK
* checking for sufficient/correct file permissions ... OK
* checking whether package ‘RGMQL’ can be installed ... OK
* checking installed package size ... NOTE
installed size is 20.1Mb
sub-directories of 1Mb or more:
example 19.5Mb
* checking package directory ... OK
* checking ‘build’ directory ... OK
* checking DESCRIPTION meta-information ... OK
* checking top-level files ... OK
* checking for left-over files ... OK
* checking index information ... OK
* checking package subdirectories ... OK
* checking R files for non-ASCII characters ... OK
* checking R files for syntax errors ... OK
* checking whether the package can be loaded ... OK
* checking whether the package can be loaded with stated dependencies ... OK
* checking whether the package can be unloaded cleanly ... OK
* checking whether the namespace can be loaded with stated dependencies ... OK
* checking whether the namespace can be unloaded cleanly ... OK
* checking dependencies in R code ... OK
* checking S3 generic/method consistency ... OK
* checking replacement functions ... OK
* checking foreign function calls ... OK
* checking R code for possible problems ... NOTE
File ‘RGMQL/R/onLoad.R’:
.onLoad calls:
packageStartupMessage("Check if GMQL credentials are expired... \n")
See section ‘Good practice’ in '?.onAttach'.
* checking Rd files ... OK
* checking Rd metadata ... OK
* checking Rd cross-references ... OK
* checking for missing documentation entries ... OK
* checking for code/documentation mismatches ... OK
* checking Rd \usage sections ... OK
* checking Rd contents ... OK
* checking for unstated dependencies in examples ... OK
* checking files in ‘vignettes’ ... OK
* checking examples ... OK
Examples with CPU or elapsed time > 5s
user system elapsed
aggr-class 9.184 0.328 4.978
take 5.640 0.228 2.962
show_dataset 0.108 0.004 11.303
* checking for unstated dependencies in vignettes ... OK
* checking package vignettes in ‘inst/doc’ ... OK
* checking running R code from vignettes ... SKIPPED
* checking re-building of vignette outputs ... SKIPPED
* checking PDF version of manual ... OK
* DONE
Status: 2 NOTEs
See
‘/home/biocbuild/bbs-3.8-bioc/meat/RGMQL.Rcheck/00check.log’
for details.
RGMQL.Rcheck/00install.out
############################################################################## ############################################################################## ### ### Running command: ### ### /home/biocbuild/bbs-3.8-bioc/R/bin/R CMD INSTALL RGMQL ### ############################################################################## ############################################################################## * installing to library ‘/home/biocbuild/bbs-3.8-bioc/R/library’ * installing *source* package ‘RGMQL’ ... ** R ** inst ** byte-compile and prepare package for lazy loading ** help *** installing help indices ** building package indices ** installing vignettes ** testing if installed package can be loaded * DONE (RGMQL)
RGMQL.Rcheck/RGMQL-Ex.timings
| name | user | system | elapsed | |
| aggr-class | 9.184 | 0.328 | 4.978 | |
| aggregate | 0.112 | 0.000 | 0.035 | |
| arrange | 0.148 | 0.004 | 0.046 | |
| collect | 0.164 | 0.004 | 0.053 | |
| compile_query | 0.612 | 0.020 | 1.707 | |
| cover-param-class | 0.080 | 0.020 | 0.078 | |
| cover | 0.064 | 0.000 | 0.052 | |
| delete_dataset | 0.004 | 0.000 | 0.001 | |
| distal-class | 0.100 | 0.004 | 0.096 | |
| download_dataset | 0.000 | 0.000 | 0.001 | |
| execute | 0.040 | 0.008 | 0.034 | |
| export_gmql | 1.164 | 0.080 | 1.249 | |
| extend | 0.032 | 0.000 | 0.024 | |
| filter | 0.148 | 0.004 | 0.106 | |
| filter_and_extract | 0.708 | 0.016 | 0.566 | |
| group_by | 0.060 | 0.008 | 0.056 | |
| import_gmql | 0.132 | 0.008 | 0.139 | |
| init_gmql | 0.040 | 0.000 | 0.203 | |
| log_job | 0.032 | 0.008 | 0.327 | |
| login_gmql | 0.016 | 0.004 | 0.189 | |
| map | 0.068 | 0.004 | 0.056 | |
| merge | 0.064 | 0.012 | 0.057 | |
| operator-class | 0.196 | 0.004 | 0.167 | |
| ordering-class | 0.060 | 0.000 | 0.054 | |
| read-function | 0.132 | 0.004 | 0.393 | |
| register_gmql | 0.000 | 0.000 | 0.001 | |
| remote_processing | 0.008 | 0.000 | 0.010 | |
| run_query | 0.004 | 0.000 | 0.000 | |
| sample_metadata | 0.032 | 0.004 | 0.493 | |
| sample_region | 0 | 0 | 0 | |
| save_query | 0.084 | 0.000 | 0.843 | |
| select | 0.052 | 0.016 | 0.053 | |
| semijoin | 0.064 | 0.004 | 0.049 | |
| setdiff | 0.060 | 0.008 | 0.056 | |
| show_dataset | 0.108 | 0.004 | 11.303 | |
| show_jobs_list | 0.024 | 0.000 | 0.319 | |
| show_queries_list | 0.036 | 0.000 | 0.320 | |
| show_samples_list | 0.028 | 0.004 | 0.315 | |
| show_schema | 0.032 | 0.000 | 0.330 | |
| stop_gmql | 0.152 | 0.004 | 0.156 | |
| stop_job | 0.000 | 0.000 | 0.001 | |
| take | 5.640 | 0.228 | 2.962 | |
| union | 0.060 | 0.000 | 0.046 | |
| upload_dataset | 0 | 0 | 0 | |