| Back to Multiple platform build/check report for BioC 3.8 |
|
This page was generated on 2019-04-13 11:26:55 -0400 (Sat, 13 Apr 2019).
| Package 1261/1649 | Hostname | OS / Arch | INSTALL | BUILD | CHECK | BUILD BIN | ||||||
| RCAS 1.8.0 Bora Uyar
| malbec1 | Linux (Ubuntu 16.04.6 LTS) / x86_64 | OK | OK | OK | |||||||
| tokay1 | Windows Server 2012 R2 Standard / x64 | OK | OK | [ OK ] | OK | |||||||
| merida1 | OS X 10.11.6 El Capitan / x86_64 | OK | OK | OK | OK |
| Package: RCAS |
| Version: 1.8.0 |
| Command: C:\Users\biocbuild\bbs-3.8-bioc\R\bin\R.exe CMD check --force-multiarch --install=check:RCAS.install-out.txt --library=C:\Users\biocbuild\bbs-3.8-bioc\R\library --no-vignettes --timings RCAS_1.8.0.tar.gz |
| StartedAt: 2019-04-13 04:54:15 -0400 (Sat, 13 Apr 2019) |
| EndedAt: 2019-04-13 05:18:15 -0400 (Sat, 13 Apr 2019) |
| EllapsedTime: 1439.7 seconds |
| RetCode: 0 |
| Status: OK |
| CheckDir: RCAS.Rcheck |
| Warnings: 0 |
##############################################################################
##############################################################################
###
### Running command:
###
### C:\Users\biocbuild\bbs-3.8-bioc\R\bin\R.exe CMD check --force-multiarch --install=check:RCAS.install-out.txt --library=C:\Users\biocbuild\bbs-3.8-bioc\R\library --no-vignettes --timings RCAS_1.8.0.tar.gz
###
##############################################################################
##############################################################################
* using log directory 'C:/Users/biocbuild/bbs-3.8-bioc/meat/RCAS.Rcheck'
* using R version 3.5.3 (2019-03-11)
* using platform: x86_64-w64-mingw32 (64-bit)
* using session charset: ISO8859-1
* using option '--no-vignettes'
* checking for file 'RCAS/DESCRIPTION' ... OK
* checking extension type ... Package
* this is package 'RCAS' version '1.8.0'
* checking package namespace information ... OK
* checking package dependencies ...Warning: unable to access index for repository https://CRAN.R-project.org/src/contrib:
cannot open URL 'https://CRAN.R-project.org/src/contrib/PACKAGES'
OK
* checking if this is a source package ... OK
* checking if there is a namespace ... OK
* checking for hidden files and directories ... OK
* checking for portable file names ... OK
* checking whether package 'RCAS' can be installed ... OK
* checking installed package size ... OK
* checking package directory ... OK
* checking 'build' directory ... OK
* checking DESCRIPTION meta-information ... OK
* checking top-level files ... OK
* checking for left-over files ... OK
* checking index information ... OK
* checking package subdirectories ... OK
* checking R files for non-ASCII characters ... OK
* checking R files for syntax errors ... OK
* loading checks for arch 'i386'
** checking whether the package can be loaded ... OK
** checking whether the package can be loaded with stated dependencies ... OK
** checking whether the package can be unloaded cleanly ... OK
** checking whether the namespace can be loaded with stated dependencies ... OK
** checking whether the namespace can be unloaded cleanly ... OK
* loading checks for arch 'x64'
** checking whether the package can be loaded ... OK
** checking whether the package can be loaded with stated dependencies ... OK
** checking whether the package can be unloaded cleanly ... OK
** checking whether the namespace can be loaded with stated dependencies ... OK
** checking whether the namespace can be unloaded cleanly ... OK
* checking dependencies in R code ... NOTE
Namespace in Imports field not imported from: 'DBI'
All declared Imports should be used.
* checking S3 generic/method consistency ... OK
* checking replacement functions ... OK
* checking foreign function calls ... OK
* checking R code for possible problems ... OK
* checking Rd files ... OK
* checking Rd metadata ... OK
* checking Rd cross-references ... OK
* checking for missing documentation entries ... OK
* checking for code/documentation mismatches ... OK
* checking Rd \usage sections ... OK
* checking Rd contents ... OK
* checking for unstated dependencies in examples ... OK
* checking contents of 'data' directory ... OK
* checking data for non-ASCII characters ... OK
* checking data for ASCII and uncompressed saves ... OK
* checking files in 'vignettes' ... OK
* checking examples ...
** running examples for arch 'i386' ... OK
Examples with CPU or elapsed time > 5s
user system elapsed
getMotifSummaryTable 54.11 0.52 54.62
runMotifRG 46.08 0.28 46.37
getFeatureBoundaryCoverageMulti 21.89 0.77 22.66
calculateCoverageProfileList 19.40 0.97 20.37
calculateCoverageProfileListFromTxdb 19.16 0.50 19.66
calculateCoverageProfile 17.40 1.02 18.42
summarizeQueryRegionsMulti 12.77 0.58 27.23
summarizeQueryRegions 12.10 0.23 12.32
getTxdbFeatures 11.95 0.34 12.30
calculateCoverageProfileFromTxdb 11.31 0.40 11.72
getTargetedGenesTable 11.36 0.19 11.57
getTxdbFeaturesFromGRanges 10.50 0.44 10.94
getFeatureBoundaryCoverageBin 10.54 0.10 10.64
getFeatureBoundaryCoverage 9.90 0.22 10.12
plotFeatureBoundaryCoverage 8.70 0.31 9.02
createDB 2.91 0.25 28.55
getIntervalOverlapMatrix 1.57 0.06 12.33
createOrthologousGeneSetList 0.84 0.02 20.35
retrieveOrthologs 0.66 0.04 12.08
** running examples for arch 'x64' ... OK
Examples with CPU or elapsed time > 5s
user system elapsed
runMotifRG 49.67 0.43 50.11
getMotifSummaryTable 47.71 0.24 47.95
getFeatureBoundaryCoverageMulti 26.94 0.89 27.83
calculateCoverageProfile 23.22 0.80 24.02
calculateCoverageProfileList 16.41 0.37 16.78
getTxdbFeaturesFromGRanges 15.21 0.22 15.44
calculateCoverageProfileListFromTxdb 14.90 0.28 15.19
summarizeQueryRegionsMulti 13.81 0.45 29.61
getTxdbFeatures 12.48 0.12 12.61
summarizeQueryRegions 11.79 0.19 11.97
calculateCoverageProfileFromTxdb 10.92 0.35 11.27
getTargetedGenesTable 10.22 0.17 10.39
getFeatureBoundaryCoverageBin 10.01 0.22 10.23
plotFeatureBoundaryCoverage 8.35 0.17 8.52
getFeatureBoundaryCoverage 7.67 0.30 7.97
createDB 3.43 0.08 29.70
getIntervalOverlapMatrix 1.94 0.09 18.17
createOrthologousGeneSetList 0.86 0.09 16.84
retrieveOrthologs 0.76 0.01 13.97
* checking for unstated dependencies in 'tests' ... OK
* checking tests ...
** running tests for arch 'i386' ...
Running 'testthat.R'
OK
** running tests for arch 'x64' ...
Running 'testthat.R'
OK
* checking for unstated dependencies in vignettes ... OK
* checking package vignettes in 'inst/doc' ... OK
* checking running R code from vignettes ... SKIPPED
* checking re-building of vignette outputs ... SKIPPED
* checking PDF version of manual ... OK
* DONE
Status: 1 NOTE
See
'C:/Users/biocbuild/bbs-3.8-bioc/meat/RCAS.Rcheck/00check.log'
for details.
RCAS.Rcheck/00install.out
##############################################################################
##############################################################################
###
### Running command:
###
### C:\cygwin\bin\curl.exe -O https://malbec1.bioconductor.org/BBS/3.8/bioc/src/contrib/RCAS_1.8.0.tar.gz && rm -rf RCAS.buildbin-libdir && mkdir RCAS.buildbin-libdir && C:\Users\biocbuild\bbs-3.8-bioc\R\bin\R.exe CMD INSTALL --merge-multiarch --build --library=RCAS.buildbin-libdir RCAS_1.8.0.tar.gz && C:\Users\biocbuild\bbs-3.8-bioc\R\bin\R.exe CMD INSTALL RCAS_1.8.0.zip && rm RCAS_1.8.0.tar.gz RCAS_1.8.0.zip
###
##############################################################################
##############################################################################
% Total % Received % Xferd Average Speed Time Time Time Current
Dload Upload Total Spent Left Speed
0 0 0 0 0 0 0 0 --:--:-- --:--:-- --:--:-- 0
100 1692k 100 1692k 0 0 25.1M 0 --:--:-- --:--:-- --:--:-- 26.6M
install for i386
* installing *source* package 'RCAS' ...
** R
** data
*** moving datasets to lazyload DB
** inst
** byte-compile and prepare package for lazy loading
groupGOTerms: GOBPTerm, GOMFTerm, GOCCTerm environments built.
** help
*** installing help indices
converting help for package 'RCAS'
finding HTML links ... done
calculateCoverageProfile html
calculateCoverageProfileFromTxdb html
calculateCoverageProfileList html
calculateCoverageProfileListFromTxdb html
createControlRegions html
createDB html
createOrthologousGeneSetList html
deleteSampleDataFromDB html
discoverFeatureSpecificMotifs html
extractSequences html
geneSets html
getFeatureBoundaryCoverage html
getFeatureBoundaryCoverageBin html
getFeatureBoundaryCoverageMulti html
getIntervalOverlapMatrix html
getMotifSummaryTable html
getTargetedGenesTable html
getTxdbFeatures html
getTxdbFeaturesFromGRanges html
gff html
importBed html
importBedFiles html
importGtf html
parseMsigdb html
plotFeatureBoundaryCoverage html
printMsigdbDataset html
queryGff html
queryRegions html
retrieveOrthologs html
runGSEA html
runMotifRG html
runReport html
runReportMetaAnalysis html
runTopGO html
summarizeDatabaseContent html
summarizeQueryRegions html
summarizeQueryRegionsMulti html
** building package indices
** installing vignettes
** testing if installed package can be loaded
groupGOTerms: GOBPTerm, GOMFTerm, GOCCTerm environments built.
In R CMD INSTALL
install for x64
* installing *source* package 'RCAS' ...
** testing if installed package can be loaded
groupGOTerms: GOBPTerm, GOMFTerm, GOCCTerm environments built.
* MD5 sums
packaged installation of 'RCAS' as RCAS_1.8.0.zip
* DONE (RCAS)
In R CMD INSTALL
In R CMD INSTALL
* installing to library 'C:/Users/biocbuild/bbs-3.8-bioc/R/library'
package 'RCAS' successfully unpacked and MD5 sums checked
In R CMD INSTALL
|
RCAS.Rcheck/tests_i386/testthat.Rout
R version 3.5.3 (2019-03-11) -- "Great Truth"
Copyright (C) 2019 The R Foundation for Statistical Computing
Platform: i386-w64-mingw32/i386 (32-bit)
R is free software and comes with ABSOLUTELY NO WARRANTY.
You are welcome to redistribute it under certain conditions.
Type 'license()' or 'licence()' for distribution details.
R is a collaborative project with many contributors.
Type 'contributors()' for more information and
'citation()' on how to cite R or R packages in publications.
Type 'demo()' for some demos, 'help()' for on-line help, or
'help.start()' for an HTML browser interface to help.
Type 'q()' to quit R.
> library(testthat)
> library(RCAS)
Loading required package: plotly
Loading required package: ggplot2
Attaching package: 'plotly'
The following object is masked from 'package:ggplot2':
last_plot
The following object is masked from 'package:stats':
filter
The following object is masked from 'package:graphics':
layout
Loading required package: DT
Loading required package: data.table
Loading required package: topGO
Loading required package: BiocGenerics
Loading required package: parallel
Attaching package: 'BiocGenerics'
The following objects are masked from 'package:parallel':
clusterApply, clusterApplyLB, clusterCall, clusterEvalQ,
clusterExport, clusterMap, parApply, parCapply, parLapply,
parLapplyLB, parRapply, parSapply, parSapplyLB
The following objects are masked from 'package:stats':
IQR, mad, sd, var, xtabs
The following objects are masked from 'package:base':
Filter, Find, Map, Position, Reduce, anyDuplicated, append,
as.data.frame, basename, cbind, colMeans, colSums, colnames,
dirname, do.call, duplicated, eval, evalq, get, grep, grepl,
intersect, is.unsorted, lapply, lengths, mapply, match, mget,
order, paste, pmax, pmax.int, pmin, pmin.int, rank, rbind,
rowMeans, rowSums, rownames, sapply, setdiff, sort, table, tapply,
union, unique, unsplit, which, which.max, which.min
Loading required package: graph
Loading required package: Biobase
Welcome to Bioconductor
Vignettes contain introductory material; view with
'browseVignettes()'. To cite Bioconductor, see
'citation("Biobase")', and for packages 'citation("pkgname")'.
Loading required package: GO.db
Loading required package: AnnotationDbi
Loading required package: stats4
Loading required package: IRanges
Loading required package: S4Vectors
Attaching package: 'S4Vectors'
The following objects are masked from 'package:data.table':
first, second
The following object is masked from 'package:plotly':
rename
The following object is masked from 'package:base':
expand.grid
Attaching package: 'IRanges'
The following object is masked from 'package:data.table':
shift
The following object is masked from 'package:plotly':
slice
The following object is masked from 'package:grDevices':
windows
Attaching package: 'AnnotationDbi'
The following object is masked from 'package:plotly':
select
Loading required package: SparseM
Attaching package: 'SparseM'
The following object is masked from 'package:base':
backsolve
groupGOTerms: GOBPTerm, GOMFTerm, GOCCTerm environments built.
Attaching package: 'topGO'
The following object is masked from 'package:IRanges':
members
Loading required package: motifRG
Loading required package: Biostrings
Loading required package: XVector
Attaching package: 'Biostrings'
The following object is masked from 'package:graph':
complement
The following object is masked from 'package:base':
strsplit
Loading required package: seqLogo
Loading required package: grid
Attaching package: 'grid'
The following object is masked from 'package:topGO':
depth
Loading required package: BSgenome
Loading required package: GenomeInfoDb
Loading required package: GenomicRanges
Loading required package: rtracklayer
Attaching package: 'rtracklayer'
The following object is masked from 'package:plotly':
export
Loading required package: BSgenome.Hsapiens.UCSC.hg19
>
> test_check("RCAS")
GGAGAA 8.648365e-07
Skip pattern TTTTCT TTTTTA
Refine GGAGAA 12.17415 : 12.34924 11.66138 13.15587 12.67486 12.46171 TRUE 515 179 506 176
New motif: GGAGAA
== testthat results ===========================================================
OK: 99 SKIPPED: 0 FAILED: 0
>
> proc.time()
user system elapsed
109.17 3.81 138.39
|
RCAS.Rcheck/tests_x64/testthat.Rout
R version 3.5.3 (2019-03-11) -- "Great Truth"
Copyright (C) 2019 The R Foundation for Statistical Computing
Platform: x86_64-w64-mingw32/x64 (64-bit)
R is free software and comes with ABSOLUTELY NO WARRANTY.
You are welcome to redistribute it under certain conditions.
Type 'license()' or 'licence()' for distribution details.
R is a collaborative project with many contributors.
Type 'contributors()' for more information and
'citation()' on how to cite R or R packages in publications.
Type 'demo()' for some demos, 'help()' for on-line help, or
'help.start()' for an HTML browser interface to help.
Type 'q()' to quit R.
> library(testthat)
> library(RCAS)
Loading required package: plotly
Loading required package: ggplot2
Attaching package: 'plotly'
The following object is masked from 'package:ggplot2':
last_plot
The following object is masked from 'package:stats':
filter
The following object is masked from 'package:graphics':
layout
Loading required package: DT
Loading required package: data.table
Loading required package: topGO
Loading required package: BiocGenerics
Loading required package: parallel
Attaching package: 'BiocGenerics'
The following objects are masked from 'package:parallel':
clusterApply, clusterApplyLB, clusterCall, clusterEvalQ,
clusterExport, clusterMap, parApply, parCapply, parLapply,
parLapplyLB, parRapply, parSapply, parSapplyLB
The following objects are masked from 'package:stats':
IQR, mad, sd, var, xtabs
The following objects are masked from 'package:base':
Filter, Find, Map, Position, Reduce, anyDuplicated, append,
as.data.frame, basename, cbind, colMeans, colSums, colnames,
dirname, do.call, duplicated, eval, evalq, get, grep, grepl,
intersect, is.unsorted, lapply, lengths, mapply, match, mget,
order, paste, pmax, pmax.int, pmin, pmin.int, rank, rbind,
rowMeans, rowSums, rownames, sapply, setdiff, sort, table, tapply,
union, unique, unsplit, which, which.max, which.min
Loading required package: graph
Loading required package: Biobase
Welcome to Bioconductor
Vignettes contain introductory material; view with
'browseVignettes()'. To cite Bioconductor, see
'citation("Biobase")', and for packages 'citation("pkgname")'.
Loading required package: GO.db
Loading required package: AnnotationDbi
Loading required package: stats4
Loading required package: IRanges
Loading required package: S4Vectors
Attaching package: 'S4Vectors'
The following objects are masked from 'package:data.table':
first, second
The following object is masked from 'package:plotly':
rename
The following object is masked from 'package:base':
expand.grid
Attaching package: 'IRanges'
The following object is masked from 'package:data.table':
shift
The following object is masked from 'package:plotly':
slice
The following object is masked from 'package:grDevices':
windows
Attaching package: 'AnnotationDbi'
The following object is masked from 'package:plotly':
select
Loading required package: SparseM
Attaching package: 'SparseM'
The following object is masked from 'package:base':
backsolve
groupGOTerms: GOBPTerm, GOMFTerm, GOCCTerm environments built.
Attaching package: 'topGO'
The following object is masked from 'package:IRanges':
members
Loading required package: motifRG
Loading required package: Biostrings
Loading required package: XVector
Attaching package: 'Biostrings'
The following object is masked from 'package:graph':
complement
The following object is masked from 'package:base':
strsplit
Loading required package: seqLogo
Loading required package: grid
Attaching package: 'grid'
The following object is masked from 'package:topGO':
depth
Loading required package: BSgenome
Loading required package: GenomeInfoDb
Loading required package: GenomicRanges
Loading required package: rtracklayer
Attaching package: 'rtracklayer'
The following object is masked from 'package:plotly':
export
Loading required package: BSgenome.Hsapiens.UCSC.hg19
>
> test_check("RCAS")
GGAGAA 1.11527e-06
Refine GGAGAA 12.90334 : 12.81906 14.07181 12.46499 13.30435 12.95399 TRUE 515 160 506 157
New motif: GGAGAA
== testthat results ===========================================================
OK: 99 SKIPPED: 0 FAILED: 0
>
> proc.time()
user system elapsed
97.46 2.06 128.20
|
|
RCAS.Rcheck/examples_i386/RCAS-Ex.timings
|
RCAS.Rcheck/examples_x64/RCAS-Ex.timings
|