| Back to Multiple platform build/check report for BioC 3.8 |
|
This page was generated on 2019-04-16 11:52:14 -0400 (Tue, 16 Apr 2019).
| Package 1261/1649 | Hostname | OS / Arch | INSTALL | BUILD | CHECK | BUILD BIN | ||||||
| RCAS 1.8.0 Bora Uyar
| malbec1 | Linux (Ubuntu 16.04.6 LTS) / x86_64 | OK | OK | [ OK ] | |||||||
| merida1 | OS X 10.11.6 El Capitan / x86_64 | OK | OK | OK | OK |
| Package: RCAS |
| Version: 1.8.0 |
| Command: /home/biocbuild/bbs-3.8-bioc/R/bin/R CMD check --install=check:RCAS.install-out.txt --library=/home/biocbuild/bbs-3.8-bioc/R/library --no-vignettes --timings RCAS_1.8.0.tar.gz |
| StartedAt: 2019-04-16 02:25:09 -0400 (Tue, 16 Apr 2019) |
| EndedAt: 2019-04-16 02:39:47 -0400 (Tue, 16 Apr 2019) |
| EllapsedTime: 878.2 seconds |
| RetCode: 0 |
| Status: OK |
| CheckDir: RCAS.Rcheck |
| Warnings: 0 |
##############################################################################
##############################################################################
###
### Running command:
###
### /home/biocbuild/bbs-3.8-bioc/R/bin/R CMD check --install=check:RCAS.install-out.txt --library=/home/biocbuild/bbs-3.8-bioc/R/library --no-vignettes --timings RCAS_1.8.0.tar.gz
###
##############################################################################
##############################################################################
* using log directory ‘/home/biocbuild/bbs-3.8-bioc/meat/RCAS.Rcheck’
* using R version 3.5.3 (2019-03-11)
* using platform: x86_64-pc-linux-gnu (64-bit)
* using session charset: UTF-8
* using option ‘--no-vignettes’
* checking for file ‘RCAS/DESCRIPTION’ ... OK
* checking extension type ... Package
* this is package ‘RCAS’ version ‘1.8.0’
* checking package namespace information ... OK
* checking package dependencies ... OK
* checking if this is a source package ... OK
* checking if there is a namespace ... OK
* checking for hidden files and directories ... OK
* checking for portable file names ... OK
* checking for sufficient/correct file permissions ... OK
* checking whether package ‘RCAS’ can be installed ... OK
* checking installed package size ... OK
* checking package directory ... OK
* checking ‘build’ directory ... OK
* checking DESCRIPTION meta-information ... OK
* checking top-level files ... OK
* checking for left-over files ... OK
* checking index information ... OK
* checking package subdirectories ... OK
* checking R files for non-ASCII characters ... OK
* checking R files for syntax errors ... OK
* checking whether the package can be loaded ... OK
* checking whether the package can be loaded with stated dependencies ... OK
* checking whether the package can be unloaded cleanly ... OK
* checking whether the namespace can be loaded with stated dependencies ... OK
* checking whether the namespace can be unloaded cleanly ... OK
* checking dependencies in R code ... NOTE
Namespace in Imports field not imported from: ‘DBI’
All declared Imports should be used.
* checking S3 generic/method consistency ... OK
* checking replacement functions ... OK
* checking foreign function calls ... OK
* checking R code for possible problems ... OK
* checking Rd files ... OK
* checking Rd metadata ... OK
* checking Rd cross-references ... OK
* checking for missing documentation entries ... OK
* checking for code/documentation mismatches ... OK
* checking Rd \usage sections ... OK
* checking Rd contents ... OK
* checking for unstated dependencies in examples ... OK
* checking contents of ‘data’ directory ... OK
* checking data for non-ASCII characters ... OK
* checking data for ASCII and uncompressed saves ... OK
* checking files in ‘vignettes’ ... OK
* checking examples ... OK
Examples with CPU or elapsed time > 5s
user system elapsed
getMotifSummaryTable 55.212 4.524 35.718
runMotifRG 46.608 4.212 30.728
getFeatureBoundaryCoverageMulti 28.340 0.320 29.269
calculateCoverageProfileList 23.488 0.100 24.050
getTargetedGenesTable 20.668 0.136 18.279
calculateCoverageProfileListFromTxdb 19.824 0.128 21.719
calculateCoverageProfile 19.068 0.272 19.440
getTxdbFeatures 17.496 0.104 17.970
getTxdbFeaturesFromGRanges 16.468 0.120 16.716
plotFeatureBoundaryCoverage 14.436 0.088 13.178
summarizeQueryRegions 13.992 0.224 14.239
calculateCoverageProfileFromTxdb 13.044 0.056 13.208
summarizeQueryRegionsMulti 12.380 0.292 26.536
getFeatureBoundaryCoverage 12.288 0.188 12.827
getFeatureBoundaryCoverageBin 12.216 0.104 12.937
createDB 3.376 0.192 19.917
createOrthologousGeneSetList 0.796 0.076 31.142
retrieveOrthologs 0.680 0.004 31.699
* checking for unstated dependencies in ‘tests’ ... OK
* checking tests ...
Running ‘testthat.R’
OK
* checking for unstated dependencies in vignettes ... OK
* checking package vignettes in ‘inst/doc’ ... OK
* checking running R code from vignettes ... SKIPPED
* checking re-building of vignette outputs ... SKIPPED
* checking PDF version of manual ... OK
* DONE
Status: 1 NOTE
See
‘/home/biocbuild/bbs-3.8-bioc/meat/RCAS.Rcheck/00check.log’
for details.
RCAS.Rcheck/00install.out
############################################################################## ############################################################################## ### ### Running command: ### ### /home/biocbuild/bbs-3.8-bioc/R/bin/R CMD INSTALL RCAS ### ############################################################################## ############################################################################## * installing to library ‘/home/biocbuild/bbs-3.8-bioc/R/library’ * installing *source* package ‘RCAS’ ... ** R ** data *** moving datasets to lazyload DB ** inst ** byte-compile and prepare package for lazy loading groupGOTerms: GOBPTerm, GOMFTerm, GOCCTerm environments built. ** help *** installing help indices ** building package indices ** installing vignettes ** testing if installed package can be loaded groupGOTerms: GOBPTerm, GOMFTerm, GOCCTerm environments built. * DONE (RCAS)
RCAS.Rcheck/tests/testthat.Rout
R version 3.5.3 (2019-03-11) -- "Great Truth"
Copyright (C) 2019 The R Foundation for Statistical Computing
Platform: x86_64-pc-linux-gnu (64-bit)
R is free software and comes with ABSOLUTELY NO WARRANTY.
You are welcome to redistribute it under certain conditions.
Type 'license()' or 'licence()' for distribution details.
R is a collaborative project with many contributors.
Type 'contributors()' for more information and
'citation()' on how to cite R or R packages in publications.
Type 'demo()' for some demos, 'help()' for on-line help, or
'help.start()' for an HTML browser interface to help.
Type 'q()' to quit R.
> library(testthat)
> library(RCAS)
Loading required package: plotly
Loading required package: ggplot2
Attaching package: 'plotly'
The following object is masked from 'package:ggplot2':
last_plot
The following object is masked from 'package:stats':
filter
The following object is masked from 'package:graphics':
layout
Loading required package: DT
Loading required package: data.table
Loading required package: topGO
Loading required package: BiocGenerics
Loading required package: parallel
Attaching package: 'BiocGenerics'
The following objects are masked from 'package:parallel':
clusterApply, clusterApplyLB, clusterCall, clusterEvalQ,
clusterExport, clusterMap, parApply, parCapply, parLapply,
parLapplyLB, parRapply, parSapply, parSapplyLB
The following objects are masked from 'package:stats':
IQR, mad, sd, var, xtabs
The following objects are masked from 'package:base':
Filter, Find, Map, Position, Reduce, anyDuplicated, append,
as.data.frame, basename, cbind, colMeans, colSums, colnames,
dirname, do.call, duplicated, eval, evalq, get, grep, grepl,
intersect, is.unsorted, lapply, lengths, mapply, match, mget,
order, paste, pmax, pmax.int, pmin, pmin.int, rank, rbind,
rowMeans, rowSums, rownames, sapply, setdiff, sort, table, tapply,
union, unique, unsplit, which, which.max, which.min
Loading required package: graph
Loading required package: Biobase
Welcome to Bioconductor
Vignettes contain introductory material; view with
'browseVignettes()'. To cite Bioconductor, see
'citation("Biobase")', and for packages 'citation("pkgname")'.
Loading required package: GO.db
Loading required package: AnnotationDbi
Loading required package: stats4
Loading required package: IRanges
Loading required package: S4Vectors
Attaching package: 'S4Vectors'
The following objects are masked from 'package:data.table':
first, second
The following object is masked from 'package:plotly':
rename
The following object is masked from 'package:base':
expand.grid
Attaching package: 'IRanges'
The following object is masked from 'package:data.table':
shift
The following object is masked from 'package:plotly':
slice
Attaching package: 'AnnotationDbi'
The following object is masked from 'package:plotly':
select
Loading required package: SparseM
Attaching package: 'SparseM'
The following object is masked from 'package:base':
backsolve
groupGOTerms: GOBPTerm, GOMFTerm, GOCCTerm environments built.
Attaching package: 'topGO'
The following object is masked from 'package:IRanges':
members
Loading required package: motifRG
Loading required package: Biostrings
Loading required package: XVector
Attaching package: 'Biostrings'
The following object is masked from 'package:graph':
complement
The following object is masked from 'package:base':
strsplit
Loading required package: seqLogo
Loading required package: grid
Attaching package: 'grid'
The following object is masked from 'package:topGO':
depth
Loading required package: BSgenome
Loading required package: GenomeInfoDb
Loading required package: GenomicRanges
Loading required package: rtracklayer
Attaching package: 'rtracklayer'
The following object is masked from 'package:plotly':
export
Loading required package: BSgenome.Hsapiens.UCSC.hg19
>
> test_check("RCAS")
AGGAGA 3.113268e-05
Skip pattern ATTTTT
Refine AGGAGA 10.99054 : 9.692399 10.7072 12.05361 11.30225 9.286542 TRUE 463 172 451 170
New motif: AGGAGA
══ testthat results ═══════════════════════════════════════════════════════════
OK: 99 SKIPPED: 0 FAILED: 0
>
> proc.time()
user system elapsed
118.500 4.600 133.912
RCAS.Rcheck/RCAS-Ex.timings
| name | user | system | elapsed | |
| calculateCoverageProfile | 19.068 | 0.272 | 19.440 | |
| calculateCoverageProfileFromTxdb | 13.044 | 0.056 | 13.208 | |
| calculateCoverageProfileList | 23.488 | 0.100 | 24.050 | |
| calculateCoverageProfileListFromTxdb | 19.824 | 0.128 | 21.719 | |
| createControlRegions | 0.344 | 0.000 | 0.379 | |
| createDB | 3.376 | 0.192 | 19.917 | |
| createOrthologousGeneSetList | 0.796 | 0.076 | 31.142 | |
| discoverFeatureSpecificMotifs | 0.000 | 0.000 | 0.001 | |
| extractSequences | 1.452 | 0.100 | 1.858 | |
| getFeatureBoundaryCoverage | 12.288 | 0.188 | 12.827 | |
| getFeatureBoundaryCoverageBin | 12.216 | 0.104 | 12.937 | |
| getFeatureBoundaryCoverageMulti | 28.340 | 0.320 | 29.269 | |
| getIntervalOverlapMatrix | 1.528 | 0.200 | 2.063 | |
| getMotifSummaryTable | 55.212 | 4.524 | 35.718 | |
| getTargetedGenesTable | 20.668 | 0.136 | 18.279 | |
| getTxdbFeatures | 17.496 | 0.104 | 17.970 | |
| getTxdbFeaturesFromGRanges | 16.468 | 0.120 | 16.716 | |
| importBed | 0.256 | 0.000 | 0.253 | |
| importBedFiles | 1.120 | 0.016 | 1.138 | |
| importGtf | 0 | 0 | 0 | |
| parseMsigdb | 0.004 | 0.000 | 0.012 | |
| plotFeatureBoundaryCoverage | 14.436 | 0.088 | 13.178 | |
| printMsigdbDataset | 0.092 | 0.000 | 0.090 | |
| queryGff | 0.744 | 0.036 | 0.787 | |
| retrieveOrthologs | 0.680 | 0.004 | 31.699 | |
| runGSEA | 1.572 | 0.052 | 1.627 | |
| runMotifRG | 46.608 | 4.212 | 30.728 | |
| runReport | 0 | 0 | 0 | |
| runReportMetaAnalysis | 1.408 | 0.604 | 2.365 | |
| runTopGO | 0.000 | 0.000 | 0.001 | |
| summarizeQueryRegions | 13.992 | 0.224 | 14.239 | |
| summarizeQueryRegionsMulti | 12.380 | 0.292 | 26.536 | |