| Back to Multiple platform build/check report for BioC 3.8 |
|
This page was generated on 2019-04-13 11:27:01 -0400 (Sat, 13 Apr 2019).
| Package 1149/1649 | Hostname | OS / Arch | INSTALL | BUILD | CHECK | BUILD BIN | ||||||
| PharmacoGx 1.12.0 Benjamin Haibe-Kains
| malbec1 | Linux (Ubuntu 16.04.6 LTS) / x86_64 | OK | OK | OK | |||||||
| tokay1 | Windows Server 2012 R2 Standard / x64 | OK | OK | OK | [ OK ] | |||||||
| merida1 | OS X 10.11.6 El Capitan / x86_64 | OK | OK | OK | OK |
| Package: PharmacoGx |
| Version: 1.12.0 |
| Command: rm -rf PharmacoGx.buildbin-libdir && mkdir PharmacoGx.buildbin-libdir && C:\Users\biocbuild\bbs-3.8-bioc\R\bin\R.exe CMD INSTALL --merge-multiarch --build --library=PharmacoGx.buildbin-libdir PharmacoGx_1.12.0.tar.gz |
| StartedAt: 2019-04-13 07:45:53 -0400 (Sat, 13 Apr 2019) |
| EndedAt: 2019-04-13 07:46:22 -0400 (Sat, 13 Apr 2019) |
| EllapsedTime: 29.0 seconds |
| RetCode: 0 |
| Status: OK |
| PackageFile: PharmacoGx_1.12.0.zip |
| PackageFileSize: 3.902 MiB |
##############################################################################
##############################################################################
###
### Running command:
###
### rm -rf PharmacoGx.buildbin-libdir && mkdir PharmacoGx.buildbin-libdir && C:\Users\biocbuild\bbs-3.8-bioc\R\bin\R.exe CMD INSTALL --merge-multiarch --build --library=PharmacoGx.buildbin-libdir PharmacoGx_1.12.0.tar.gz
###
##############################################################################
##############################################################################
install for i386
* installing *source* package 'PharmacoGx' ...
** R
** data
** inst
** byte-compile and prepare package for lazy loading
** help
*** installing help indices
converting help for package 'PharmacoGx'
finding HTML links ... done
CCLEsmall html
CMAPsmall html
GDSCsmall html
HDAC_genes html
LogLogisticRegression html
PharmacoSet-class html
PharmacoSet html
amcc html
availablePSets html
cellInfo-set html
cellInfo html
cellNames-set html
cellNames html
checkPSetStructure html
computeABC html
computeAUC html
computeAmax html
computeICn html
computeSlope html
connectivityScore html
cosinePerm html
dateCreated html
dim-PharmacoSet-method html
downloadPSet html
downloadPertSig html
drugDoseResponseCurve html
drugInfo-set html
drugInfo html
drugNames-set html
drugNames html
drugPerturbationSig html
drugSensitivitySig html
fNames html
featureInfo-set html
featureInfo html
filterNoisyCurves html
gwc html
intersectList html
intersectPSet html
mDataNames html
mcc html
molecularProfiles-set html
molecularProfiles html
pSetName html
pertNumber-set html
pertNumber html
phenoInfo-set html
phenoInfo html
sensNumber-set html
sensNumber html
sensitivityInfo-set html
sensitivityInfo html
sensitivityMeasures html
sensitivityProfiles-set html
sensitivityProfiles html
show-PharmacoSet-method html
show-PharmacoSig-method html
showSigAnnot html
sub-PharmacoSet-ANY-ANY-ANY-method html
subsetTo html
summarizeMolecularProfiles html
summarizeSensitivityProfiles html
symSetDiffList html
unionList html
** building package indices
** installing vignettes
** testing if installed package can be loaded
In R CMD INSTALL
install for x64
* installing *source* package 'PharmacoGx' ...
** testing if installed package can be loaded
* MD5 sums
packaged installation of 'PharmacoGx' as PharmacoGx_1.12.0.zip
* DONE (PharmacoGx)
In R CMD INSTALL
In R CMD INSTALL