| Back to Multiple platform build/check report for BioC 3.8 |
|
This page was generated on 2019-04-16 11:52:17 -0400 (Tue, 16 Apr 2019).
| Package 1149/1649 | Hostname | OS / Arch | INSTALL | BUILD | CHECK | BUILD BIN | ||||||
| PharmacoGx 1.12.0 Benjamin Haibe-Kains
| malbec1 | Linux (Ubuntu 16.04.6 LTS) / x86_64 | OK | OK | [ OK ] | |||||||
| merida1 | OS X 10.11.6 El Capitan / x86_64 | OK | OK | OK | OK |
| Package: PharmacoGx |
| Version: 1.12.0 |
| Command: /home/biocbuild/bbs-3.8-bioc/R/bin/R CMD check --install=check:PharmacoGx.install-out.txt --library=/home/biocbuild/bbs-3.8-bioc/R/library --no-vignettes --timings PharmacoGx_1.12.0.tar.gz |
| StartedAt: 2019-04-16 02:04:25 -0400 (Tue, 16 Apr 2019) |
| EndedAt: 2019-04-16 02:17:11 -0400 (Tue, 16 Apr 2019) |
| EllapsedTime: 766.7 seconds |
| RetCode: 0 |
| Status: OK |
| CheckDir: PharmacoGx.Rcheck |
| Warnings: 0 |
##############################################################################
##############################################################################
###
### Running command:
###
### /home/biocbuild/bbs-3.8-bioc/R/bin/R CMD check --install=check:PharmacoGx.install-out.txt --library=/home/biocbuild/bbs-3.8-bioc/R/library --no-vignettes --timings PharmacoGx_1.12.0.tar.gz
###
##############################################################################
##############################################################################
* using log directory ‘/home/biocbuild/bbs-3.8-bioc/meat/PharmacoGx.Rcheck’
* using R version 3.5.3 (2019-03-11)
* using platform: x86_64-pc-linux-gnu (64-bit)
* using session charset: UTF-8
* using option ‘--no-vignettes’
* checking for file ‘PharmacoGx/DESCRIPTION’ ... OK
* checking extension type ... Package
* this is package ‘PharmacoGx’ version ‘1.12.0’
* package encoding: UTF-8
* checking package namespace information ... OK
* checking package dependencies ... OK
* checking if this is a source package ... OK
* checking if there is a namespace ... OK
* checking for hidden files and directories ... OK
* checking for portable file names ... OK
* checking for sufficient/correct file permissions ... OK
* checking whether package ‘PharmacoGx’ can be installed ... OK
* checking installed package size ... OK
* checking package directory ... OK
* checking ‘build’ directory ... OK
* checking DESCRIPTION meta-information ... OK
* checking top-level files ... OK
* checking for left-over files ... OK
* checking index information ... OK
* checking package subdirectories ... OK
* checking R files for non-ASCII characters ... OK
* checking R files for syntax errors ... OK
* checking whether the package can be loaded ... OK
* checking whether the package can be loaded with stated dependencies ... OK
* checking whether the package can be unloaded cleanly ... OK
* checking whether the namespace can be loaded with stated dependencies ... OK
* checking whether the namespace can be unloaded cleanly ... OK
* checking dependencies in R code ... OK
* checking S3 generic/method consistency ... OK
* checking replacement functions ... OK
* checking foreign function calls ... OK
* checking R code for possible problems ... OK
* checking Rd files ... OK
* checking Rd metadata ... OK
* checking Rd cross-references ... OK
* checking for missing documentation entries ... OK
* checking for code/documentation mismatches ... OK
* checking Rd \usage sections ... OK
* checking Rd contents ... OK
* checking for unstated dependencies in examples ... OK
* checking contents of ‘data’ directory ... OK
* checking data for non-ASCII characters ... NOTE
Note: found 2251 marked UTF-8 strings
* checking data for ASCII and uncompressed saves ... OK
* checking files in ‘vignettes’ ... OK
* checking examples ... OK
Examples with CPU or elapsed time > 5s
user system elapsed
intersectPSet 2.436 1.024 146.911
* checking for unstated dependencies in ‘tests’ ... OK
* checking tests ...
Running ‘testthat.R’
OK
* checking for unstated dependencies in vignettes ... OK
* checking package vignettes in ‘inst/doc’ ... OK
* checking running R code from vignettes ... SKIPPED
* checking re-building of vignette outputs ... SKIPPED
* checking PDF version of manual ... OK
* DONE
Status: 1 NOTE
See
‘/home/biocbuild/bbs-3.8-bioc/meat/PharmacoGx.Rcheck/00check.log’
for details.
PharmacoGx.Rcheck/00install.out
############################################################################## ############################################################################## ### ### Running command: ### ### /home/biocbuild/bbs-3.8-bioc/R/bin/R CMD INSTALL PharmacoGx ### ############################################################################## ############################################################################## * installing to library ‘/home/biocbuild/bbs-3.8-bioc/R/library’ * installing *source* package ‘PharmacoGx’ ... ** R ** data ** inst ** byte-compile and prepare package for lazy loading ** help *** installing help indices ** building package indices ** installing vignettes ** testing if installed package can be loaded * DONE (PharmacoGx)
PharmacoGx.Rcheck/tests/testthat.Rout
R version 3.5.3 (2019-03-11) -- "Great Truth"
Copyright (C) 2019 The R Foundation for Statistical Computing
Platform: x86_64-pc-linux-gnu (64-bit)
R is free software and comes with ABSOLUTELY NO WARRANTY.
You are welcome to redistribute it under certain conditions.
Type 'license()' or 'licence()' for distribution details.
R is a collaborative project with many contributors.
Type 'contributors()' for more information and
'citation()' on how to cite R or R packages in publications.
Type 'demo()' for some demos, 'help()' for on-line help, or
'help.start()' for an HTML browser interface to help.
Type 'q()' to quit R.
> Sys.unsetenv("R_TESTS")
>
> library(testthat)
> library(PharmacoGx)
>
> test_check("PharmacoGx")
[1] NA 3
[1] 1 2 Inf
[1] NA 3
[1] 1 2 Inf
|
| | 0%
|
|======================================================================| 100%
|
| | 0%
|
|======================================================================| 100%
[1] "Model did not converge"
0 1
8 1
[1] "Model did not converge"
0 1
8 1
[1] "Model did not converge"
0 1
8 1
[1] "Model did not converge"
0 1
8 1
[1] "Model did not converge"
0 1
8 1
[1] "Model did not converge"
0 1
8 1
[1] "Model did not converge"
0 1
8 1
[1] "Model did not converge"
0 1
8 1
[1] "Model did not converge"
0 1
8 1
[1] "Model did not converge"
0 1
8 1
[1] "Model did not converge"
0 1
8 1
[1] "Model did not converge"
0 1
8 1
[1] "Model did not converge"
0 1
8 1
[1] "Model did not converge"
0 1
8 1
[1] "Model did not converge"
0 1
8 1
[1] "Model did not converge"
0 1
8 1
[1] "Model did not converge"
0 1
8 1
[1] "Model did not converge"
0 1
8 1
[1] "Model did not converge"
0 1
8 1
[1] "Model did not converge"
0 1
8 1
[1] "Model did not converge"
0 1
8 1
[1] "Model did not converge"
0 1
8 1
[1] "Model did not converge"
0 1
8 1
[1] "Model did not converge"
0 1
8 1
[1] "Model did not converge"
0 1
8 1
[1] "Model did not converge"
0 1
8 1
[1] "Model did not converge"
0 1
8 1
[1] "Model did not converge"
0 1
8 1
[1] "Model did not converge"
0 1
8 1
[1] "Model did not converge"
0 1
8 1
[1] "Model did not converge"
0 1
8 1
[1] "Model did not converge"
0 1
8 1
[1] "Model did not converge"
0 1
8 1
[1] "Model did not converge"
0 1
8 1
[1] "Model did not converge"
0 1
8 1
[1] "Model did not converge"
0 1
8 1
[1] "Model did not converge"
0 1
8 1
[1] "Model did not converge"
0 1
8 1
[1] "Model did not converge"
0 1
8 1
[1] "Model did not converge"
0 1
8 1
[1] "Model did not converge"
0 1
8 1
[1] "Model did not converge"
0 1
8 1
[1] "Model did not converge"
0 1
8 1
[1] "Model did not converge"
0 1
8 1
[1] "Model did not converge"
0 1
8 1
[1] "Model did not converge"
0 1
8 1
[1] "Model did not converge"
0 1
8 1
[1] "Model did not converge"
0 1
8 1
[1] "Model did not converge"
0 1
8 1
[1] "Model did not converge"
0 1
8 1
[1] "Model did not converge"
0 1
2 7
[1] "Model did not converge"
0 1
2 7
[1] "Model did not converge"
0 1
2 7
[1] "Model did not converge"
0 1
2 7
[1] "Model did not converge"
0 1
2 7
[1] "Model did not converge"
0 1
2 7
[1] "Model did not converge"
0 1
2 7
[1] "Model did not converge"
0 1
2 7
[1] "Model did not converge"
0 1
2 7
[1] "Model did not converge"
0 1
2 7
[1] "Model did not converge"
0 1
2 7
[1] "Model did not converge"
0 1
2 7
[1] "Model did not converge"
0 1
2 7
[1] "Model did not converge"
0 1
2 7
[1] "Model did not converge"
0 1
2 7
[1] "Model did not converge"
0 1
2 7
[1] "Model did not converge"
0 1
2 7
[1] "Model did not converge"
0 1
2 7
[1] "Model did not converge"
0 1
2 7
[1] "Model did not converge"
0 1
2 7
[1] "Model did not converge"
0 1
2 7
[1] "Model did not converge"
0 1
2 7
[1] "Model did not converge"
0 1
2 7
[1] "Model did not converge"
0 1
2 7
[1] "Model did not converge"
0 1
2 7
[1] "Model did not converge"
0 1
2 7
[1] "Model did not converge"
0 1
2 7
[1] "Model did not converge"
0 1
2 7
[1] "Model did not converge"
0 1
6 3
[1] "Model did not converge"
0 1
6 3
[1] "Model did not converge"
0 1
6 3
[1] "Model did not converge"
0 1
6 3
[1] "Model did not converge"
0 1
6 3
[1] "Model did not converge"
0 1
6 3
[1] "Model did not converge"
0 1
6 3
[1] "Model did not converge"
0 1
6 3
[1] "Model did not converge"
0 1
6 3
[1] "Model did not converge"
0 1
6 3
[1] "Model did not converge"
0 1
6 3
[1] "Model did not converge"
0 1
6 3
[1] "Model did not converge"
0 1
6 3
[1] "Model did not converge"
0 1
6 3
[1] "Model did not converge"
0 1
6 3
[1] "Model did not converge"
0 1
6 3
[1] "Model did not converge"
0 1
6 3
[1] "Model did not converge"
0 1
6 3
[1] "Model did not converge"
0 1
6 3
[1] "Model did not converge"
0 1
6 3
[1] "Model did not converge"
0 1
6 3
[1] "Model did not converge"
0 1
6 3
[1] "Model did not converge"
0 1
6 3
[1] "Model did not converge"
0 1
6 3
[1] "Model did not converge"
0 1
6 3
[1] "Model did not converge"
0 1
6 3
[1] "Model did not converge"
0 1
6 3
[1] "Model did not converge"
0 1
6 3
[1] "Model did not converge"
0 1
6 3
[1] "Model did not converge"
0 1
6 3
[1] "Model did not converge"
0 1
6 3
[1] "Model did not converge"
0 1
6 3
[1] "Model did not converge"
0 1
6 3
[1] "Model did not converge"
0 1
6 3
[1] "Model did not converge"
0 1
6 3
[1] "Model did not converge"
0 1
6 3
[1] "Model did not converge"
0 1
6 3
[1] "Model did not converge"
0 1
6 3
[1] "Model did not converge"
0 1
6 3
[1] "Model did not converge"
0 1
6 3
[1] "Model did not converge"
0 1
6 3
[1] "Model did not converge"
0 1
6 3
[1] "Model did not converge"
0 1
6 3
[1] "Model did not converge"
0 1
6 3
[1] "Model did not converge"
0 1
6 3
[1] "Model did not converge"
0 1
6 3
[1] "Model did not converge"
0 1
6 3
[1] "Model did not converge"
0 1
6 3
[1] "Model did not converge"
0 1
6 3
[1] "Model did not converge"
0 1
6 3
[1] "Model did not converge"
0 1
8 1
[1] "Model did not converge"
0 1
8 1
[1] "Model did not converge"
0 1
8 1
[1] "Model did not converge"
0 1
8 1
[1] "Model did not converge"
0 1
8 1
[1] "Model did not converge"
0 1
8 1
[1] "Model did not converge"
0 1
8 1
[1] "Model did not converge"
0 1
8 1
[1] "Model did not converge"
0 1
8 1
[1] "Model did not converge"
0 1
8 1
[1] "Model did not converge"
0 1
8 1
[1] "Model did not converge"
0 1
8 1
[1] "Model did not converge"
0 1
8 1
[1] "Model did not converge"
0 1
8 1
[1] "Model did not converge"
0 1
8 1
[1] "Model did not converge"
0 1
8 1
[1] "Model did not converge"
0 1
8 1
[1] "Model did not converge"
0 1
8 1
[1] "Model did not converge"
0 1
8 1
[1] "Model did not converge"
0 1
8 1
[1] "Model did not converge"
0 1
8 1
[1] "Model did not converge"
0 1
8 1
[1] "Model did not converge"
0 1
8 1
[1] "Model did not converge"
0 1
8 1
[1] "Model did not converge"
0 1
8 1
[1] "Model did not converge"
0 1
8 1
[1] "Model did not converge"
0 1
8 1
[1] "Model did not converge"
0 1
8 1
[1] "Model did not converge"
0 1
8 1
[1] "Model did not converge"
0 1
8 1
[1] "Model did not converge"
0 1
8 1
[1] "Model did not converge"
0 1
8 1
[1] "Model did not converge"
0 1
8 1
[1] "Model did not converge"
0 1
8 1
[1] "Model did not converge"
0 1
8 1
[1] "Model did not converge"
0 1
8 1
[1] "Model did not converge"
0 1
8 1
[1] "Model did not converge"
0 1
8 1
[1] "Model did not converge"
0 1
8 1
[1] "Model did not converge"
0 1
8 1
[1] "Model did not converge"
0 1
8 1
[1] "Model did not converge"
0 1
8 1
[1] "Model did not converge"
0 1
8 1
[1] "Model did not converge"
0 1
8 1
[1] "Model did not converge"
0 1
8 1
[1] "Model did not converge"
0 1
8 1
[1] "Model did not converge"
0 1
8 1
[1] "Model did not converge"
0 1
8 1
[1] "Model did not converge"
0 1
8 1
[1] "Model did not converge"
0 1
8 1
[1] "Model did not converge"
0 1
3 6
[1] "Model did not converge"
0 1
3 6
[1] "Model did not converge"
0 1
3 6
[1] "Model did not converge"
0 1
3 6
[1] "Model did not converge"
0 1
3 6
[1] "Model did not converge"
0 1
3 6
[1] "Model did not converge"
0 1
3 6
[1] "Model did not converge"
0 1
3 6
[1] "Model did not converge"
0 1
3 6
[1] "Model did not converge"
0 1
3 6
[1] "Model did not converge"
0 1
3 6
[1] "Model did not converge"
0 1
3 6
[1] "Model did not converge"
0 1
3 6
[1] "Model did not converge"
0 1
3 6
[1] "Model did not converge"
0 1
3 6
[1] "Model did not converge"
0 1
3 6
[1] "Model did not converge"
0 1
3 6
[1] "Model did not converge"
0 1
3 6
[1] "Model did not converge"
0 1
3 6
[1] "Model did not converge"
0 1
1 8
[1] "Model did not converge"
0 1
1 8
[1] "Model did not converge"
0 1
1 8
[1] "Model did not converge"
0 1
1 8
[1] "Model did not converge"
0 1
1 8
[1] "Model did not converge"
0 1
1 8
[1] "Model did not converge"
0 1
1 8
[1] "Model did not converge"
0 1
1 8
[1] "Model did not converge"
0 1
1 8
[1] "Model did not converge"
0 1
1 8
[1] "Model did not converge"
0 1
1 8
[1] "Model did not converge"
0 1
1 8
[1] "Model did not converge"
0 1
1 8
[1] "Model did not converge"
0 1
1 8
[1] "Model did not converge"
0 1
1 8
[1] "Model did not converge"
0 1
1 8
[1] "Model did not converge"
0 1
1 8
[1] "Model did not converge"
0 1
1 8
[1] "Model did not converge"
0 1
1 8
[1] "Model did not converge"
0 1
1 8
[1] "Model did not converge"
0 1
1 8
[1] "Model did not converge"
0 1
1 8
[1] "Model did not converge"
0 1
1 8
[1] "Model did not converge"
0 1
1 8
[1] "Model did not converge"
0 1
1 8
[1] "Model did not converge"
0 1
1 8
[1] "Model did not converge"
0 1
1 8
[1] "Model did not converge"
0 1
1 8
[1] "Model did not converge"
0 1
1 8
[1] "Model did not converge"
0 1
1 8
[1] "Model did not converge"
0 1
1 8
[1] "Model did not converge"
0 1
1 8
[1] "Model did not converge"
0 1
1 8
[1] "Model did not converge"
0 1
1 8
[1] "Model did not converge"
0 1
1 8
[1] "Model did not converge"
0 1
1 8
[1] "Model did not converge"
0 1
1 8
[1] "Model did not converge"
0 1
8 1
[1] "Model did not converge"
0 1
8 1
[1] "Model did not converge"
0 1
8 1
[1] "Model did not converge"
0 1
8 1
[1] "Model did not converge"
0 1
8 1
[1] "Model did not converge"
0 1
8 1
[1] "Model did not converge"
0 1
8 1
[1] "Model did not converge"
0 1
8 1
[1] "Model did not converge"
0 1
8 1
[1] "Model did not converge"
0 1
8 1
[1] "Model did not converge"
0 1
8 1
[1] "Model did not converge"
0 1
8 1
[1] "Model did not converge"
0 1
8 1
[1] "Model did not converge"
0 1
8 1
[1] "Model did not converge"
0 1
8 1
[1] "Model did not converge"
0 1
8 1
[1] "Model did not converge"
0 1
8 1
[1] "Model did not converge"
0 1
8 1
[1] "Model did not converge"
0 1
8 1
[1] "Model did not converge"
0 1
8 1
[1] "Model did not converge"
0 1
8 1
[1] "Model did not converge"
0 1
8 1
[1] "Model did not converge"
0 1
8 1
[1] "Model did not converge"
0 1
8 1
[1] "Model did not converge"
0 1
8 1
[1] "Model did not converge"
0 1
8 1
[1] "Model did not converge"
0 1
8 1
[1] "Model did not converge"
0 1
8 1
[1] "Model did not converge"
0 1
8 1
[1] "Model did not converge"
0 1
8 1
[1] "Model did not converge"
0 1
8 1
[1] "Model did not converge"
0 1
8 1
[1] "Model did not converge"
0 1
8 1
[1] "Model did not converge"
0 1
8 1
[1] "Model did not converge"
0 1
8 1
[1] "Model did not converge"
0 1
8 1
[1] "Model did not converge"
0 1
8 1
[1] "Model did not converge"
0 1
1 8
[1] "Model did not converge"
0 1
1 8
[1] "Model did not converge"
0 1
1 8
[1] "Model did not converge"
0 1
1 8
[1] "Model did not converge"
0 1
1 8
[1] "Model did not converge"
0 1
1 8
[1] "Model did not converge"
0 1
1 8
[1] "Model did not converge"
0 1
1 8
[1] "Model did not converge"
0 1
1 8
[1] "Model did not converge"
0 1
1 8
[1] "Model did not converge"
0 1
1 8
[1] "Model did not converge"
0 1
1 8
[1] "Model did not converge"
0 1
1 8
[1] "Model did not converge"
0 1
1 8
[1] "Model did not converge"
0 1
1 8
[1] "Model did not converge"
0 1
1 8
[1] "Model did not converge"
0 1
1 8
[1] "Model did not converge"
0 1
1 8
[1] "Model did not converge"
0 1
1 8
[1] "Model did not converge"
0 1
1 8
[1] "Model did not converge"
0 1
1 8
[1] "Model did not converge"
0 1
1 8
[1] "Model did not converge"
0 1
1 8
[1] "Model did not converge"
0 1
1 8
[1] "Model did not converge"
0 1
1 8
[1] "Model did not converge"
0 1
1 8
[1] "Model did not converge"
0 1
1 8
[1] "Model did not converge"
0 1
1 8
[1] "Model did not converge"
0 1
1 8
[1] "Model did not converge"
0 1
1 8
[1] "Model did not converge"
0 1
1 8
[1] "Model did not converge"
0 1
1 8
[1] "Model did not converge"
0 1
1 8
[1] "Model did not converge"
0 1
1 8
[1] "Model did not converge"
0 1
1 8
[1] "Model did not converge"
0 1
1 8
[1] "Model did not converge"
0 1
1 8
[1] "Model did not converge"
0 1
7 2
[1] "Model did not converge"
0 1
7 2
[1] "Model did not converge"
0 1
7 2
[1] "Model did not converge"
0 1
7 2
[1] "Model did not converge"
0 1
7 2
[1] "Model did not converge"
0 1
7 2
[1] "Model did not converge"
0 1
7 2
[1] "Model did not converge"
0 1
7 2
[1] "Model did not converge"
0 1
7 2
[1] "Model did not converge"
0 1
7 2
[1] "Model did not converge"
0 1
7 2
[1] "Model did not converge"
0 1
7 2
[1] "Model did not converge"
0 1
7 2
[1] "Model did not converge"
0 1
7 2
[1] "Model did not converge"
0 1
7 2
[1] "Model did not converge"
0 1
7 2
[1] "Model did not converge"
0 1
7 2
[1] "Model did not converge"
0 1
7 2
[1] "Model did not converge"
0 1
7 2
[1] "Model did not converge"
0 1
7 2
[1] "Model did not converge"
0 1
7 2
[1] "Model did not converge"
0 1
7 2
[1] "Model did not converge"
0 1
7 2
[1] "Model did not converge"
0 1
7 2
[1] "Model did not converge"
0 1
7 2
[1] "Model did not converge"
0 1
7 2
[1] "Model did not converge"
0 1
7 2
[1] "Model did not converge"
0 1
7 2
[1] "Model did not converge"
0 1
7 2
[1] "Model did not converge"
0 1
7 2
[1] "Model did not converge"
0 1
7 2
[1] "Model did not converge"
0 1
7 2
[1] "Model did not converge"
0 1
7 2
[1] "Model did not converge"
0 1
7 2
[1] "Model did not converge"
0 1
7 2
[1] "Model did not converge"
0 1
7 2
[1] "Model did not converge"
0 1
7 2
[1] "Model did not converge"
0 1
7 2
[1] "Model did not converge"
0 1
7 2
[1] "Model did not converge"
0 1
7 2
[1] "Model did not converge"
0 1
7 2
[1] "Model did not converge"
0 1
7 2
[1] "Model did not converge"
0 1
7 2
[1] "Model did not converge"
0 1
7 2
[1] "Model did not converge"
0 1
7 2
[1] "Model did not converge"
0 1
7 2
[1] "Model did not converge"
0 1
7 2
[1] "Model did not converge"
0 1
7 2
[1] "Model did not converge"
0 1
7 2
[1] "Model did not converge"
0 1
7 2
[1] "Model did not converge"
0 1
7 2
[1] "Model did not converge"
0 1
7 2
[1] "Model did not converge"
0 1
7 2
[1] "Model did not converge"
0 1
7 2
[1] "Model did not converge"
0 1
7 2
[1] "Model did not converge"
0 1
7 2
[1] "Model did not converge"
0 1
7 2
[1] "Model did not converge"
0 1
7 2
[1] "Model did not converge"
0 1
7 2
[1] "Model did not converge"
0 1
7 2
[1] "Model did not converge"
0 1
7 2
[1] "Model did not converge"
0 1
7 2
[1] "Model did not converge"
0 1
7 2
[1] "Model did not converge"
0 1
7 2
[1] "Model did not converge"
0 1
7 2
[1] "Model did not converge"
0 1
7 2
[1] "Model did not converge"
0 1
7 2
[1] "Model did not converge"
0 1
7 2
[1] "Model did not converge"
0 1
7 2
[1] "Model did not converge"
0 1
7 2
[1] "Model did not converge"
0 1
7 2
[1] "Model did not converge"
0 1
7 2
[1] "Model did not converge"
0 1
7 2
[1] "Model did not converge"
0 1
7 2
[1] "Model did not converge"
0 1
7 2
[1] "Model did not converge"
0 1
7 2
[1] "Model did not converge"
0 1
7 2
[1] "Model did not converge"
0 1
7 2
[1] "Model did not converge"
0 1
7 2
[1] "Model did not converge"
0 1
7 2
[1] "Model did not converge"
0 1
7 2
[1] "Model did not converge"
0 1
7 2
[1] "Model did not converge"
0 1
7 2
[1] "Model did not converge"
0 1
7 2
[1] "Model did not converge"
0 1
7 2
[1] "Model did not converge"
0 1
7 2
[1] "Model did not converge"
0 1
7 2
[1] "Model did not converge"
0 1
7 2
[1] "Model did not converge"
0 1
7 2
[1] "Model did not converge"
0 1
7 2
[1] "Model did not converge"
0 1
7 2
[1] "Model did not converge"
0 1
7 2
[1] "Model did not converge"
0 1
7 2
[1] "Model did not converge"
0 1
7 2
[1] "Model did not converge"
0 1
7 2
[1] "Model did not converge"
0 1
7 2
[1] "Model did not converge"
0 1
7 2
[1] "Model did not converge"
0 1
7 2
[1] "Model did not converge"
0 1
7 2
[1] "Model did not converge"
0 1
7 2
[1] "Model did not converge"
0 1
6 3
[1] "Model did not converge"
0 1
6 3
[1] "Model did not converge"
0 1
6 3
[1] "Model did not converge"
0 1
6 3
[1] "Model did not converge"
0 1
6 3
[1] "Model did not converge"
0 1
6 3
[1] "Model did not converge"
0 1
6 3
[1] "Model did not converge"
0 1
6 3
[1] "Model did not converge"
0 1
6 3
[1] "Model did not converge"
0 1
6 3
[1] "Model did not converge"
0 1
6 3
[1] "Model did not converge"
0 1
6 3
[1] "Model did not converge"
0 1
6 3
[1] "Model did not converge"
0 1
6 3
[1] "Model did not converge"
0 1
6 3
[1] "Model did not converge"
0 1
6 3
[1] "Model did not converge"
0 1
6 3
[1] "Model did not converge"
0 1
6 3
[1] "Model did not converge"
0 1
6 3
[1] "Model did not converge"
0 1
6 3
[1] "Model did not converge"
0 1
6 3
[1] "Model did not converge"
0 1
6 3
[1] "Model did not converge"
0 1
3 6
[1] "Model did not converge"
0 1
3 6
[1] "Model did not converge"
0 1
3 6
[1] "Model did not converge"
0 1
3 6
[1] "Model did not converge"
0 1
3 6
[1] "Model did not converge"
0 1
3 6
[1] "Model did not converge"
0 1
3 6
[1] "Model did not converge"
0 1
3 6
[1] "Model did not converge"
0 1
3 6
[1] "Model did not converge"
0 1
3 6
[1] "Model did not converge"
0 1
3 6
[1] "Model did not converge"
0 1
3 6
[1] "Model did not converge"
0 1
3 6
[1] "Model did not converge"
0 1
3 6
[1] "Model did not converge"
0 1
3 6
[1] "Model did not converge"
0 1
3 6
[1] "Model did not converge"
0 1
3 6
[1] "Model did not converge"
0 1
3 6
[1] "Model did not converge"
0 1
3 6
[1] "Model did not converge"
0 1
3 6
[1] "Model did not converge"
0 1
3 6
[1] "Model did not converge"
0 1
3 6
[1] "Model did not converge"
0 1
3 6
[1] "Model did not converge"
0 1
3 6
[1] "Model did not converge"
0 1
3 6
[1] "Model did not converge"
0 1
3 6
[1] "Model did not converge"
0 1
3 6
[1] "Model did not converge"
0 1
3 6
[1] "Model did not converge"
0 1
4 5
[1] "Model did not converge"
0 1
4 5
[1] "Model did not converge"
0 1
4 5
[1] "Model did not converge"
0 1
4 5
[1] "Model did not converge"
0 1
4 5
[1] "Model did not converge"
0 1
4 5
[1] "Model did not converge"
0 1
4 5
[1] "Model did not converge"
0 1
4 5
[1] "Model did not converge"
0 1
4 5
[1] "Model did not converge"
0 1
4 5
[1] "Model did not converge"
0 1
4 5
[1] "Model did not converge"
0 1
4 5
[1] "Model did not converge"
0 1
4 5
[1] "Model did not converge"
0 1
4 5
[1] "Model did not converge"
0 1
4 5
[1] "Model did not converge"
0 1
4 5
[1] "Model did not converge"
0 1
4 5
[1] "Model did not converge"
0 1
4 5
[1] "Model did not converge"
0 1
4 5
[1] "Model did not converge"
0 1
4 5
[1] "Model did not converge"
0 1
4 5
[1] "Model did not converge"
0 1
4 5
[1] "Model did not converge"
0 1
4 5
[1] "Model did not converge"
0 1
4 5
[1] "Model did not converge"
0 1
4 5
[1] "Model did not converge"
0 1
4 5
[1] "Model did not converge"
0 1
4 5
[1] "Model did not converge"
0 1
4 5
[1] "Model did not converge"
0 1
4 5
[1] "Model did not converge"
0 1
4 5
[1] "Model did not converge"
0 1
4 5
[1] "Model did not converge"
0 1
4 5
[1] "Model did not converge"
0 1
4 5
[1] "Model did not converge"
0 1
4 5
[1] "Model did not converge"
0 1
4 5
[1] "Model did not converge"
0 1
4 5
[1] "Model did not converge"
0 1
4 5
[1] "Model did not converge"
0 1
5 4
[1] "Model did not converge"
0 1
5 4
[1] "Model did not converge"
0 1
5 4
[1] "Model did not converge"
0 1
5 4
[1] "Model did not converge"
0 1
5 4
[1] "Model did not converge"
0 1
5 4
[1] "Model did not converge"
0 1
5 4
[1] "Model did not converge"
0 1
5 4
[1] "Model did not converge"
0 1
5 4
[1] "Model did not converge"
0 1
5 4
[1] "Model did not converge"
0 1
5 4
[1] "Model did not converge"
0 1
5 4
[1] "Model did not converge"
0 1
5 4
[1] "Model did not converge"
0 1
5 4
[1] "Model did not converge"
0 1
5 4
[1] "Model did not converge"
0 1
5 4
[1] "Model did not converge"
0 1
5 4
[1] "Model did not converge"
0 1
5 4
[1] "Model did not converge"
0 1
5 4
[1] "Model did not converge"
0 1
5 4
[1] "Model did not converge"
0 1
5 4
[1] "Model did not converge"
0 1
5 4
[1] "Model did not converge"
0 1
5 4
[1] "Model did not converge"
0 1
5 4
[1] "Model did not converge"
0 1
5 4
[1] "Model did not converge"
0 1
5 4
[1] "Model did not converge"
0 1
5 4
[1] "Model did not converge"
0 1
5 4
[1] "Model did not converge"
0 1
8 1
[1] "Model did not converge"
0 1
8 1
[1] "Model did not converge"
0 1
8 1
[1] "Model did not converge"
0 1
8 1
[1] "Model did not converge"
0 1
8 1
[1] "Model did not converge"
0 1
8 1
[1] "Model did not converge"
0 1
8 1
[1] "Model did not converge"
0 1
8 1
[1] "Model did not converge"
0 1
8 1
[1] "Model did not converge"
0 1
8 1
[1] "Model did not converge"
0 1
8 1
[1] "Model did not converge"
0 1
8 1
[1] "Model did not converge"
0 1
8 1
[1] "Model did not converge"
0 1
8 1
[1] "Model did not converge"
0 1
8 1
[1] "Model did not converge"
0 1
8 1
[1] "Model did not converge"
0 1
8 1
[1] "Model did not converge"
0 1
8 1
[1] "Model did not converge"
0 1
8 1
[1] "Model did not converge"
0 1
8 1
[1] "Model did not converge"
0 1
8 1
[1] "Model did not converge"
0 1
8 1
[1] "Model did not converge"
0 1
8 1
[1] "Model did not converge"
0 1
8 1
[1] "Model did not converge"
0 1
8 1
[1] "Model did not converge"
0 1
8 1
[1] "Model did not converge"
0 1
8 1
[1] "Model did not converge"
0 1
8 1
[1] "Model did not converge"
0 1
8 1
[1] "Model did not converge"
0 1
8 1
[1] "Model did not converge"
0 1
8 1
[1] "Model did not converge"
0 1
8 1
[1] "Model did not converge"
0 1
8 1
[1] "Model did not converge"
0 1
8 1
[1] "Model did not converge"
0 1
8 1
[1] "Model did not converge"
0 1
8 1
[1] "Model did not converge"
0 1
8 1
[1] "Model did not converge"
0 1
8 1
[1] "Model did not converge"
0 1
8 1
[1] "Model did not converge"
0 1
8 1
[1] "Model did not converge"
0 1
8 1
[1] "Model did not converge"
0 1
8 1
[1] "Model did not converge"
0 1
8 1
[1] "Model did not converge"
0 1
8 1
[1] "Model did not converge"
0 1
8 1
[1] "Model did not converge"
0 1
8 1
[1] "Model did not converge"
0 1
8 1
[1] "Model did not converge"
0 1
8 1
[1] "Model did not converge"
0 1
8 1
[1] "Model did not converge"
0 1
8 1
[1] "Model did not converge"
0 1
8 1
[1] "Model did not converge"
0 1
8 1
[1] "Model did not converge"
0 1
8 1
[1] "Model did not converge"
0 1
8 1
[1] "Model did not converge"
0 1
8 1
[1] "Model did not converge"
0 1
8 1
[1] "Model did not converge"
0 1
8 1
[1] "Model did not converge"
0 1
8 1
[1] "Model did not converge"
0 1
8 1
[1] "Model did not converge"
0 1
8 1
[1] "Model did not converge"
0 1
8 1
[1] "Model did not converge"
0 1
8 1
[1] "Model did not converge"
0 1
8 1
[1] "Model did not converge"
0 1
8 1
[1] "Model did not converge"
0 1
8 1
[1] "Model did not converge"
0 1
8 1
[1] "Model did not converge"
0 1
8 1
[1] "Model did not converge"
0 1
8 1
[1] "Model did not converge"
0 1
8 1
[1] "Model did not converge"
0 1
8 1
[1] "Model did not converge"
0 1
8 1
[1] "Model did not converge"
0 1
8 1
[1] "Model did not converge"
0 1
8 1
[1] "Model did not converge"
0 1
8 1
[1] "Model did not converge"
0 1
8 1
[1] "Model did not converge"
0 1
8 1
[1] "Model did not converge"
0 1
8 1
[1] "Model did not converge"
0 1
8 1
[1] "Model did not converge"
0 1
8 1
[1] "Model did not converge"
0 1
8 1
[1] "Model did not converge"
0 1
8 1
[1] "Model did not converge"
0 1
8 1
[1] "Model did not converge"
0 1
8 1
[1] "Model did not converge"
0 1
8 1
[1] "Model did not converge"
0 1
8 1
[1] "Model did not converge"
0 1
8 1
[1] "Model did not converge"
0 1
8 1
[1] "Model did not converge"
0 1
7 2
[1] "Model did not converge"
0 1
7 2
[1] "Model did not converge"
0 1
7 2
[1] "Model did not converge"
0 1
7 2
[1] "Model did not converge"
0 1
7 2
[1] "Model did not converge"
0 1
7 2
[1] "Model did not converge"
0 1
7 2
[1] "Model did not converge"
0 1
7 2
[1] "Model did not converge"
0 1
7 2
[1] "Model did not converge"
0 1
7 2
[1] "Model did not converge"
0 1
7 2
[1] "Model did not converge"
0 1
7 2
[1] "Model did not converge"
0 1
7 2
[1] "Model did not converge"
0 1
7 2
[1] "Model did not converge"
0 1
7 2
[1] "Model did not converge"
0 1
7 2
[1] "Model did not converge"
0 1
7 2
[1] "Model did not converge"
0 1
7 2
[1] "Model did not converge"
0 1
7 2
[1] "Model did not converge"
0 1
7 2
[1] "Model did not converge"
0 1
7 2
[1] "Model did not converge"
0 1
7 2
[1] "Model did not converge"
0 1
2 7
[1] "Model did not converge"
0 1
2 7
[1] "Model did not converge"
0 1
2 7
[1] "Model did not converge"
0 1
2 7
[1] "Model did not converge"
0 1
2 7
[1] "Model did not converge"
0 1
2 7
[1] "Model did not converge"
0 1
2 7
[1] "Model did not converge"
0 1
2 7
[1] "Model did not converge"
0 1
2 7
[1] "Model did not converge"
0 1
2 7
[1] "Model did not converge"
0 1
2 7
[1] "Model did not converge"
0 1
2 7
[1] "Model did not converge"
0 1
2 7
[1] "Model did not converge"
0 1
2 7
[1] "Model did not converge"
0 1
2 7
[1] "Model did not converge"
0 1
2 7
[1] "Model did not converge"
0 1
2 7
[1] "Model did not converge"
0 1
2 7
[1] "Model did not converge"
0 1
2 7
[1] "Model did not converge"
0 1
2 7
[1] "Model did not converge"
0 1
2 7
[1] "Model did not converge"
0 1
2 7
[1] "Model did not converge"
0 1
2 7
[1] "Model did not converge"
0 1
2 7
[1] "Model did not converge"
0 1
2 7
[1] "Model did not converge"
0 1
2 7
[1] "Model did not converge"
0 1
2 7
[1] "Model did not converge"
0 1
2 7
[1] "Model did not converge"
0 1
2 7
[1] "Model did not converge"
0 1
2 7
[1] "Model did not converge"
0 1
2 7
[1] "Model did not converge"
0 1
2 7
[1] "Model did not converge"
0 1
2 7
[1] "Model did not converge"
0 1
2 7
[1] "Model did not converge"
0 1
2 7
[1] "Model did not converge"
0 1
2 7
[1] "Model did not converge"
0 1
2 7
[1] "Model did not converge"
0 1
7 2
[1] "Model did not converge"
0 1
7 2
[1] "Model did not converge"
0 1
7 2
[1] "Model did not converge"
0 1
7 2
[1] "Model did not converge"
0 1
7 2
[1] "Model did not converge"
0 1
7 2
[1] "Model did not converge"
0 1
7 2
[1] "Model did not converge"
0 1
7 2
[1] "Model did not converge"
0 1
7 2
[1] "Model did not converge"
0 1
7 2
[1] "Model did not converge"
0 1
7 2
[1] "Model did not converge"
0 1
7 2
[1] "Model did not converge"
0 1
7 2
[1] "Model did not converge"
0 1
7 2
[1] "Model did not converge"
0 1
7 2
[1] "Model did not converge"
0 1
7 2
[1] "Model did not converge"
0 1
7 2
[1] "Model did not converge"
0 1
7 2
[1] "Model did not converge"
0 1
7 2
[1] "Model did not converge"
0 1
7 2
[1] "Model did not converge"
0 1
7 2
[1] "Model did not converge"
0 1
7 2
[1] "Model did not converge"
0 1
7 2
[1] "Model did not converge"
0 1
7 2
[1] "Model did not converge"
0 1
7 2
[1] "Model did not converge"
0 1
7 2
[1] "Model did not converge"
0 1
7 2
[1] "Model did not converge"
0 1
7 2
[1] "Model did not converge"
0 1
7 2
[1] "Model did not converge"
0 1
7 2
[1] "Model did not converge"
0 1
7 2
[1] "Model did not converge"
0 1
7 2
[1] "Model did not converge"
0 1
7 2
[1] "Model did not converge"
0 1
7 2
[1] "Model did not converge"
0 1
7 2
[1] "Model did not converge"
0 1
7 2
[1] "Model did not converge"
0 1
7 2
[1] "Model did not converge"
0 1
7 2
[1] "Model did not converge"
0 1
7 2
[1] "Model did not converge"
0 1
7 2
[1] "Model did not converge"
0 1
7 2
[1] "Model did not converge"
0 1
7 2
[1] "Model did not converge"
0 1
7 2
[1] "Model did not converge"
0 1
7 2
[1] "Model did not converge"
0 1
7 2
[1] "Model did not converge"
0 1
7 2
[1] "Model did not converge"
0 1
7 2
[1] "Model did not converge"
0 1
7 2
[1] "Model did not converge"
0 1
7 2
[1] "Model did not converge"
0 1
7 2
[1] "Model did not converge"
0 1
2 7
[1] "Model did not converge"
0 1
2 7
[1] "Model did not converge"
0 1
2 7
[1] "Model did not converge"
0 1
2 7
[1] "Model did not converge"
0 1
2 7
[1] "Model did not converge"
0 1
2 7
[1] "Model did not converge"
0 1
2 7
[1] "Model did not converge"
0 1
2 7
[1] "Model did not converge"
0 1
2 7
[1] "Model did not converge"
0 1
2 7
[1] "Model did not converge"
0 1
2 7
[1] "Model did not converge"
0 1
2 7
[1] "Model did not converge"
0 1
2 7
[1] "Model did not converge"
0 1
2 7
[1] "Model did not converge"
0 1
2 7
[1] "Model did not converge"
0 1
2 7
[1] "Model did not converge"
0 1
4 5
[1] "Model did not converge"
0 1
4 5
[1] "Model did not converge"
0 1
4 5
[1] "Model did not converge"
0 1
4 5
[1] "Model did not converge"
0 1
4 5
[1] "Model did not converge"
0 1
4 5
[1] "Model did not converge"
0 1
4 5
[1] "Model did not converge"
0 1
4 5
[1] "Model did not converge"
0 1
4 5
[1] "Model did not converge"
0 1
4 5
[1] "Model did not converge"
0 1
4 5
[1] "Model did not converge"
0 1
4 5
[1] "Model did not converge"
0 1
4 5
[1] "Model did not converge"
0 1
4 5
[1] "Model did not converge"
0 1
4 5
[1] "Model did not converge"
0 1
4 5
[1] "Model did not converge"
0 1
4 5
[1] "Model did not converge"
0 1
4 5
[1] "Model did not converge"
0 1
4 5
[1] "Model did not converge"
0 1
4 5
[1] "Model did not converge"
0 1
4 5
[1] "Model did not converge"
0 1
4 5
[1] "Model did not converge"
0 1
4 5
[1] "Model did not converge"
0 1
4 5
[1] "Model did not converge"
0 1
4 5
[1] "Model did not converge"
0 1
4 5
[1] "Model did not converge"
0 1
4 5
[1] "Model did not converge"
0 1
4 5
[1] "Model did not converge"
0 1
4 5
[1] "Model did not converge"
0 1
4 5
[1] "Model did not converge"
0 1
4 5
[1] "Model did not converge"
0 1
4 5
[1] "Model did not converge"
0 1
4 5
[1] "Model did not converge"
0 1
4 5
[1] "Model did not converge"
0 1
4 5
[1] "Model did not converge"
0 1
4 5
[1] "Model did not converge"
0 1
4 5
[1] "Model did not converge"
0 1
5 4
[1] "Model did not converge"
0 1
5 4
[1] "Model did not converge"
0 1
5 4
[1] "Model did not converge"
0 1
5 4
[1] "Model did not converge"
0 1
5 4
[1] "Model did not converge"
0 1
5 4
[1] "Model did not converge"
0 1
5 4
[1] "Model did not converge"
0 1
5 4
[1] "Model did not converge"
0 1
5 4
[1] "Model did not converge"
0 1
5 4
[1] "Model did not converge"
0 1
5 4
[1] "Model did not converge"
0 1
5 4
[1] "Model did not converge"
0 1
5 4
[1] "Model did not converge"
0 1
5 4
[1] "Model did not converge"
0 1
5 4
[1] "Model did not converge"
0 1
5 4
[1] "Model did not converge"
0 1
5 4
[1] "Model did not converge"
0 1
5 4
[1] "Model did not converge"
0 1
5 4
[1] "Model did not converge"
0 1
5 4
[1] "Model did not converge"
0 1
5 4
[1] "Model did not converge"
0 1
5 4
[1] "Model did not converge"
0 1
5 4
[1] "Model did not converge"
0 1
5 4
[1] "Model did not converge"
0 1
5 4
[1] "Model did not converge"
0 1
5 4
[1] "Model did not converge"
0 1
5 4
[1] "Model did not converge"
0 1
5 4
[1] "Model did not converge"
0 1
5 4
[1] "Model did not converge"
0 1
5 4
[1] "Model did not converge"
0 1
5 4
[1] "Model did not converge"
0 1
5 4
[1] "Model did not converge"
0 1
5 4
[1] "Model did not converge"
0 1
5 4
[1] "Model did not converge"
0 1
5 4
[1] "Model did not converge"
0 1
5 4
[1] "Model did not converge"
0 1
5 4
[1] "Model did not converge"
0 1
8 1
[1] "Model did not converge"
0 1
8 1
[1] "Model did not converge"
0 1
8 1
[1] "Model did not converge"
0 1
8 1
[1] "Model did not converge"
0 1
8 1
[1] "Model did not converge"
0 1
8 1
[1] "Model did not converge"
0 1
8 1
[1] "Model did not converge"
0 1
8 1
[1] "Model did not converge"
0 1
8 1
[1] "Model did not converge"
0 1
8 1
[1] "Model did not converge"
0 1
8 1
[1] "Model did not converge"
0 1
8 1
[1] "Model did not converge"
0 1
8 1
[1] "Model did not converge"
0 1
8 1
[1] "Model did not converge"
0 1
8 1
[1] "Model did not converge"
0 1
8 1
[1] "Model did not converge"
0 1
8 1
[1] "Model did not converge"
0 1
8 1
[1] "Model did not converge"
0 1
8 1
[1] "Model did not converge"
0 1
8 1
[1] "Model did not converge"
0 1
8 1
[1] "Model did not converge"
0 1
8 1
[1] "Model did not converge"
0 1
8 1
[1] "Model did not converge"
0 1
8 1
[1] "Model did not converge"
0 1
8 1
[1] "Model did not converge"
0 1
8 1
[1] "Model did not converge"
0 1
8 1
[1] "Model did not converge"
0 1
8 1
[1] "Model did not converge"
0 1
8 1
[1] "Model did not converge"
0 1
8 1
[1] "Model did not converge"
0 1
8 1
[1] "Model did not converge"
0 1
8 1
[1] "Model did not converge"
0 1
8 1
[1] "Model did not converge"
0 1
8 1
[1] "Model did not converge"
0 1
8 1
[1] "Model did not converge"
0 1
8 1
[1] "Model did not converge"
0 1
8 1
[1] "Model did not converge"
0 1
1 8
[1] "Model did not converge"
0 1
1 8
[1] "Model did not converge"
0 1
1 8
[1] "Model did not converge"
0 1
1 8
[1] "Model did not converge"
0 1
1 8
[1] "Model did not converge"
0 1
1 8
[1] "Model did not converge"
0 1
1 8
[1] "Model did not converge"
0 1
1 8
[1] "Model did not converge"
0 1
1 8
[1] "Model did not converge"
0 1
1 8
[1] "Model did not converge"
0 1
1 8
[1] "Model did not converge"
0 1
1 8
[1] "Model did not converge"
0 1
1 8
[1] "Model did not converge"
0 1
1 8
[1] "Model did not converge"
0 1
1 8
[1] "Model did not converge"
0 1
1 8
[1] "Model did not converge"
0 1
1 8
[1] "Model did not converge"
0 1
1 8
[1] "Model did not converge"
0 1
1 8
[1] "Model did not converge"
0 1
1 8
[1] "Model did not converge"
0 1
1 8
[1] "Model did not converge"
0 1
1 8
[1] "Model did not converge"
0 1
1 8
[1] "Model did not converge"
0 1
1 8
[1] "Model did not converge"
0 1
1 8
[1] "Model did not converge"
0 1
1 8
[1] "Model did not converge"
0 1
1 8
[1] "Model did not converge"
0 1
1 8
[1] "Model did not converge"
0 1
1 8
[1] "Model did not converge"
0 1
1 8
[1] "Model did not converge"
0 1
1 8
[1] "Model did not converge"
0 1
1 8
[1] "Model did not converge"
0 1
1 8
[1] "Model did not converge"
0 1
1 8
[1] "Model did not converge"
0 1
1 8
[1] "Model did not converge"
0 1
1 8
[1] "Model did not converge"
0 1
1 8
[1] "Model did not converge"
0 1
3 6
[1] "Model did not converge"
0 1
3 6
[1] "Model did not converge"
0 1
3 6
[1] "Model did not converge"
0 1
3 6
[1] "Model did not converge"
0 1
3 6
[1] "Model did not converge"
0 1
3 6
[1] "Model did not converge"
0 1
3 6
[1] "Model did not converge"
0 1
3 6
[1] "Model did not converge"
0 1
3 6
[1] "Model did not converge"
0 1
3 6
[1] "Model did not converge"
0 1
3 6
[1] "Model did not converge"
0 1
3 6
[1] "Model did not converge"
0 1
3 6
[1] "Model did not converge"
0 1
3 6
[1] "Model did not converge"
0 1
3 6
[1] "Model did not converge"
0 1
3 6
[1] "Model did not converge"
0 1
3 6
[1] "Model did not converge"
0 1
3 6
[1] "Model did not converge"
0 1
3 6
[1] "Model did not converge"
0 1
3 6
[1] "Model did not converge"
0 1
3 6
[1] "Model did not converge"
0 1
3 6
[1] "Model did not converge"
0 1
3 6
[1] "Model did not converge"
0 1
3 6
[1] "Model did not converge"
0 1
3 6
[1] "Model did not converge"
0 1
3 6
[1] "Model did not converge"
0 1
3 6
[1] "Model did not converge"
0 1
3 6
[1] "Model did not converge"
0 1
8 1
[1] "Model did not converge"
0 1
8 1
[1] "Model did not converge"
0 1
8 1
[1] "Model did not converge"
0 1
8 1
[1] "Model did not converge"
0 1
8 1
[1] "Model did not converge"
0 1
8 1
[1] "Model did not converge"
0 1
8 1
[1] "Model did not converge"
0 1
8 1
[1] "Model did not converge"
0 1
8 1
[1] "Model did not converge"
0 1
8 1
[1] "Model did not converge"
0 1
8 1
[1] "Model did not converge"
0 1
8 1
[1] "Model did not converge"
0 1
8 1
[1] "Model did not converge"
0 1
8 1
[1] "Model did not converge"
0 1
8 1
[1] "Model did not converge"
0 1
8 1
[1] "Model did not converge"
0 1
8 1
[1] "Model did not converge"
0 1
8 1
[1] "Model did not converge"
0 1
8 1
[1] "Model did not converge"
0 1
8 1
[1] "Model did not converge"
0 1
8 1
[1] "Model did not converge"
0 1
8 1
[1] "Model did not converge"
0 1
8 1
[1] "Model did not converge"
0 1
8 1
[1] "Model did not converge"
0 1
8 1
[1] "Model did not converge"
0 1
8 1
[1] "Model did not converge"
0 1
8 1
[1] "Model did not converge"
0 1
8 1
[1] "Model did not converge"
0 1
8 1
[1] "Model did not converge"
0 1
8 1
[1] "Model did not converge"
0 1
8 1
[1] "Model did not converge"
0 1
8 1
[1] "Model did not converge"
0 1
8 1
[1] "Model did not converge"
0 1
8 1
[1] "Model did not converge"
0 1
8 1
[1] "Model did not converge"
0 1
8 1
[1] "Model did not converge"
0 1
8 1
[1] "Model did not converge"
0 1
6 3
[1] "Model did not converge"
0 1
6 3
[1] "Model did not converge"
0 1
6 3
[1] "Model did not converge"
0 1
6 3
[1] "Model did not converge"
0 1
6 3
[1] "Model did not converge"
0 1
6 3
[1] "Model did not converge"
0 1
6 3
[1] "Model did not converge"
0 1
6 3
[1] "Model did not converge"
0 1
6 3
[1] "Model did not converge"
0 1
6 3
[1] "Model did not converge"
0 1
6 3
[1] "Model did not converge"
0 1
6 3
[1] "Model did not converge"
0 1
6 3
[1] "Model did not converge"
0 1
6 3
[1] "Model did not converge"
0 1
6 3
[1] "Model did not converge"
0 1
6 3
[1] "Model did not converge"
0 1
6 3
[1] "Model did not converge"
0 1
6 3
[1] "Model did not converge"
0 1
6 3
[1] "Model did not converge"
0 1
6 3
[1] "Model did not converge"
0 1
6 3
[1] "Model did not converge"
0 1
6 3
[1] "Model did not converge"
0 1
6 3
[1] "Model did not converge"
0 1
6 3
[1] "Model did not converge"
0 1
6 3
[1] "Model did not converge"
0 1
6 3
[1] "Model did not converge"
0 1
6 3
[1] "Model did not converge"
0 1
6 3
[1] "Model did not converge"
0 1
6 3
[1] "Model did not converge"
0 1
6 3
[1] "Model did not converge"
0 1
6 3
[1] "Model did not converge"
0 1
6 3
[1] "Model did not converge"
0 1
6 3
[1] "Model did not converge"
0 1
6 3
[1] "Model did not converge"
0 1
6 3
[1] "Model did not converge"
0 1
6 3
[1] "Model did not converge"
0 1
6 3
[1] "Model did not converge"
0 1
4 5
[1] "Model did not converge"
0 1
4 5
[1] "Model did not converge"
0 1
4 5
[1] "Model did not converge"
0 1
4 5
[1] "Model did not converge"
0 1
4 5
[1] "Model did not converge"
0 1
4 5
[1] "Model did not converge"
0 1
4 5
[1] "Model did not converge"
0 1
4 5
[1] "Model did not converge"
0 1
4 5
[1] "Model did not converge"
0 1
4 5
[1] "Model did not converge"
0 1
4 5
[1] "Model did not converge"
0 1
4 5
[1] "Model did not converge"
0 1
5 4
[1] "Model did not converge"
0 1
5 4
[1] "Model did not converge"
0 1
5 4
[1] "Model did not converge"
0 1
5 4
[1] "Model did not converge"
0 1
5 4
[1] "Model did not converge"
0 1
5 4
[1] "Model did not converge"
0 1
5 4
[1] "Model did not converge"
0 1
5 4
[1] "Model did not converge"
0 1
5 4
[1] "Model did not converge"
0 1
5 4
[1] "Model did not converge"
0 1
5 4
[1] "Model did not converge"
0 1
5 4
[1] "Model did not converge"
0 1
5 4
[1] "Model did not converge"
0 1
5 4
[1] "Model did not converge"
0 1
5 4
[1] "Model did not converge"
0 1
5 4
[1] "Model did not converge"
0 1
5 4
[1] "Model did not converge"
0 1
5 4
[1] "Model did not converge"
0 1
5 4
[1] "Model did not converge"
0 1
5 4
[1] "Model did not converge"
0 1
5 4
[1] "Model did not converge"
0 1
5 4
[1] "Model did not converge"
0 1
5 4
[1] "Model did not converge"
0 1
5 4
[1] "Model did not converge"
0 1
5 4
[1] "Model did not converge"
0 1
5 4
[1] "Model did not converge"
0 1
5 4
[1] "Model did not converge"
0 1
5 4
[1] "Model did not converge"
0 1
5 4
[1] "Model did not converge"
0 1
5 4
[1] "Model did not converge"
0 1
5 4
[1] "Model did not converge"
0 1
5 4
[1] "Model did not converge"
0 1
5 4
[1] "Model did not converge"
0 1
5 4
[1] "Model did not converge"
0 1
5 4
[1] "Model did not converge"
0 1
5 4
[1] "Model did not converge"
0 1
5 4
[1] "Model did not converge"
0 1
5 4
[1] "Model did not converge"
0 1
5 4
[1] "Model did not converge"
0 1
5 4
[1] "Model did not converge"
0 1
5 4
[1] "Model did not converge"
0 1
5 4
[1] "Model did not converge"
0 1
5 4
[1] "Model did not converge"
0 1
5 4
[1] "Model did not converge"
0 1
5 4
[1] "Model did not converge"
0 1
5 4
[1] "Model did not converge"
0 1
5 4
[1] "Model did not converge"
0 1
5 4
[1] "Model did not converge"
0 1
5 4
[1] "Model did not converge"
0 1
5 4
[1] "Model did not converge"
0 1
5 4
[1] "Model did not converge"
0 1
5 4
[1] "Model did not converge"
0 1
5 4
[1] "Model did not converge"
0 1
5 4
[1] "Model did not converge"
0 1
5 4
[1] "Model did not converge"
0 1
5 4
[1] "Model did not converge"
0 1
5 4
[1] "Model did not converge"
0 1
5 4
[1] "Model did not converge"
0 1
5 4
[1] "Model did not converge"
0 1
5 4
[1] "Model did not converge"
0 1
5 4
[1] "Model did not converge"
0 1
5 4
[1] "Model did not converge"
0 1
5 4
[1] "Model did not converge"
0 1
5 4
[1] "Model did not converge"
0 1
5 4
[1] "Model did not converge"
0 1
8 1
[1] "Model did not converge"
0 1
8 1
[1] "Model did not converge"
0 1
8 1
[1] "Model did not converge"
0 1
8 1
[1] "Model did not converge"
0 1
8 1
[1] "Model did not converge"
0 1
8 1
[1] "Model did not converge"
0 1
8 1
[1] "Model did not converge"
0 1
8 1
[1] "Model did not converge"
0 1
8 1
[1] "Model did not converge"
0 1
8 1
[1] "Model did not converge"
0 1
8 1
[1] "Model did not converge"
0 1
8 1
[1] "Model did not converge"
0 1
8 1
[1] "Model did not converge"
0 1
8 1
[1] "Model did not converge"
0 1
8 1
[1] "Model did not converge"
0 1
8 1
[1] "Model did not converge"
0 1
8 1
[1] "Model did not converge"
0 1
8 1
[1] "Model did not converge"
0 1
8 1
[1] "Model did not converge"
0 1
8 1
[1] "Model did not converge"
0 1
8 1
[1] "Model did not converge"
0 1
8 1
[1] "Model did not converge"
0 1
8 1
[1] "Model did not converge"
0 1
8 1
[1] "Model did not converge"
0 1
8 1
[1] "Model did not converge"
0 1
8 1
[1] "Model did not converge"
0 1
8 1
[1] "Model did not converge"
0 1
8 1
[1] "Model did not converge"
0 1
8 1
[1] "Model did not converge"
0 1
8 1
[1] "Model did not converge"
0 1
8 1
[1] "Model did not converge"
0 1
8 1
[1] "Model did not converge"
0 1
8 1
[1] "Model did not converge"
0 1
8 1
[1] "Model did not converge"
0 1
8 1
[1] "Model did not converge"
0 1
8 1
[1] "Model did not converge"
0 1
8 1
[1] "Model did not converge"
0 1
8 1
[1] "Model did not converge"
0 1
8 1
[1] "Model did not converge"
0 1
8 1
[1] "Model did not converge"
0 1
8 1
[1] "Model did not converge"
0 1
8 1
[1] "Model did not converge"
0 1
8 1
[1] "Model did not converge"
0 1
8 1
[1] "Model did not converge"
0 1
8 1
[1] "Model did not converge"
0 1
8 1
[1] "Model did not converge"
0 1
8 1
[1] "Model did not converge"
0 1
8 1
[1] "Model did not converge"
0 1
8 1
[1] "Model did not converge"
0 1
8 1
[1] "Model did not converge"
0 1
8 1
[1] "Model did not converge"
0 1
8 1
[1] "Model did not converge"
0 1
8 1
[1] "Model did not converge"
0 1
8 1
[1] "Model did not converge"
0 1
8 1
[1] "Model did not converge"
0 1
8 1
[1] "Model did not converge"
0 1
8 1
[1] "Model did not converge"
0 1
8 1
[1] "Model did not converge"
0 1
8 1
[1] "Model did not converge"
0 1
8 1
[1] "Model did not converge"
0 1
8 1
[1] "Model did not converge"
0 1
8 1
[1] "Model did not converge"
0 1
8 1
[1] "Model did not converge"
0 1
8 1
[1] "Model did not converge"
0 1
8 1
[1] "Model did not converge"
0 1
8 1
[1] "Model did not converge"
0 1
8 1
[1] "Model did not converge"
0 1
8 1
[1] "Model did not converge"
0 1
8 1
[1] "Model did not converge"
0 1
8 1
[1] "Model did not converge"
0 1
8 1
[1] "Model did not converge"
0 1
8 1
[1] "Model did not converge"
0 1
8 1
[1] "Model did not converge"
0 1
8 1
[1] "Model did not converge"
0 1
8 1
[1] "Model did not converge"
0 1
8 1
[1] "Model did not converge"
0 1
8 1
[1] "Model did not converge"
0 1
8 1
[1] "Model did not converge"
0 1
8 1
[1] "Model did not converge"
0 1
8 1
[1] "Model did not converge"
0 1
8 1
[1] "Model did not converge"
0 1
8 1
[1] "Model did not converge"
0 1
8 1
[1] "Model did not converge"
0 1
8 1
[1] "Model did not converge"
0 1
8 1
[1] "Model did not converge"
0 1
8 1
[1] "Model did not converge"
0 1
8 1
[1] "Model did not converge"
0 1
8 1
[1] "Model did not converge"
0 1
8 1
[1] "Model did not converge"
0 1
8 1
[1] "Model did not converge"
0 1
8 1
[1] "Model did not converge"
0 1
8 1
[1] "Model did not converge"
0 1
8 1
[1] "Model did not converge"
0 1
8 1
[1] "Model did not converge"
0 1
8 1
[1] "Model did not converge"
0 1
8 1
[1] "Model did not converge"
0 1
8 1
[1] "Model did not converge"
0 1
8 1
[1] "Model did not converge"
0 1
8 1
[1] "Model did not converge"
0 1
8 1
[1] "Model did not converge"
0 1
7 2
[1] "Model did not converge"
0 1
7 2
[1] "Model did not converge"
0 1
7 2
[1] "Model did not converge"
0 1
7 2
[1] "Model did not converge"
0 1
7 2
[1] "Model did not converge"
0 1
7 2
[1] "Model did not converge"
0 1
7 2
[1] "Model did not converge"
0 1
7 2
[1] "Model did not converge"
0 1
7 2
[1] "Model did not converge"
0 1
7 2
[1] "Model did not converge"
0 1
7 2
[1] "Model did not converge"
0 1
7 2
[1] "Model did not converge"
0 1
7 2
[1] "Model did not converge"
0 1
7 2
[1] "Model did not converge"
0 1
7 2
[1] "Model did not converge"
0 1
7 2
[1] "Model did not converge"
0 1
7 2
[1] "Model did not converge"
0 1
7 2
[1] "Model did not converge"
0 1
7 2
[1] "Model did not converge"
0 1
7 2
[1] "Model did not converge"
0 1
7 2
[1] "Model did not converge"
0 1
7 2
[1] "Model did not converge"
0 1
7 2
[1] "Model did not converge"
0 1
7 2
[1] "Model did not converge"
0 1
7 2
[1] "Model did not converge"
0 1
7 2
[1] "Model did not converge"
0 1
7 2
[1] "Model did not converge"
0 1
7 2
[1] "Model did not converge"
0 1
7 2
[1] "Model did not converge"
0 1
7 2
[1] "Model did not converge"
0 1
7 2
[1] "Model did not converge"
0 1
7 2
[1] "Model did not converge"
0 1
7 2
[1] "Model did not converge"
0 1
7 2
[1] "Model did not converge"
0 1
7 2
[1] "Model did not converge"
0 1
7 2
[1] "Model did not converge"
0 1
7 2
[1] "Model did not converge"
0 1
7 2
[1] "Model did not converge"
0 1
7 2
[1] "Model did not converge"
0 1
7 2
[1] "Model did not converge"
0 1
7 2
[1] "Model did not converge"
0 1
7 2
[1] "Model did not converge"
0 1
7 2
[1] "Model did not converge"
0 1
7 2
[1] "Model did not converge"
0 1
7 2
[1] "Model did not converge"
0 1
7 2
[1] "Model did not converge"
0 1
7 2
[1] "Model did not converge"
0 1
7 2
[1] "Model did not converge"
0 1
7 2
[1] "Model did not converge"
0 1
7 2
[1] "Model did not converge"
0 1
5 4
[1] "Model did not converge"
0 1
5 4
[1] "Model did not converge"
0 1
5 4
[1] "Model did not converge"
0 1
5 4
[1] "Model did not converge"
0 1
5 4
[1] "Model did not converge"
0 1
5 4
[1] "Model did not converge"
0 1
5 4
[1] "Model did not converge"
0 1
5 4
[1] "Model did not converge"
0 1
5 4
[1] "Model did not converge"
0 1
5 4
[1] "Model did not converge"
0 1
5 4
[1] "Model did not converge"
0 1
5 4
[1] "Model did not converge"
0 1
5 4
[1] "Model did not converge"
0 1
5 4
[1] "Model did not converge"
0 1
5 4
[1] "Model did not converge"
0 1
5 4
[1] "Model did not converge"
0 1
5 4
[1] "Model did not converge"
0 1
5 4
[1] "Model did not converge"
0 1
5 4
[1] "Model did not converge"
0 1
5 4
[1] "Model did not converge"
0 1
5 4
[1] "Model did not converge"
0 1
5 4
[1] "Model did not converge"
0 1
5 4
[1] "Model did not converge"
0 1
5 4
[1] "Model did not converge"
0 1
5 4
[1] "Model did not converge"
0 1
5 4
[1] "Model did not converge"
0 1
5 4
[1] "Model did not converge"
0 1
5 4
[1] "Model did not converge"
0 1
5 4
[1] "Model did not converge"
0 1
5 4
[1] "Model did not converge"
0 1
5 4
[1] "Model did not converge"
0 1
5 4
[1] "Model did not converge"
0 1
5 4
[1] "Model did not converge"
0 1
5 4
[1] "Model did not converge"
0 1
5 4
[1] "Model did not converge"
0 1
5 4
[1] "Model did not converge"
0 1
5 4
[1] "Model did not converge"
0 1
8 1
[1] "Model did not converge"
0 1
8 1
[1] "Model did not converge"
0 1
8 1
[1] "Model did not converge"
0 1
8 1
[1] "Model did not converge"
0 1
8 1
[1] "Model did not converge"
0 1
8 1
[1] "Model did not converge"
0 1
8 1
[1] "Model did not converge"
0 1
8 1
[1] "Model did not converge"
0 1
8 1
[1] "Model did not converge"
0 1
8 1
[1] "Model did not converge"
0 1
8 1
[1] "Model did not converge"
0 1
8 1
[1] "Model did not converge"
0 1
8 1
[1] "Model did not converge"
0 1
8 1
[1] "Model did not converge"
0 1
8 1
[1] "Model did not converge"
0 1
8 1
[1] "Model did not converge"
0 1
8 1
[1] "Model did not converge"
0 1
8 1
[1] "Model did not converge"
0 1
8 1
[1] "Model did not converge"
0 1
8 1
[1] "Model did not converge"
0 1
8 1
[1] "Model did not converge"
0 1
8 1
[1] "Model did not converge"
0 1
8 1
[1] "Model did not converge"
0 1
8 1
[1] "Model did not converge"
0 1
8 1
[1] "Model did not converge"
0 1
8 1
[1] "Model did not converge"
0 1
8 1
[1] "Model did not converge"
0 1
8 1
[1] "Model did not converge"
0 1
8 1
[1] "Model did not converge"
0 1
8 1
[1] "Model did not converge"
0 1
8 1
[1] "Model did not converge"
0 1
8 1
[1] "Model did not converge"
0 1
8 1
[1] "Model did not converge"
0 1
8 1
[1] "Model did not converge"
0 1
8 1
[1] "Model did not converge"
0 1
8 1
[1] "Model did not converge"
0 1
8 1
[1] "Model did not converge"
0 1
8 1
[1] "Model did not converge"
0 1
8 1
[1] "Model did not converge"
0 1
8 1
[1] "Model did not converge"
0 1
8 1
[1] "Model did not converge"
0 1
8 1
[1] "Model did not converge"
0 1
8 1
[1] "Model did not converge"
0 1
8 1
[1] "Model did not converge"
0 1
8 1
[1] "Model did not converge"
0 1
8 1
[1] "Model did not converge"
0 1
8 1
[1] "Model did not converge"
0 1
8 1
[1] "Model did not converge"
0 1
8 1
[1] "Model did not converge"
0 1
8 1
[1] "Model did not converge"
0 1
7 2
[1] "Model did not converge"
0 1
7 2
[1] "Model did not converge"
0 1
7 2
[1] "Model did not converge"
0 1
7 2
[1] "Model did not converge"
0 1
7 2
[1] "Model did not converge"
0 1
7 2
[1] "Model did not converge"
0 1
7 2
[1] "Model did not converge"
0 1
7 2
[1] "Model did not converge"
0 1
7 2
[1] "Model did not converge"
0 1
7 2
[1] "Model did not converge"
0 1
7 2
[1] "Model did not converge"
0 1
7 2
[1] "Model did not converge"
0 1
7 2
[1] "Model did not converge"
0 1
7 2
[1] "Model did not converge"
0 1
7 2
[1] "Model did not converge"
0 1
7 2
[1] "Model did not converge"
0 1
7 2
[1] "Model did not converge"
0 1
7 2
[1] "Model did not converge"
0 1
7 2
[1] "Model did not converge"
0 1
7 2
[1] "Model did not converge"
0 1
7 2
[1] "Model did not converge"
0 1
7 2
[1] "Model did not converge"
0 1
7 2
[1] "Model did not converge"
0 1
7 2
[1] "Model did not converge"
0 1
7 2
[1] "Model did not converge"
0 1
7 2
[1] "Model did not converge"
0 1
7 2
[1] "Model did not converge"
0 1
7 2
[1] "Model did not converge"
0 1
7 2
[1] "Model did not converge"
0 1
7 2
[1] "Model did not converge"
0 1
7 2
[1] "Model did not converge"
0 1
7 2
[1] "Model did not converge"
0 1
7 2
[1] "Model did not converge"
0 1
7 2
[1] "Model did not converge"
0 1
7 2
[1] "Model did not converge"
0 1
7 2
[1] "Model did not converge"
0 1
7 2
[1] "Model did not converge"
0 1
7 2
[1] "Model did not converge"
0 1
7 2
[1] "Model did not converge"
0 1
7 2
[1] "Model did not converge"
0 1
7 2
[1] "Model did not converge"
0 1
7 2
[1] "Model did not converge"
0 1
7 2
[1] "Model did not converge"
0 1
7 2
[1] "Model did not converge"
0 1
7 2
[1] "Model did not converge"
0 1
7 2
[1] "Model did not converge"
0 1
7 2
[1] "Model did not converge"
0 1
7 2
[1] "Model did not converge"
0 1
7 2
[1] "Model did not converge"
0 1
7 2
|
| | 0%
|
|======================================================================| 100%
[1] 1 1 -1
[1] 0
[1] 0
[,1] [,2] [,3]
lower_bounds 0 0 0
upper_bounds 1 1 -1
|
| | 0%
|
|======================================================================| 100%
|
| | 0%
|
|======================================================================| 100%
|
| | 0%
|
|======================================================================| 100%
|
| | 0%
|
|======================================================================| 100%
|
| | 0%
|
|======================================================================| 100%
|
| | 0%
|
|======================================================================| 100%
|
| | 0%
|
|======================================================================| 100%
══ testthat results ═══════════════════════════════════════════════════════════
OK: 142 SKIPPED: 0 FAILED: 0
>
> proc.time()
user system elapsed
152.360 7.632 467.849
PharmacoGx.Rcheck/PharmacoGx-Ex.timings
| name | user | system | elapsed | |
| LogLogisticRegression | 0.608 | 0.088 | 0.692 | |
| PharmacoSet | 0.004 | 0.000 | 0.001 | |
| amcc | 1.220 | 0.064 | 1.275 | |
| availablePSets | 0 | 0 | 0 | |
| cellInfo-set | 0.704 | 0.012 | 0.718 | |
| cellInfo | 0.816 | 0.060 | 0.873 | |
| cellNames-set | 1.540 | 0.012 | 1.556 | |
| cellNames | 0.684 | 0.016 | 0.699 | |
| checkPSetStructure | 0.680 | 0.004 | 0.685 | |
| computeABC | 0.728 | 0.076 | 0.797 | |
| computeAUC | 0.508 | 0.028 | 0.533 | |
| computeAmax | 0.552 | 0.020 | 0.569 | |
| computeICn | 1.196 | 0.044 | 1.260 | |
| computeSlope | 0.000 | 0.000 | 0.001 | |
| connectivityScore | 0.040 | 0.004 | 0.042 | |
| cosinePerm | 0.032 | 0.000 | 0.031 | |
| dateCreated | 1.176 | 0.008 | 1.190 | |
| downloadPSet | 0 | 0 | 0 | |
| downloadPertSig | 0 | 0 | 0 | |
| drugDoseResponseCurve | 0 | 0 | 0 | |
| drugInfo-set | 0.668 | 0.004 | 0.673 | |
| drugInfo | 0.932 | 0.008 | 0.944 | |
| drugNames-set | 0.776 | 0.008 | 0.785 | |
| drugNames | 1.072 | 0.012 | 1.088 | |
| drugPerturbationSig | 2.972 | 0.184 | 3.161 | |
| drugSensitivitySig | 1.596 | 0.116 | 1.726 | |
| fNames | 0.732 | 0.004 | 0.738 | |
| featureInfo-set | 0.652 | 0.020 | 0.672 | |
| featureInfo | 1.012 | 0.008 | 1.019 | |
| filterNoisyCurves | 0.948 | 0.036 | 0.979 | |
| gwc | 0.692 | 0.004 | 0.697 | |
| intersectList | 0 | 0 | 0 | |
| intersectPSet | 2.436 | 1.024 | 146.911 | |
| mDataNames | 1.032 | 0.004 | 1.038 | |
| mcc | 2.776 | 0.132 | 2.927 | |
| molecularProfiles-set | 1.048 | 0.008 | 1.056 | |
| molecularProfiles | 1.448 | 0.200 | 1.656 | |
| pSetName | 0.924 | 0.000 | 0.921 | |
| pertNumber-set | 1.424 | 0.064 | 1.495 | |
| pertNumber | 1.204 | 0.004 | 1.230 | |
| phenoInfo-set | 1.232 | 0.000 | 1.233 | |
| phenoInfo | 2.060 | 0.104 | 2.170 | |
| sensNumber-set | 0.928 | 0.000 | 0.930 | |
| sensNumber | 1.076 | 0.044 | 1.119 | |
| sensitivityInfo-set | 1.556 | 0.008 | 1.572 | |
| sensitivityInfo | 1.356 | 0.268 | 1.623 | |
| sensitivityMeasures | 1.332 | 0.004 | 1.341 | |
| sensitivityProfiles-set | 1.412 | 0.008 | 1.420 | |
| sensitivityProfiles | 2.244 | 0.212 | 2.459 | |
| show-PharmacoSet-method | 1.216 | 0.000 | 1.217 | |
| show-PharmacoSig-method | 1.280 | 0.148 | 1.448 | |
| showSigAnnot | 1.524 | 0.188 | 1.729 | |
| subsetTo | 1.080 | 0.012 | 1.093 | |
| summarizeMolecularProfiles | 0.128 | 0.012 | 0.141 | |
| summarizeSensitivityProfiles | 0.036 | 0.000 | 0.036 | |
| symSetDiffList | 0.000 | 0.000 | 0.001 | |
| unionList | 0.000 | 0.000 | 0.001 | |