| Back to Multiple platform build/check report for BioC 3.8 |
|
This page was generated on 2019-04-13 11:25:10 -0400 (Sat, 13 Apr 2019).
| Package 1084/1649 | Hostname | OS / Arch | INSTALL | BUILD | CHECK | BUILD BIN | ||||||
| OmicsMarkeR 1.14.0 Charles E. Determan Jr.
| malbec1 | Linux (Ubuntu 16.04.6 LTS) / x86_64 | OK | OK | OK | |||||||
| tokay1 | Windows Server 2012 R2 Standard / x64 | OK | OK | OK | [ OK ] | |||||||
| merida1 | OS X 10.11.6 El Capitan / x86_64 | OK | OK | OK | OK |
| Package: OmicsMarkeR |
| Version: 1.14.0 |
| Command: rm -rf OmicsMarkeR.buildbin-libdir && mkdir OmicsMarkeR.buildbin-libdir && C:\Users\biocbuild\bbs-3.8-bioc\R\bin\R.exe CMD INSTALL --merge-multiarch --build --library=OmicsMarkeR.buildbin-libdir OmicsMarkeR_1.14.0.tar.gz |
| StartedAt: 2019-04-13 07:43:26 -0400 (Sat, 13 Apr 2019) |
| EndedAt: 2019-04-13 07:43:53 -0400 (Sat, 13 Apr 2019) |
| EllapsedTime: 26.9 seconds |
| RetCode: 0 |
| Status: OK |
| PackageFile: OmicsMarkeR_1.14.0.zip |
| PackageFileSize: 612.9 KiB |
##############################################################################
##############################################################################
###
### Running command:
###
### rm -rf OmicsMarkeR.buildbin-libdir && mkdir OmicsMarkeR.buildbin-libdir && C:\Users\biocbuild\bbs-3.8-bioc\R\bin\R.exe CMD INSTALL --merge-multiarch --build --library=OmicsMarkeR.buildbin-libdir OmicsMarkeR_1.14.0.tar.gz
###
##############################################################################
##############################################################################
install for i386
* installing *source* package 'OmicsMarkeR' ...
** R
** inst
** byte-compile and prepare package for lazy loading
** help
*** installing help indices
converting help for package 'OmicsMarkeR'
finding HTML links ... done
CLA html
EE html
EM html
ES html
RPT html
aggregation html
bagging.wrapper html
canberra html
canberra_stability html
create.corr.matrix html
create.discr.matrix html
create.random.matrix html
denovo.grid html
extract.args html
extract.features html
feature.table html
fit.only.model html
fs.ensembl.stability html
fs.stability html
jaccard html
kuncheva html
modelList html
modelTuner html
modelTuner_loo html
noise.matrix html
ochiai html
optimize.model html
pairwise.model.stability html
pairwise.stability html
params html
perf.calc html
finding level-2 HTML links ... done
performance.metrics html
performance.stats html
perm.class html
perm.features html
pof html
predictNewClasses html
predicting html
prediction.metrics html
sequester html
sorensen html
spearman html
svm.weights html
svmrfeFeatureRanking html
svmrfeFeatureRankingForMulticlass html
training html
tune.instructions html
** building package indices
** installing vignettes
** testing if installed package can be loaded
In R CMD INSTALL
install for x64
* installing *source* package 'OmicsMarkeR' ...
** testing if installed package can be loaded
* MD5 sums
packaged installation of 'OmicsMarkeR' as OmicsMarkeR_1.14.0.zip
* DONE (OmicsMarkeR)
In R CMD INSTALL
In R CMD INSTALL