| Back to Multiple platform build/check report for BioC 3.8 | 
  | 
This page was generated on 2019-04-16 11:51:13 -0400 (Tue, 16 Apr 2019).
| Package 1084/1649 | Hostname | OS / Arch | INSTALL | BUILD | CHECK | BUILD BIN | ||||||
| OmicsMarkeR 1.14.0 Charles E. Determan Jr. 
  | malbec1 | Linux (Ubuntu 16.04.6 LTS) / x86_64 | OK | [ OK ] | OK | |||||||
| merida1 | OS X 10.11.6 El Capitan / x86_64 | OK | OK | OK | OK | 
| Package: OmicsMarkeR | 
| Version: 1.14.0 | 
| Command: /home/biocbuild/bbs-3.8-bioc/R/bin/R CMD build --keep-empty-dirs --no-resave-data OmicsMarkeR | 
| StartedAt: 2019-04-15 20:07:35 -0400 (Mon, 15 Apr 2019) | 
| EndedAt: 2019-04-15 20:08:06 -0400 (Mon, 15 Apr 2019) | 
| EllapsedTime: 31.1 seconds | 
| RetCode: 0 | 
| Status: OK | 
| PackageFile: OmicsMarkeR_1.14.0.tar.gz | 
| PackageFileSize: 294.8 KiB | 
##############################################################################
##############################################################################
###
### Running command:
###
###   /home/biocbuild/bbs-3.8-bioc/R/bin/R CMD build --keep-empty-dirs --no-resave-data OmicsMarkeR
###
##############################################################################
##############################################################################
* checking for file ‘OmicsMarkeR/DESCRIPTION’ ... OK
* preparing ‘OmicsMarkeR’:
* checking DESCRIPTION meta-information ... OK
* installing the package to build vignettes
* creating vignettes ... OK
Warning: ‘inst/doc’ files
    ‘OmicsMarkeR.Rnw’, ‘OmicsMarkeR.pdf’, ‘OmicsMarkeR.R’
  ignored as vignettes have been rebuilt.
  Run R CMD build with --no-build-vignettes to prevent rebuilding.
* checking for LF line-endings in source and make files and shell scripts
* checking for empty or unneeded directories
* building ‘OmicsMarkeR_1.14.0.tar.gz’