| Back to Multiple platform build/check report for BioC 3.8 |
|
This page was generated on 2019-04-13 11:25:43 -0400 (Sat, 13 Apr 2019).
| Package 1074/1649 | Hostname | OS / Arch | INSTALL | BUILD | CHECK | BUILD BIN | ||||||
| OGSA 1.12.0 Michael F. Ochs
| malbec1 | Linux (Ubuntu 16.04.6 LTS) / x86_64 | OK | OK | OK | |||||||
| tokay1 | Windows Server 2012 R2 Standard / x64 | OK | OK | OK | [ OK ] | |||||||
| merida1 | OS X 10.11.6 El Capitan / x86_64 | OK | OK | OK | OK |
| Package: OGSA |
| Version: 1.12.0 |
| Command: rm -rf OGSA.buildbin-libdir && mkdir OGSA.buildbin-libdir && C:\Users\biocbuild\bbs-3.8-bioc\R\bin\R.exe CMD INSTALL --merge-multiarch --build --library=OGSA.buildbin-libdir OGSA_1.12.0.tar.gz |
| StartedAt: 2019-04-13 07:43:07 -0400 (Sat, 13 Apr 2019) |
| EndedAt: 2019-04-13 07:43:17 -0400 (Sat, 13 Apr 2019) |
| EllapsedTime: 10.0 seconds |
| RetCode: 0 |
| Status: OK |
| PackageFile: OGSA_1.12.0.zip |
| PackageFileSize: 3.33 MiB |
##############################################################################
##############################################################################
###
### Running command:
###
### rm -rf OGSA.buildbin-libdir && mkdir OGSA.buildbin-libdir && C:\Users\biocbuild\bbs-3.8-bioc\R\bin\R.exe CMD INSTALL --merge-multiarch --build --library=OGSA.buildbin-libdir OGSA_1.12.0.tar.gz
###
##############################################################################
##############################################################################
install for i386
* installing *source* package 'OGSA' ...
** R
** data
*** moving datasets to lazyload DB
** inst
** byte-compile and prepare package for lazy loading
** help
*** installing help indices
converting help for package 'OGSA'
finding HTML links ... done
OGSA-package html
cnv html
copaInt html
copaIntE html
copaStat html
expr html
expressionSetDataSet html
expressionSetPheno html
meth html
outCallRank html
outCallRankE html
outCallTib html
outCallTibE html
outCount html
outMap html
outRank html
pathGS html
pheno html
testGScogps html
** building package indices
** installing vignettes
** testing if installed package can be loaded
In R CMD INSTALL
install for x64
* installing *source* package 'OGSA' ...
** testing if installed package can be loaded
* MD5 sums
packaged installation of 'OGSA' as OGSA_1.12.0.zip
* DONE (OGSA)
In R CMD INSTALL
In R CMD INSTALL