| Back to Multiple platform build/check report for BioC 3.8 |
|
This page was generated on 2019-04-16 11:51:29 -0400 (Tue, 16 Apr 2019).
| Package 1074/1649 | Hostname | OS / Arch | INSTALL | BUILD | CHECK | BUILD BIN | ||||||
| OGSA 1.12.0 Michael F. Ochs
| malbec1 | Linux (Ubuntu 16.04.6 LTS) / x86_64 | OK | OK | [ OK ] | |||||||
| merida1 | OS X 10.11.6 El Capitan / x86_64 | OK | OK | OK | OK |
| Package: OGSA |
| Version: 1.12.0 |
| Command: /home/biocbuild/bbs-3.8-bioc/R/bin/R CMD check --install=check:OGSA.install-out.txt --library=/home/biocbuild/bbs-3.8-bioc/R/library --no-vignettes --timings OGSA_1.12.0.tar.gz |
| StartedAt: 2019-04-16 01:49:40 -0400 (Tue, 16 Apr 2019) |
| EndedAt: 2019-04-16 01:52:10 -0400 (Tue, 16 Apr 2019) |
| EllapsedTime: 150.0 seconds |
| RetCode: 0 |
| Status: OK |
| CheckDir: OGSA.Rcheck |
| Warnings: 0 |
##############################################################################
##############################################################################
###
### Running command:
###
### /home/biocbuild/bbs-3.8-bioc/R/bin/R CMD check --install=check:OGSA.install-out.txt --library=/home/biocbuild/bbs-3.8-bioc/R/library --no-vignettes --timings OGSA_1.12.0.tar.gz
###
##############################################################################
##############################################################################
* using log directory ‘/home/biocbuild/bbs-3.8-bioc/meat/OGSA.Rcheck’
* using R version 3.5.3 (2019-03-11)
* using platform: x86_64-pc-linux-gnu (64-bit)
* using session charset: UTF-8
* using option ‘--no-vignettes’
* checking for file ‘OGSA/DESCRIPTION’ ... OK
* this is package ‘OGSA’ version ‘1.12.0’
* checking package namespace information ... OK
* checking package dependencies ... OK
* checking if this is a source package ... OK
* checking if there is a namespace ... OK
* checking for hidden files and directories ... OK
* checking for portable file names ... OK
* checking for sufficient/correct file permissions ... OK
* checking whether package ‘OGSA’ can be installed ... OK
* checking installed package size ... OK
* checking package directory ... OK
* checking ‘build’ directory ... OK
* checking DESCRIPTION meta-information ... OK
* checking top-level files ... OK
* checking for left-over files ... OK
* checking index information ... OK
* checking package subdirectories ... OK
* checking R files for non-ASCII characters ... OK
* checking R files for syntax errors ... OK
* checking whether the package can be loaded ... OK
* checking whether the package can be loaded with stated dependencies ... OK
* checking whether the package can be unloaded cleanly ... OK
* checking whether the namespace can be loaded with stated dependencies ... OK
* checking whether the namespace can be unloaded cleanly ... OK
* checking dependencies in R code ... OK
* checking S3 generic/method consistency ... OK
* checking replacement functions ... OK
* checking foreign function calls ... OK
* checking R code for possible problems ... NOTE
copaStat: no visible binding for global variable ‘median’
copaStat: no visible binding for global variable ‘mad’
copaStat: no visible binding for global variable ‘IQR’
copaStat: no visible binding for global variable ‘quantile’
expressionSetPheno: no visible global function definition for ‘relevel’
outCallTib: no visible binding for global variable ‘median’
outCallTib: no visible binding for global variable ‘mad’
outCallTib: no visible binding for global variable ‘IQR’
outCallTib: no visible binding for global variable ‘quantile’
outCallTibE: no visible binding for global variable ‘median’
outCallTibE: no visible binding for global variable ‘mad’
outCallTibE: no visible binding for global variable ‘IQR’
outCallTibE: no visible binding for global variable ‘quantile’
outCount: no visible binding for global variable ‘median’
outCount: no visible binding for global variable ‘mad’
outCount: no visible binding for global variable ‘IQR’
outCount: no visible binding for global variable ‘quantile’
outMap: no visible global function definition for ‘pdf’
outMap: no visible global function definition for ‘dev.off’
Undefined global functions or variables:
IQR dev.off mad median pdf quantile relevel
Consider adding
importFrom("grDevices", "dev.off", "pdf")
importFrom("stats", "IQR", "mad", "median", "quantile", "relevel")
to your NAMESPACE file.
* checking Rd files ... OK
* checking Rd metadata ... OK
* checking Rd cross-references ... OK
* checking for missing documentation entries ... OK
* checking for code/documentation mismatches ... OK
* checking Rd \usage sections ... OK
* checking Rd contents ... OK
* checking for unstated dependencies in examples ... OK
* checking contents of ‘data’ directory ... OK
* checking data for non-ASCII characters ... OK
* checking data for ASCII and uncompressed saves ... OK
* checking files in ‘vignettes’ ... OK
* checking examples ... OK
Examples with CPU or elapsed time > 5s
user system elapsed
copaStat 94.996 0.236 95.43
* checking for unstated dependencies in vignettes ... OK
* checking package vignettes in ‘inst/doc’ ... OK
* checking running R code from vignettes ... SKIPPED
* checking re-building of vignette outputs ... SKIPPED
* checking PDF version of manual ... OK
* DONE
Status: 1 NOTE
See
‘/home/biocbuild/bbs-3.8-bioc/meat/OGSA.Rcheck/00check.log’
for details.
OGSA.Rcheck/00install.out
############################################################################## ############################################################################## ### ### Running command: ### ### /home/biocbuild/bbs-3.8-bioc/R/bin/R CMD INSTALL OGSA ### ############################################################################## ############################################################################## * installing to library ‘/home/biocbuild/bbs-3.8-bioc/R/library’ * installing *source* package ‘OGSA’ ... ** R ** data *** moving datasets to lazyload DB ** inst ** byte-compile and prepare package for lazy loading ** help *** installing help indices ** building package indices ** installing vignettes ** testing if installed package can be loaded * DONE (OGSA)
OGSA.Rcheck/OGSA-Ex.timings
| name | user | system | elapsed | |
| copaInt | 3.300 | 0.024 | 3.326 | |
| copaIntE | 3.268 | 0.016 | 3.287 | |
| copaStat | 94.996 | 0.236 | 95.430 | |
| expressionSetDataSet | 0.120 | 0.000 | 0.119 | |
| expressionSetPheno | 0.084 | 0.000 | 0.084 | |
| outCallRank | 1.164 | 0.004 | 1.174 | |
| outCallRankE | 1.024 | 0.004 | 1.030 | |
| outCallTib | 2.924 | 0.000 | 2.929 | |
| outCallTibE | 2.336 | 0.000 | 2.338 | |
| outCount | 2.728 | 0.000 | 2.734 | |
| outMap | 3.116 | 0.004 | 3.121 | |
| outRank | 1.092 | 0.008 | 1.104 | |
| testGScogps | 0.000 | 0.000 | 0.001 | |