| Back to Multiple platform build/check report for BioC 3.8 |
|
This page was generated on 2019-04-13 11:27:47 -0400 (Sat, 13 Apr 2019).
| Package 773/1649 | Hostname | OS / Arch | INSTALL | BUILD | CHECK | BUILD BIN | ||||||
| ImpulseDE2 1.6.1 David S Fischer
| malbec1 | Linux (Ubuntu 16.04.6 LTS) / x86_64 | OK | OK | OK | |||||||
| tokay1 | Windows Server 2012 R2 Standard / x64 | OK | OK | OK | [ OK ] | |||||||
| merida1 | OS X 10.11.6 El Capitan / x86_64 | OK | OK | OK | OK |
| Package: ImpulseDE2 |
| Version: 1.6.1 |
| Command: rm -rf ImpulseDE2.buildbin-libdir && mkdir ImpulseDE2.buildbin-libdir && C:\Users\biocbuild\bbs-3.8-bioc\R\bin\R.exe CMD INSTALL --merge-multiarch --build --library=ImpulseDE2.buildbin-libdir ImpulseDE2_1.6.1.tar.gz |
| StartedAt: 2019-04-13 07:31:52 -0400 (Sat, 13 Apr 2019) |
| EndedAt: 2019-04-13 07:32:38 -0400 (Sat, 13 Apr 2019) |
| EllapsedTime: 45.4 seconds |
| RetCode: 0 |
| Status: OK |
| PackageFile: ImpulseDE2_1.6.1.zip |
| PackageFileSize: 592.9 KiB |
##############################################################################
##############################################################################
###
### Running command:
###
### rm -rf ImpulseDE2.buildbin-libdir && mkdir ImpulseDE2.buildbin-libdir && C:\Users\biocbuild\bbs-3.8-bioc\R\bin\R.exe CMD INSTALL --merge-multiarch --build --library=ImpulseDE2.buildbin-libdir ImpulseDE2_1.6.1.tar.gz
###
##############################################################################
##############################################################################
install for i386
* installing *source* package 'ImpulseDE2' ...
** R
** inst
** byte-compile and prepare package for lazy loading
** help
*** installing help indices
converting help for package 'ImpulseDE2'
finding HTML links ... done
ImpulseDE2Object-class html
append_strReport html
computeNormConst html
computeSizeFactors html
estimateImpulseParam html
estimateSigmoidParam html
evalImpulse html
evalImpulse_comp html
evalLogLikImpulse html
evalLogLikImpulse_comp html
evalLogLikMu html
evalLogLikMu_comp html
evalLogLikSigmoid html
evalLogLikSigmoid_comp html
evalSigmoid html
evalSigmoid_comp html
fitConstImpulse html
fitConstImpulseGene html
fitConstModel html
fitImpulseModel html
fitModels html
fitSigmoidGene html
fitSigmoidModel html
fitSigmoidModels html
get_accessors html
list_accession html
plotGenes html
plotHeatmap html
processData html
runDEAnalysis html
runDESeq2 html
runImpulseDE2 html
set_accessors html
simulateDataSetImpulseDE2 html
updateDEAnalysis html
writeReportToFile html
** building package indices
** installing vignettes
** testing if installed package can be loaded
In R CMD INSTALL
install for x64
* installing *source* package 'ImpulseDE2' ...
** testing if installed package can be loaded
* MD5 sums
packaged installation of 'ImpulseDE2' as ImpulseDE2_1.6.1.zip
* DONE (ImpulseDE2)
In R CMD INSTALL
In R CMD INSTALL