| Back to Multiple platform build/check report for BioC 3.8 |
|
This page was generated on 2019-04-16 12:00:36 -0400 (Tue, 16 Apr 2019).
| Package 773/1649 | Hostname | OS / Arch | INSTALL | BUILD | CHECK | BUILD BIN | ||||||
| ImpulseDE2 1.6.1 David S Fischer
| malbec1 | Linux (Ubuntu 16.04.6 LTS) / x86_64 | OK | OK | OK | |||||||
| merida1 | OS X 10.11.6 El Capitan / x86_64 | OK | OK | [ OK ] | OK |
| Package: ImpulseDE2 |
| Version: 1.6.1 |
| Command: /Library/Frameworks/R.framework/Versions/Current/Resources/bin/R CMD check --install=check:ImpulseDE2.install-out.txt --library=/Library/Frameworks/R.framework/Versions/Current/Resources/library --no-vignettes --timings ImpulseDE2_1.6.1.tar.gz |
| StartedAt: 2019-04-16 00:41:24 -0400 (Tue, 16 Apr 2019) |
| EndedAt: 2019-04-16 00:47:45 -0400 (Tue, 16 Apr 2019) |
| EllapsedTime: 380.1 seconds |
| RetCode: 0 |
| Status: OK |
| CheckDir: ImpulseDE2.Rcheck |
| Warnings: 0 |
##############################################################################
##############################################################################
###
### Running command:
###
### /Library/Frameworks/R.framework/Versions/Current/Resources/bin/R CMD check --install=check:ImpulseDE2.install-out.txt --library=/Library/Frameworks/R.framework/Versions/Current/Resources/library --no-vignettes --timings ImpulseDE2_1.6.1.tar.gz
###
##############################################################################
##############################################################################
* using log directory ‘/Users/biocbuild/bbs-3.8-bioc/meat/ImpulseDE2.Rcheck’
* using R version 3.5.3 (2019-03-11)
* using platform: x86_64-apple-darwin15.6.0 (64-bit)
* using session charset: UTF-8
* using option ‘--no-vignettes’
* checking for file ‘ImpulseDE2/DESCRIPTION’ ... OK
* checking extension type ... Package
* this is package ‘ImpulseDE2’ version ‘1.6.1’
* package encoding: UTF-8
* checking package namespace information ... OK
* checking package dependencies ... OK
* checking if this is a source package ... OK
* checking if there is a namespace ... OK
* checking for hidden files and directories ... OK
* checking for portable file names ... OK
* checking for sufficient/correct file permissions ... OK
* checking whether package ‘ImpulseDE2’ can be installed ... OK
* checking installed package size ... OK
* checking package directory ... OK
* checking ‘build’ directory ... OK
* checking DESCRIPTION meta-information ... OK
* checking top-level files ... OK
* checking for left-over files ... OK
* checking index information ... OK
* checking package subdirectories ... OK
* checking R files for non-ASCII characters ... OK
* checking R files for syntax errors ... OK
* checking whether the package can be loaded ... OK
* checking whether the package can be loaded with stated dependencies ... OK
* checking whether the package can be unloaded cleanly ... OK
* checking whether the namespace can be loaded with stated dependencies ... OK
* checking whether the namespace can be unloaded cleanly ... OK
* checking dependencies in R code ... OK
* checking S3 generic/method consistency ... OK
* checking replacement functions ... OK
* checking foreign function calls ... OK
* checking R code for possible problems ... NOTE
plotGenes: no visible global function definition for ‘error’
plotGenes: no visible binding for global variable ‘normCounts’
plotGenes: no visible binding for global variable ‘Condition’
plotGenes: no visible binding for global variable ‘Batch’
plotGenes: no visible binding for global variable ‘value’
plotGenes: no visible binding for global variable ‘BatchFit’
Undefined global functions or variables:
Batch BatchFit Condition error normCounts value
* checking Rd files ... OK
* checking Rd metadata ... OK
* checking Rd cross-references ... OK
* checking for missing documentation entries ... OK
* checking for code/documentation mismatches ... OK
* checking Rd \usage sections ... OK
* checking Rd contents ... OK
* checking for unstated dependencies in examples ... OK
* checking files in ‘vignettes’ ... OK
* checking examples ... OK
Examples with CPU or elapsed time > 5s
user system elapsed
plotHeatmap 39.568 0.249 40.129
updateDEAnalysis 35.042 0.238 35.503
plotGenes 32.925 0.215 33.369
fitSigmoidModels 20.926 0.214 21.313
get_accessors 20.085 0.123 20.363
runImpulseDE2 19.031 0.120 19.310
list_accession 18.944 0.142 19.216
writeReportToFile 18.745 0.100 18.980
* checking for unstated dependencies in vignettes ... OK
* checking package vignettes in ‘inst/doc’ ... OK
* checking running R code from vignettes ... SKIPPED
* checking re-building of vignette outputs ... SKIPPED
* checking PDF version of manual ... OK
* DONE
Status: 1 NOTE
See
‘/Users/biocbuild/bbs-3.8-bioc/meat/ImpulseDE2.Rcheck/00check.log’
for details.
ImpulseDE2.Rcheck/00install.out
############################################################################## ############################################################################## ### ### Running command: ### ### /Library/Frameworks/R.framework/Versions/Current/Resources/bin/R CMD INSTALL ImpulseDE2 ### ############################################################################## ############################################################################## * installing to library ‘/Library/Frameworks/R.framework/Versions/3.5/Resources/library’ * installing *source* package ‘ImpulseDE2’ ... ** R ** inst ** byte-compile and prepare package for lazy loading ** help *** installing help indices ** building package indices ** installing vignettes ** testing if installed package can be loaded * DONE (ImpulseDE2)
ImpulseDE2.Rcheck/ImpulseDE2-Ex.timings
| name | user | system | elapsed | |
| computeNormConst | 0.733 | 0.011 | 0.754 | |
| fitSigmoidModels | 20.926 | 0.214 | 21.313 | |
| get_accessors | 20.085 | 0.123 | 20.363 | |
| list_accession | 18.944 | 0.142 | 19.216 | |
| plotGenes | 32.925 | 0.215 | 33.369 | |
| plotHeatmap | 39.568 | 0.249 | 40.129 | |
| runImpulseDE2 | 19.031 | 0.120 | 19.310 | |
| simulateDataSetImpulseDE2 | 0.022 | 0.000 | 0.023 | |
| updateDEAnalysis | 35.042 | 0.238 | 35.503 | |
| writeReportToFile | 18.745 | 0.100 | 18.980 | |