| Back to Multiple platform build/check report for BioC 3.8 | 
  | 
This page was generated on 2019-04-13 11:22:05 -0400 (Sat, 13 Apr 2019).
| Package 740/1649 | Hostname | OS / Arch | INSTALL | BUILD | CHECK | BUILD BIN | ||||||
| HybridMTest 1.26.0 Demba Fofana 
  | malbec1 | Linux (Ubuntu 16.04.6 LTS) / x86_64 | OK | OK | OK | |||||||
| tokay1 | Windows Server 2012 R2 Standard / x64 | OK | OK | WARNINGS | [ OK ] | |||||||
| merida1 | OS X 10.11.6 El Capitan / x86_64 | OK | OK | OK | OK | 
| Package: HybridMTest | 
| Version: 1.26.0 | 
| Command: rm -rf HybridMTest.buildbin-libdir && mkdir HybridMTest.buildbin-libdir && C:\Users\biocbuild\bbs-3.8-bioc\R\bin\R.exe CMD INSTALL --merge-multiarch --build --library=HybridMTest.buildbin-libdir HybridMTest_1.26.0.tar.gz | 
| StartedAt: 2019-04-13 07:30:39 -0400 (Sat, 13 Apr 2019) | 
| EndedAt: 2019-04-13 07:30:56 -0400 (Sat, 13 Apr 2019) | 
| EllapsedTime: 16.8 seconds | 
| RetCode: 0 | 
| Status: OK | 
| PackageFile: HybridMTest_1.26.0.zip | 
| PackageFileSize: 284.3 KiB | 
##############################################################################
##############################################################################
###
### Running command:
###
###   rm -rf HybridMTest.buildbin-libdir && mkdir HybridMTest.buildbin-libdir && C:\Users\biocbuild\bbs-3.8-bioc\R\bin\R.exe CMD INSTALL --merge-multiarch --build --library=HybridMTest.buildbin-libdir HybridMTest_1.26.0.tar.gz
###
##############################################################################
##############################################################################
install for i386
* installing *source* package 'HybridMTest' ...
** R
** data
** inst
** byte-compile and prepare package for lazy loading
** help
*** installing help indices
  converting help for package 'HybridMTest'
    finding HTML links ... done
    GroupComp.data                          html  
Rd warning: C:/Users/biocbuild/bbs-3.8-bioc/tmpdir/RtmpQRDuQ2/R.INSTALLd884699977/HybridMTest/man/GroupComp.data.Rd:30: file link 'ExpressionSet' in package 'Biobase' does not exist and so has been treated as a topic
    HybridMTest-package                     html  
    correlation.data                        html  
Rd warning: C:/Users/biocbuild/bbs-3.8-bioc/tmpdir/RtmpQRDuQ2/R.INSTALLd884699977/HybridMTest/man/correlation.data.Rd:28: file link 'ExpressionSet' in package 'Biobase' does not exist and so has been treated as a topic
    grenander.ebp                           html  
    hybrid.test                             html  
    row.kgrp.shapiro                        html  
    row.kruskal.wallis                      html  
    row.oneway.anova                        html  
    row.pearson                             html  
    row.slr.shapiro                         html  
    row.spearman                            html  
** building package indices
** installing vignettes
** testing if installed package can be loaded
In R CMD INSTALL
install for x64
* installing *source* package 'HybridMTest' ...
** testing if installed package can be loaded
* MD5 sums
packaged installation of 'HybridMTest' as HybridMTest_1.26.0.zip
* DONE (HybridMTest)
In R CMD INSTALL
In R CMD INSTALL