| Back to Multiple platform build/check report for BioC 3.8 |
|
This page was generated on 2019-04-13 11:25:44 -0400 (Sat, 13 Apr 2019).
| Package 723/1649 | Hostname | OS / Arch | INSTALL | BUILD | CHECK | BUILD BIN | ||||||
| HilbertCurve 1.12.0 Zuguang Gu
| malbec1 | Linux (Ubuntu 16.04.6 LTS) / x86_64 | OK | OK | OK | |||||||
| tokay1 | Windows Server 2012 R2 Standard / x64 | [ OK ] | OK | WARNINGS | OK | |||||||
| merida1 | OS X 10.11.6 El Capitan / x86_64 | OK | OK | OK | OK |
| Package: HilbertCurve |
| Version: 1.12.0 |
| Command: C:\cygwin\bin\curl.exe -O https://malbec1.bioconductor.org/BBS/3.8/bioc/src/contrib/HilbertCurve_1.12.0.tar.gz && rm -rf HilbertCurve.buildbin-libdir && mkdir HilbertCurve.buildbin-libdir && C:\Users\biocbuild\bbs-3.8-bioc\R\bin\R.exe CMD INSTALL --merge-multiarch --build --library=HilbertCurve.buildbin-libdir HilbertCurve_1.12.0.tar.gz && C:\Users\biocbuild\bbs-3.8-bioc\R\bin\R.exe CMD INSTALL HilbertCurve_1.12.0.zip && rm HilbertCurve_1.12.0.tar.gz HilbertCurve_1.12.0.zip |
| StartedAt: 2019-04-12 19:35:43 -0400 (Fri, 12 Apr 2019) |
| EndedAt: 2019-04-12 19:36:24 -0400 (Fri, 12 Apr 2019) |
| EllapsedTime: 40.3 seconds |
| RetCode: 0 |
| Status: OK |
##############################################################################
##############################################################################
###
### Running command:
###
### C:\cygwin\bin\curl.exe -O https://malbec1.bioconductor.org/BBS/3.8/bioc/src/contrib/HilbertCurve_1.12.0.tar.gz && rm -rf HilbertCurve.buildbin-libdir && mkdir HilbertCurve.buildbin-libdir && C:\Users\biocbuild\bbs-3.8-bioc\R\bin\R.exe CMD INSTALL --merge-multiarch --build --library=HilbertCurve.buildbin-libdir HilbertCurve_1.12.0.tar.gz && C:\Users\biocbuild\bbs-3.8-bioc\R\bin\R.exe CMD INSTALL HilbertCurve_1.12.0.zip && rm HilbertCurve_1.12.0.tar.gz HilbertCurve_1.12.0.zip
###
##############################################################################
##############################################################################
% Total % Received % Xferd Average Speed Time Time Time Current
Dload Upload Total Spent Left Speed
0 0 0 0 0 0 0 0 --:--:-- --:--:-- --:--:-- 0
100 5187k 100 5187k 0 0 49.2M 0 --:--:-- --:--:-- --:--:-- 51.1M
install for i386
* installing *source* package 'HilbertCurve' ...
** R
** inst
** byte-compile and prepare package for lazy loading
** help
*** installing help indices
converting help for package 'HilbertCurve'
finding HTML links ... done
GenomicHilbertCurve-class html
Rd warning: C:/Users/biocbuild/bbs-3.8-bioc/tmpdir/RtmpKwZpdh/R.INSTALL55c25b78d9/HilbertCurve/man/GenomicHilbertCurve-class.rd:30: file link 'GRanges' in package 'GenomicRanges' does not exist and so has been treated as a topic
GenomicHilbertCurve html
Rd warning: C:/Users/biocbuild/bbs-3.8-bioc/tmpdir/RtmpKwZpdh/R.INSTALL55c25b78d9/HilbertCurve/man/GenomicHilbertCurve.rd:17: file link 'GRanges' in package 'GenomicRanges' does not exist and so has been treated as a topic
HilbertCurve-class html
HilbertCurve html
Rd warning: C:/Users/biocbuild/bbs-3.8-bioc/tmpdir/RtmpKwZpdh/R.INSTALL55c25b78d9/HilbertCurve/man/HilbertCurve.rd:33: file link 'grob' in package 'grid' does not exist and so has been treated as a topic
default_overlay html
hc_centered_text-HilbertCurve-method html
Rd warning: C:/Users/biocbuild/bbs-3.8-bioc/tmpdir/RtmpKwZpdh/R.INSTALL55c25b78d9/HilbertCurve/man/hc_centered_text-HilbertCurve-method.rd:16: file link 'IRanges' in package 'IRanges' does not exist and so has been treated as a topic
hc_layer-GenomicHilbertCurve-method html
Rd warning: C:/Users/biocbuild/bbs-3.8-bioc/tmpdir/RtmpKwZpdh/R.INSTALL55c25b78d9/HilbertCurve/man/hc_layer-GenomicHilbertCurve-method.rd:17: file link 'GRanges' in package 'GenomicRanges' does not exist and so has been treated as a topic
hc_layer-HilbertCurve-method html
Rd warning: C:/Users/biocbuild/bbs-3.8-bioc/tmpdir/RtmpKwZpdh/R.INSTALL55c25b78d9/HilbertCurve/man/hc_layer-HilbertCurve-method.rd:17: file link 'IRanges' in package 'IRanges' does not exist and so has been treated as a topic
hc_layer-dispatch html
hc_level-HilbertCurve-method html
hc_map-GenomicHilbertCurve-method html
hc_normal_points-HilbertCurve-method html
Rd warning: C:/Users/biocbuild/bbs-3.8-bioc/tmpdir/RtmpKwZpdh/R.INSTALL55c25b78d9/HilbertCurve/man/hc_normal_points-HilbertCurve-method.rd:17: file link 'IRanges' in package 'IRanges' does not exist and so has been treated as a topic
hc_offset-HilbertCurve-method html
hc_png-HilbertCurve-method html
hc_points-GenomicHilbertCurve-method html
Rd warning: C:/Users/biocbuild/bbs-3.8-bioc/tmpdir/RtmpKwZpdh/R.INSTALL55c25b78d9/HilbertCurve/man/hc_points-GenomicHilbertCurve-method.rd:18: file link 'GRanges' in package 'GenomicRanges' does not exist and so has been treated as a topic
hc_points-HilbertCurve-method html
Rd warning: C:/Users/biocbuild/bbs-3.8-bioc/tmpdir/RtmpKwZpdh/R.INSTALL55c25b78d9/HilbertCurve/man/hc_points-HilbertCurve-method.rd:18: file link 'IRanges' in package 'IRanges' does not exist and so has been treated as a topic
hc_points-dispatch html
hc_polygon-GenomicHilbertCurve-method html
Rd warning: C:/Users/biocbuild/bbs-3.8-bioc/tmpdir/RtmpKwZpdh/R.INSTALL55c25b78d9/HilbertCurve/man/hc_polygon-GenomicHilbertCurve-method.rd:16: file link 'GRanges' in package 'GenomicRanges' does not exist and so has been treated as a topic
hc_polygon-HilbertCurve-method html
Rd warning: C:/Users/biocbuild/bbs-3.8-bioc/tmpdir/RtmpKwZpdh/R.INSTALL55c25b78d9/HilbertCurve/man/hc_polygon-HilbertCurve-method.rd:17: file link 'IRanges' in package 'IRanges' does not exist and so has been treated as a topic
hc_polygon-dispatch html
hc_rect-GenomicHilbertCurve-method html
Rd warning: C:/Users/biocbuild/bbs-3.8-bioc/tmpdir/RtmpKwZpdh/R.INSTALL55c25b78d9/HilbertCurve/man/hc_rect-GenomicHilbertCurve-method.rd:16: file link 'GRanges' in package 'GenomicRanges' does not exist and so has been treated as a topic
hc_rect-HilbertCurve-method html
Rd warning: C:/Users/biocbuild/bbs-3.8-bioc/tmpdir/RtmpKwZpdh/R.INSTALL55c25b78d9/HilbertCurve/man/hc_rect-HilbertCurve-method.rd:17: file link 'IRanges' in package 'IRanges' does not exist and so has been treated as a topic
hc_rect-dispatch html
hc_segmented_points-HilbertCurve-method
html
Rd warning: C:/Users/biocbuild/bbs-3.8-bioc/tmpdir/RtmpKwZpdh/R.INSTALL55c25b78d9/HilbertCurve/man/hc_segmented_points-HilbertCurve-method.rd:19: file link 'IRanges' in package 'IRanges' does not exist and so has been treated as a topic
hc_segments-GenomicHilbertCurve-method
html
Rd warning: C:/Users/biocbuild/bbs-3.8-bioc/tmpdir/RtmpKwZpdh/R.INSTALL55c25b78d9/HilbertCurve/man/hc_segments-GenomicHilbertCurve-method.rd:15: file link 'GRanges' in package 'GenomicRanges' does not exist and so has been treated as a topic
hc_segments-HilbertCurve-method html
Rd warning: C:/Users/biocbuild/bbs-3.8-bioc/tmpdir/RtmpKwZpdh/R.INSTALL55c25b78d9/HilbertCurve/man/hc_segments-HilbertCurve-method.rd:16: file link 'IRanges' in package 'IRanges' does not exist and so has been treated as a topic
hc_segments-dispatch html
hc_text-GenomicHilbertCurve-method html
Rd warning: C:/Users/biocbuild/bbs-3.8-bioc/tmpdir/RtmpKwZpdh/R.INSTALL55c25b78d9/HilbertCurve/man/hc_text-GenomicHilbertCurve-method.rd:15: file link 'GRanges' in package 'GenomicRanges' does not exist and so has been treated as a topic
hc_text-HilbertCurve-method html
Rd warning: C:/Users/biocbuild/bbs-3.8-bioc/tmpdir/RtmpKwZpdh/R.INSTALL55c25b78d9/HilbertCurve/man/hc_text-HilbertCurve-method.rd:15: file link 'IRanges' in package 'IRanges' does not exist and so has been treated as a topic
hc_text-dispatch html
show-HilbertCurve-method html
unzoom-HilbertCurve-method html
zoom-HilbertCurve-method html
** building package indices
** installing vignettes
'HilbertCurve.Rmd'
** testing if installed package can be loaded
In R CMD INSTALL
install for x64
* installing *source* package 'HilbertCurve' ...
** testing if installed package can be loaded
* MD5 sums
packaged installation of 'HilbertCurve' as HilbertCurve_1.12.0.zip
* DONE (HilbertCurve)
In R CMD INSTALL
In R CMD INSTALL
* installing to library 'C:/Users/biocbuild/bbs-3.8-bioc/R/library'
package 'HilbertCurve' successfully unpacked and MD5 sums checked
In R CMD INSTALL