| Back to Multiple platform build/check report for BioC 3.8 |
|
This page was generated on 2019-04-13 11:29:23 -0400 (Sat, 13 Apr 2019).
| Package 648/1649 | Hostname | OS / Arch | INSTALL | BUILD | CHECK | BUILD BIN | ||||||
| GIGSEA 1.0.0 Shijia Zhu
| malbec1 | Linux (Ubuntu 16.04.6 LTS) / x86_64 | OK | OK | OK | |||||||
| tokay1 | Windows Server 2012 R2 Standard / x64 | OK | OK | OK | [ OK ] | |||||||
| merida1 | OS X 10.11.6 El Capitan / x86_64 | OK | OK | OK | OK |
| Package: GIGSEA |
| Version: 1.0.0 |
| Command: rm -rf GIGSEA.buildbin-libdir && mkdir GIGSEA.buildbin-libdir && C:\Users\biocbuild\bbs-3.8-bioc\R\bin\R.exe CMD INSTALL --merge-multiarch --build --library=GIGSEA.buildbin-libdir GIGSEA_1.0.0.tar.gz |
| StartedAt: 2019-04-13 07:19:53 -0400 (Sat, 13 Apr 2019) |
| EndedAt: 2019-04-13 07:20:12 -0400 (Sat, 13 Apr 2019) |
| EllapsedTime: 18.7 seconds |
| RetCode: 0 |
| Status: OK |
| PackageFile: GIGSEA_1.0.0.zip |
| PackageFileSize: 1.817 MiB |
##############################################################################
##############################################################################
###
### Running command:
###
### rm -rf GIGSEA.buildbin-libdir && mkdir GIGSEA.buildbin-libdir && C:\Users\biocbuild\bbs-3.8-bioc\R\bin\R.exe CMD INSTALL --merge-multiarch --build --library=GIGSEA.buildbin-libdir GIGSEA_1.0.0.tar.gz
###
##############################################################################
##############################################################################
install for i386
* installing *source* package 'GIGSEA' ...
** R
** data
*** moving datasets to lazyload DB
** inst
** byte-compile and prepare package for lazy loading
** help
*** installing help indices
converting help for package 'GIGSEA'
finding HTML links ... done
MSigDB.KEGG.Pathway html
MSigDB.TF html
MSigDB.miRNA html
TargetScan.miRNA html
dataFrame2geneSet html
geneSet2Net html
geneSet2sparseMatrix html
gmt2geneSet html
heart.metaXcan html
matrixPval html
orderedIntersect html
permutationMultipleLm html
permutationMultipleLmMatrix html
permutationSimpleLm html
permutationSimpleLmMatrix html
runGIGSEA html
weightedGSEA html
weightedMultipleLm html
weightedPearsonCorr html
** building package indices
** installing vignettes
** testing if installed package can be loaded
In R CMD INSTALL
install for x64
* installing *source* package 'GIGSEA' ...
** testing if installed package can be loaded
* MD5 sums
packaged installation of 'GIGSEA' as GIGSEA_1.0.0.zip
* DONE (GIGSEA)
In R CMD INSTALL
In R CMD INSTALL