| Back to Multiple platform build/check report for BioC 3.8 |
|
This page was generated on 2019-04-16 12:10:15 -0400 (Tue, 16 Apr 2019).
| Package 648/1649 | Hostname | OS / Arch | INSTALL | BUILD | CHECK | BUILD BIN | ||||||
| GIGSEA 1.0.0 Shijia Zhu
| malbec1 | Linux (Ubuntu 16.04.6 LTS) / x86_64 | OK | OK | OK | |||||||
| merida1 | OS X 10.11.6 El Capitan / x86_64 | OK | OK | [ OK ] | OK |
| Package: GIGSEA |
| Version: 1.0.0 |
| Command: /Library/Frameworks/R.framework/Versions/Current/Resources/bin/R CMD check --install=check:GIGSEA.install-out.txt --library=/Library/Frameworks/R.framework/Versions/Current/Resources/library --no-vignettes --timings GIGSEA_1.0.0.tar.gz |
| StartedAt: 2019-04-16 00:17:24 -0400 (Tue, 16 Apr 2019) |
| EndedAt: 2019-04-16 00:19:04 -0400 (Tue, 16 Apr 2019) |
| EllapsedTime: 100.6 seconds |
| RetCode: 0 |
| Status: OK |
| CheckDir: GIGSEA.Rcheck |
| Warnings: 0 |
##############################################################################
##############################################################################
###
### Running command:
###
### /Library/Frameworks/R.framework/Versions/Current/Resources/bin/R CMD check --install=check:GIGSEA.install-out.txt --library=/Library/Frameworks/R.framework/Versions/Current/Resources/library --no-vignettes --timings GIGSEA_1.0.0.tar.gz
###
##############################################################################
##############################################################################
* using log directory ‘/Users/biocbuild/bbs-3.8-bioc/meat/GIGSEA.Rcheck’
* using R version 3.5.3 (2019-03-11)
* using platform: x86_64-apple-darwin15.6.0 (64-bit)
* using session charset: UTF-8
* using option ‘--no-vignettes’
* checking for file ‘GIGSEA/DESCRIPTION’ ... OK
* checking extension type ... Package
* this is package ‘GIGSEA’ version ‘1.0.0’
* package encoding: UTF-8
* checking package namespace information ... OK
* checking package dependencies ... OK
* checking if this is a source package ... OK
* checking if there is a namespace ... OK
* checking for hidden files and directories ... OK
* checking for portable file names ... OK
* checking for sufficient/correct file permissions ... OK
* checking whether package ‘GIGSEA’ can be installed ... OK
* checking installed package size ... OK
* checking package directory ... OK
* checking ‘build’ directory ... OK
* checking DESCRIPTION meta-information ... OK
* checking top-level files ... OK
* checking for left-over files ... OK
* checking index information ... OK
* checking package subdirectories ... OK
* checking R files for non-ASCII characters ... OK
* checking R files for syntax errors ... OK
* checking whether the package can be loaded ... OK
* checking whether the package can be loaded with stated dependencies ... OK
* checking whether the package can be unloaded cleanly ... OK
* checking whether the namespace can be loaded with stated dependencies ... OK
* checking whether the namespace can be unloaded cleanly ... OK
* checking dependencies in R code ... OK
* checking S3 generic/method consistency ... OK
* checking replacement functions ... OK
* checking foreign function calls ... OK
* checking R code for possible problems ... OK
* checking Rd files ... OK
* checking Rd metadata ... OK
* checking Rd cross-references ... OK
* checking for missing documentation entries ... OK
* checking for code/documentation mismatches ... OK
* checking Rd \usage sections ... OK
* checking Rd contents ... OK
* checking for unstated dependencies in examples ... OK
* checking contents of ‘data’ directory ... OK
* checking data for non-ASCII characters ... OK
* checking data for ASCII and uncompressed saves ... OK
* checking sizes of PDF files under ‘inst/doc’ ... OK
* checking files in ‘vignettes’ ... OK
* checking examples ... OK
Examples with CPU or elapsed time > 5s
user system elapsed
geneSet2Net 13.820 1.570 15.771
geneSet2sparseMatrix 12.359 1.485 14.276
permutationMultipleLmMatrix 5.927 0.394 6.482
weightedMultipleLm 5.447 0.093 5.615
* checking for unstated dependencies in vignettes ... OK
* checking package vignettes in ‘inst/doc’ ... OK
* checking running R code from vignettes ... SKIPPED
* checking re-building of vignette outputs ... SKIPPED
* checking PDF version of manual ... OK
* DONE
Status: OK
GIGSEA.Rcheck/00install.out
############################################################################## ############################################################################## ### ### Running command: ### ### /Library/Frameworks/R.framework/Versions/Current/Resources/bin/R CMD INSTALL GIGSEA ### ############################################################################## ############################################################################## * installing to library ‘/Library/Frameworks/R.framework/Versions/3.5/Resources/library’ * installing *source* package ‘GIGSEA’ ... ** R ** data *** moving datasets to lazyload DB ** inst ** byte-compile and prepare package for lazy loading ** help *** installing help indices ** building package indices ** installing vignettes ** testing if installed package can be loaded * DONE (GIGSEA)
GIGSEA.Rcheck/GIGSEA-Ex.timings
| name | user | system | elapsed | |
| geneSet2Net | 13.820 | 1.570 | 15.771 | |
| geneSet2sparseMatrix | 12.359 | 1.485 | 14.276 | |
| gmt2geneSet | 3.163 | 0.033 | 3.508 | |
| matrixPval | 0.027 | 0.001 | 0.027 | |
| orderedIntersect | 0.077 | 0.009 | 0.086 | |
| permutationMultipleLm | 0.042 | 0.006 | 0.047 | |
| permutationMultipleLmMatrix | 5.927 | 0.394 | 6.482 | |
| permutationSimpleLm | 0.028 | 0.004 | 0.031 | |
| permutationSimpleLmMatrix | 1.478 | 0.318 | 1.814 | |
| runGIGSEA | 0.001 | 0.000 | 0.000 | |
| weightedGSEA | 0.018 | 0.003 | 0.021 | |
| weightedMultipleLm | 5.447 | 0.093 | 5.615 | |
| weightedPearsonCorr | 0.097 | 0.028 | 0.126 | |