| Back to Multiple platform build/check report for BioC 3.8 |
|
This page was generated on 2019-04-13 11:22:09 -0400 (Sat, 13 Apr 2019).
| Package 449/1649 | Hostname | OS / Arch | INSTALL | BUILD | CHECK | BUILD BIN | ||||||
| EBcoexpress 1.26.0 John A. Dawson
| malbec1 | Linux (Ubuntu 16.04.6 LTS) / x86_64 | OK | OK | WARNINGS | |||||||
| tokay1 | Windows Server 2012 R2 Standard / x64 | OK | OK | WARNINGS | [ OK ] | |||||||
| merida1 | OS X 10.11.6 El Capitan / x86_64 | OK | OK | OK | OK |
| Package: EBcoexpress |
| Version: 1.26.0 |
| Command: rm -rf EBcoexpress.buildbin-libdir && mkdir EBcoexpress.buildbin-libdir && C:\Users\biocbuild\bbs-3.8-bioc\R\bin\R.exe CMD INSTALL --merge-multiarch --build --library=EBcoexpress.buildbin-libdir EBcoexpress_1.26.0.tar.gz |
| StartedAt: 2019-04-13 07:12:49 -0400 (Sat, 13 Apr 2019) |
| EndedAt: 2019-04-13 07:13:01 -0400 (Sat, 13 Apr 2019) |
| EllapsedTime: 11.7 seconds |
| RetCode: 0 |
| Status: OK |
| PackageFile: EBcoexpress_1.26.0.zip |
| PackageFileSize: 832 KiB |
##############################################################################
##############################################################################
###
### Running command:
###
### rm -rf EBcoexpress.buildbin-libdir && mkdir EBcoexpress.buildbin-libdir && C:\Users\biocbuild\bbs-3.8-bioc\R\bin\R.exe CMD INSTALL --merge-multiarch --build --library=EBcoexpress.buildbin-libdir EBcoexpress_1.26.0.tar.gz
###
##############################################################################
##############################################################################
install for i386
* installing *source* package 'EBcoexpress' ...
** libs
C:/Rtools/mingw_32/bin/gcc -I"C:/Users/BIOCBU˜1/BBS-3˜1.8-B/R/include" -DNDEBUG -I"C:/extsoft/include" -O3 -Wall -std=gnu99 -mtune=generic -c EBcoexpress.c -o EBcoexpress.o
EBcoexpress.c: In function 'bwmcCworker':
EBcoexpress.c:74:15: warning: suggest parentheses around comparison in operand of '|' [-Wparentheses]
if(temp < -1 | temp > 1)
^
C:/Rtools/mingw_32/bin/gcc -shared -s -static-libgcc -o EBcoexpress.dll tmp.def EBcoexpress.o -LC:/extsoft/lib/i386 -LC:/extsoft/lib -LC:/Users/BIOCBU˜1/BBS-3˜1.8-B/R/bin/i386 -lR
installing to C:/Users/biocbuild/bbs-3.8-bioc/meat/EBcoexpress.buildbin-libdir/EBcoexpress/libs/i386
** R
** data
** demo
** inst
** byte-compile and prepare package for lazy loading
** help
*** installing help indices
converting help for package 'EBcoexpress'
finding HTML links ... done
ebCoexpressMeta html
ebCoexpressSeries html
fiftyGenes html
initializeHP html
makeMyD html
priorDiagnostic html
rankMyGenes html
showNetwork html
showPair html
utilities html
** building package indices
** installing vignettes
** testing if installed package can be loaded
In R CMD INSTALL
install for x64
* installing *source* package 'EBcoexpress' ...
** libs
C:/Rtools/mingw_64/bin/gcc -I"C:/Users/BIOCBU˜1/BBS-3˜1.8-B/R/include" -DNDEBUG -I"C:/extsoft/include" -O2 -Wall -std=gnu99 -mtune=generic -c EBcoexpress.c -o EBcoexpress.o
EBcoexpress.c: In function 'bwmcCworker':
EBcoexpress.c:74:15: warning: suggest parentheses around comparison in operand of '|' [-Wparentheses]
if(temp < -1 | temp > 1)
^
C:/Rtools/mingw_64/bin/gcc -shared -s -static-libgcc -o EBcoexpress.dll tmp.def EBcoexpress.o -LC:/extsoft/lib/x64 -LC:/extsoft/lib -LC:/Users/BIOCBU˜1/BBS-3˜1.8-B/R/bin/x64 -lR
installing to C:/Users/biocbuild/bbs-3.8-bioc/meat/EBcoexpress.buildbin-libdir/EBcoexpress/libs/x64
** testing if installed package can be loaded
* MD5 sums
packaged installation of 'EBcoexpress' as EBcoexpress_1.26.0.zip
* DONE (EBcoexpress)
In R CMD INSTALL
In R CMD INSTALL