| Back to Multiple platform build/check report for BioC 3.8 |
|
This page was generated on 2019-04-16 11:49:34 -0400 (Tue, 16 Apr 2019).
| Package 449/1649 | Hostname | OS / Arch | INSTALL | BUILD | CHECK | BUILD BIN | ||||||
| EBcoexpress 1.26.0 John A. Dawson
| malbec1 | Linux (Ubuntu 16.04.6 LTS) / x86_64 | [ OK ] | OK | WARNINGS | |||||||
| merida1 | OS X 10.11.6 El Capitan / x86_64 | OK | OK | OK | OK |
| Package: EBcoexpress |
| Version: 1.26.0 |
| Command: /home/biocbuild/bbs-3.8-bioc/R/bin/R CMD INSTALL EBcoexpress |
| StartedAt: 2019-04-15 18:01:14 -0400 (Mon, 15 Apr 2019) |
| EndedAt: 2019-04-15 18:01:19 -0400 (Mon, 15 Apr 2019) |
| EllapsedTime: 4.9 seconds |
| RetCode: 0 |
| Status: OK |
##############################################################################
##############################################################################
###
### Running command:
###
### /home/biocbuild/bbs-3.8-bioc/R/bin/R CMD INSTALL EBcoexpress
###
##############################################################################
##############################################################################
* installing to library ‘/home/biocbuild/bbs-3.8-bioc/R/library’
* installing *source* package ‘EBcoexpress’ ...
** libs
gcc -I"/home/biocbuild/bbs-3.8-bioc/R/include" -DNDEBUG -I/usr/local/include -fpic -g -O2 -Wall -c EBcoexpress.c -o EBcoexpress.o
EBcoexpress.c: In function ‘bwmcCworker’:
EBcoexpress.c:74:15: warning: suggest parentheses around comparison in operand of ‘|’ [-Wparentheses]
if(temp < -1 | temp > 1)
^
gcc -shared -L/home/biocbuild/bbs-3.8-bioc/R/lib -L/usr/local/lib -o EBcoexpress.so EBcoexpress.o -L/home/biocbuild/bbs-3.8-bioc/R/lib -lR
installing to /home/biocbuild/bbs-3.8-bioc/R/library/EBcoexpress/libs
** R
** data
** demo
** byte-compile and prepare package for lazy loading
** help
*** installing help indices
** building package indices
** installing vignettes
** testing if installed package can be loaded
* DONE (EBcoexpress)