| Back to Multiple platform build/check report for BioC 3.8 |
|
This page was generated on 2018-04-30 09:44:13 -0400 (Mon, 30 Apr 2018).
| Package 346/1559 | Hostname | OS / Arch | INSTALL | BUILD | CHECK | BUILD BIN | ||||||
Haidong Yi
| malbec1 | Linux (Ubuntu 16.04.1 LTS) / x86_64 | OK | ERROR | skipped | |||||||
| tokay1 | Windows Server 2012 R2 Standard / x64 | [ OK ] | ERROR | skipped | skipped | |||||||
| merida1 | OS X 10.11.6 El Capitan / x86_64 | OK | ERROR | skipped | skipped |
| Package: DASC |
| Version: 1.1.1 |
| Command: C:\cygwin\bin\curl.exe -O https://malbec1.bioconductor.org/BBS/3.8/bioc/src/contrib/DASC_1.1.1.tar.gz && rm -rf DASC.buildbin-libdir && mkdir DASC.buildbin-libdir && C:\Users\biocbuild\bbs-3.8-bioc\R\bin\R.exe CMD INSTALL --merge-multiarch --build --library=DASC.buildbin-libdir DASC_1.1.1.tar.gz && C:\Users\biocbuild\bbs-3.8-bioc\R\bin\R.exe CMD INSTALL DASC_1.1.1.zip && rm DASC_1.1.1.tar.gz DASC_1.1.1.zip |
| StartedAt: 2018-04-29 20:07:09 -0400 (Sun, 29 Apr 2018) |
| EndedAt: 2018-04-29 20:07:42 -0400 (Sun, 29 Apr 2018) |
| EllapsedTime: 32.3 seconds |
| RetCode: 0 |
| Status: OK |
##############################################################################
##############################################################################
###
### Running command:
###
### C:\cygwin\bin\curl.exe -O https://malbec1.bioconductor.org/BBS/3.8/bioc/src/contrib/DASC_1.1.1.tar.gz && rm -rf DASC.buildbin-libdir && mkdir DASC.buildbin-libdir && C:\Users\biocbuild\bbs-3.8-bioc\R\bin\R.exe CMD INSTALL --merge-multiarch --build --library=DASC.buildbin-libdir DASC_1.1.1.tar.gz && C:\Users\biocbuild\bbs-3.8-bioc\R\bin\R.exe CMD INSTALL DASC_1.1.1.zip && rm DASC_1.1.1.tar.gz DASC_1.1.1.zip
###
##############################################################################
##############################################################################
% Total % Received % Xferd Average Speed Time Time Time Current
Dload Upload Total Spent Left Speed
0 0 0 0 0 0 0 0 --:--:-- --:--:-- --:--:-- 0
100 909k 100 909k 0 0 19.9M 0 --:--:-- --:--:-- --:--:-- 21.6M
install for i386
* installing *source* package 'DASC' ...
** R
** data
*** moving datasets to lazyload DB
** byte-compile and prepare package for lazy loading
** help
*** installing help indices
converting help for package 'DASC'
finding HTML links ... done
DASC html
Ini_SemiNMF html
Loss_Fro html
Semi_NMF html
Sptree html
adj2vector html
get_father html
merge html
stanfordData html
trans_ADJ html
trans_Laplace html
update_G html
** building package indices
** installing vignettes
** testing if installed package can be loaded
Warning: Package 'DASC' is deprecated and will be removed from Bioconductor
version 3.7
In R CMD INSTALL
install for x64
* installing *source* package 'DASC' ...
** testing if installed package can be loaded
Warning: Package 'DASC' is deprecated and will be removed from Bioconductor
version 3.7
* MD5 sums
packaged installation of 'DASC' as DASC_1.1.1.zip
* DONE (DASC)
In R CMD INSTALL
In R CMD INSTALL
* installing to library 'C:/Users/biocbuild/bbs-3.8-bioc/R/library'
package 'DASC' successfully unpacked and MD5 sums checked
In R CMD INSTALL