| Back to Multiple platform build/check report for BioC 3.8 |
|
This page was generated on 2018-04-30 09:27:28 -0400 (Mon, 30 Apr 2018).
| Package 346/1559 | Hostname | OS / Arch | INSTALL | BUILD | CHECK | BUILD BIN | ||||||
Haidong Yi
| malbec1 | Linux (Ubuntu 16.04.1 LTS) / x86_64 | [ OK ] | ERROR | skipped | |||||||
| tokay1 | Windows Server 2012 R2 Standard / x64 | OK | ERROR | skipped | skipped | |||||||
| merida1 | OS X 10.11.6 El Capitan / x86_64 | OK | ERROR | skipped | skipped |
| Package: DASC |
| Version: 1.1.1 |
| Command: /home/biocbuild/bbs-3.8-bioc/R/bin/R CMD INSTALL DASC |
| StartedAt: 2018-04-29 18:31:36 -0400 (Sun, 29 Apr 2018) |
| EndedAt: 2018-04-29 18:31:43 -0400 (Sun, 29 Apr 2018) |
| EllapsedTime: 6.8 seconds |
| RetCode: 0 |
| Status: OK |
############################################################################## ############################################################################## ### ### Running command: ### ### /home/biocbuild/bbs-3.8-bioc/R/bin/R CMD INSTALL DASC ### ############################################################################## ############################################################################## * installing to library ‘/home/biocbuild/bbs-3.8-bioc/R/library’ * installing *source* package ‘DASC’ ... ** R ** data *** moving datasets to lazyload DB ** byte-compile and prepare package for lazy loading ** help *** installing help indices ** building package indices ** installing vignettes ** testing if installed package can be loaded Warning: Package 'DASC' is deprecated and will be removed from Bioconductor version 3.7 * DONE (DASC)