| Back to Workflows build report for BioC 3.7 |
This page was generated on 2018-10-15 12:45:17 -0400 (Mon, 15 Oct 2018).
| Package 5/21 | Hostname | OS / Arch | INSTALL | BUILD | ||||||
| cytofWorkflow 1.2.0 Malgorzata Nowicka
| malbec2 | Linux (Ubuntu 16.04.1 LTS) / x86_64 | OK | OK | ||||||
| tokay2 | Windows Server 2012 R2 Standard / x64 | [ OK ] | OK |
| Package: cytofWorkflow |
| Version: 1.2.0 |
| Command: C:\cygwin\bin\curl.exe -O https://malbec2.bioconductor.org/BBS/3.7/workflows/src/contrib/cytofWorkflow_1.2.0.tar.gz && rm -rf cytofWorkflow.buildbin-libdir && mkdir cytofWorkflow.buildbin-libdir && C:\Users\biocbuild\bbs-3.7-bioc\R\bin\R.exe CMD INSTALL --merge-multiarch --build --library=cytofWorkflow.buildbin-libdir cytofWorkflow_1.2.0.tar.gz && C:\Users\biocbuild\bbs-3.7-bioc\R\bin\R.exe CMD INSTALL cytofWorkflow_1.2.0.zip && rm cytofWorkflow_1.2.0.tar.gz cytofWorkflow_1.2.0.zip |
| StartedAt: 2018-10-15 07:55:22 -0400 (Mon, 15 Oct 2018) |
| EndedAt: 2018-10-15 07:55:39 -0400 (Mon, 15 Oct 2018) |
| EllapsedTime: 17.5 seconds |
| RetCode: 0 |
| Status: OK |
##############################################################################
##############################################################################
###
### Running command:
###
### C:\cygwin\bin\curl.exe -O https://malbec2.bioconductor.org/BBS/3.7/workflows/src/contrib/cytofWorkflow_1.2.0.tar.gz && rm -rf cytofWorkflow.buildbin-libdir && mkdir cytofWorkflow.buildbin-libdir && C:\Users\biocbuild\bbs-3.7-bioc\R\bin\R.exe CMD INSTALL --merge-multiarch --build --library=cytofWorkflow.buildbin-libdir cytofWorkflow_1.2.0.tar.gz && C:\Users\biocbuild\bbs-3.7-bioc\R\bin\R.exe CMD INSTALL cytofWorkflow_1.2.0.zip && rm cytofWorkflow_1.2.0.tar.gz cytofWorkflow_1.2.0.zip
###
##############################################################################
##############################################################################
% Total % Received % Xferd Average Speed Time Time Time Current
Dload Upload Total Spent Left Speed
0 0 0 0 0 0 0 0 --:--:-- --:--:-- --:--:-- 0
100 65088 100 65088 0 0 1216k 0 --:--:-- --:--:-- --:--:-- 1381k
install for i386
* installing *source* package 'cytofWorkflow' ...
** help
No man pages found in package 'cytofWorkflow'
*** installing help indices
** building package indices
** installing vignettes
** testing if installed package can be loaded
Warning: replacing previous import 'ggplot2::scale_discrete_manual' by 'ggridges::scale_discrete_manual' when loading 'cytofWorkflow'
In R CMD INSTALL
install for x64
* installing *source* package 'cytofWorkflow' ...
** testing if installed package can be loaded
Warning: replacing previous import 'ggplot2::scale_discrete_manual' by 'ggridges::scale_discrete_manual' when loading 'cytofWorkflow'
* MD5 sums
packaged installation of 'cytofWorkflow' as cytofWorkflow_1.2.0.zip
* DONE (cytofWorkflow)
In R CMD INSTALL
In R CMD INSTALL
* installing to library 'C:/Users/biocbuild/bbs-3.7-bioc/R/library'
package 'cytofWorkflow' successfully unpacked and MD5 sums checked
In R CMD INSTALL