| Back to Workflows build report for BioC 3.7 |
This page was generated on 2018-10-15 12:45:17 -0400 (Mon, 15 Oct 2018).
| Package 5/21 | Hostname | OS / Arch | INSTALL | BUILD | ||||||
| cytofWorkflow 1.2.0 Malgorzata Nowicka
| malbec2 | Linux (Ubuntu 16.04.1 LTS) / x86_64 | OK | OK | ||||||
| tokay2 | Windows Server 2012 R2 Standard / x64 | OK | [ OK ] |
| Package: cytofWorkflow |
| Version: 1.2.0 |
| Command: chmod a+r cytofWorkflow -R && C:\Users\biocbuild\bbs-3.7-bioc\R\bin\R.exe CMD build --keep-empty-dirs --no-resave-data cytofWorkflow |
| StartedAt: 2018-10-15 08:02:03 -0400 (Mon, 15 Oct 2018) |
| EndedAt: 2018-10-15 08:16:52 -0400 (Mon, 15 Oct 2018) |
| EllapsedTime: 888.9 seconds |
| RetCode: 0 |
| Status: OK |
| PackageFile: cytofWorkflow_1.2.0.tar.gz |
| PackageFileSize: 2.62 MiB |
############################################################################## ############################################################################## ### ### Running command: ### ### chmod a+r cytofWorkflow -R && C:\Users\biocbuild\bbs-3.7-bioc\R\bin\R.exe CMD build --keep-empty-dirs --no-resave-data cytofWorkflow ### ############################################################################## ############################################################################## * checking for file 'cytofWorkflow/DESCRIPTION' ... OK * preparing 'cytofWorkflow': * checking DESCRIPTION meta-information ... OK * installing the package to build vignettes * creating vignettes ... OK * checking for LF line-endings in source and make files and shell scripts * checking for empty or unneeded directories * building 'cytofWorkflow_1.2.0.tar.gz'