| Back to Multiple platform build/check report for BioC 3.7 |
|
This page was generated on 2018-10-17 08:33:36 -0400 (Wed, 17 Oct 2018).
| Package 1557/1561 | Hostname | OS / Arch | INSTALL | BUILD | CHECK | BUILD BIN | ||||||
| yaqcaffy 1.40.0 Laurent Gatto
| malbec2 | Linux (Ubuntu 16.04.1 LTS) / x86_64 | OK | OK | OK | |||||||
| tokay2 | Windows Server 2012 R2 Standard / x64 | OK | OK | OK | [ OK ] | |||||||
| merida2 | OS X 10.11.6 El Capitan / x86_64 | OK | OK | OK | OK |
| Package: yaqcaffy |
| Version: 1.40.0 |
| Command: rm -rf yaqcaffy.buildbin-libdir && mkdir yaqcaffy.buildbin-libdir && C:\Users\biocbuild\bbs-3.7-bioc\R\bin\R.exe CMD INSTALL --merge-multiarch --build --library=yaqcaffy.buildbin-libdir yaqcaffy_1.40.0.tar.gz |
| StartedAt: 2018-10-17 07:07:17 -0400 (Wed, 17 Oct 2018) |
| EndedAt: 2018-10-17 07:07:47 -0400 (Wed, 17 Oct 2018) |
| EllapsedTime: 30.0 seconds |
| RetCode: 0 |
| Status: OK |
| PackageFile: yaqcaffy_1.40.0.zip |
| PackageFileSize: 628.2 KiB |
##############################################################################
##############################################################################
###
### Running command:
###
### rm -rf yaqcaffy.buildbin-libdir && mkdir yaqcaffy.buildbin-libdir && C:\Users\biocbuild\bbs-3.7-bioc\R\bin\R.exe CMD INSTALL --merge-multiarch --build --library=yaqcaffy.buildbin-libdir yaqcaffy_1.40.0.tar.gz
###
##############################################################################
##############################################################################
install for i386
* installing *source* package 'yaqcaffy' ...
** R
** inst
** byte-compile and prepare package for lazy loading
Creating a generic function for 'identical' from package 'base' in package 'yaqcaffy'
** help
*** installing help indices
converting help for package 'yaqcaffy'
finding HTML links ... done
YAQCStats-class html
finding level-2 HTML links ... done
YaqcControlProbes-class html
getAllInt html
getBioProbes html
getOutliers html
getQCRatios html
getRatioProbes html
getSpikeProbes html
probeSelectionInterface html
reprodPlot html
yaqc.affy html
yaqc.plot html
** building package indices
** installing vignettes
** testing if installed package can be loaded
In R CMD INSTALL
install for x64
* installing *source* package 'yaqcaffy' ...
** testing if installed package can be loaded
* MD5 sums
packaged installation of 'yaqcaffy' as yaqcaffy_1.40.0.zip
* DONE (yaqcaffy)
In R CMD INSTALL
In R CMD INSTALL