| Back to Multiple platform build/check report for BioC 3.7 |
|
This page was generated on 2018-10-17 08:47:29 -0400 (Wed, 17 Oct 2018).
| Package 1557/1561 | Hostname | OS / Arch | INSTALL | BUILD | CHECK | BUILD BIN | ||||||
| yaqcaffy 1.40.0 Laurent Gatto
| malbec2 | Linux (Ubuntu 16.04.1 LTS) / x86_64 | OK | OK | OK | |||||||
| tokay2 | Windows Server 2012 R2 Standard / x64 | OK | OK | OK | OK | |||||||
| merida2 | OS X 10.11.6 El Capitan / x86_64 | OK | OK | OK | [ OK ] |
| Package: yaqcaffy |
| Version: 1.40.0 |
| Command: rm -rf yaqcaffy.buildbin-libdir && mkdir yaqcaffy.buildbin-libdir && /Users/biocbuild/BBS/utils/build-universal.sh yaqcaffy_1.40.0.tar.gz /Library/Frameworks/R.framework/Versions/Current/Resources/bin/R yaqcaffy.buildbin-libdir |
| StartedAt: 2018-10-17 02:20:20 -0400 (Wed, 17 Oct 2018) |
| EndedAt: 2018-10-17 02:21:21 -0400 (Wed, 17 Oct 2018) |
| EllapsedTime: 60.2 seconds |
| RetCode: 0 |
| Status: OK |
| PackageFile: yaqcaffy_1.40.0.tgz |
| PackageFileSize: 625.8 KiB |
############################################################################## ############################################################################## ### ### Running command: ### ### rm -rf yaqcaffy.buildbin-libdir && mkdir yaqcaffy.buildbin-libdir && /Users/biocbuild/BBS/utils/build-universal.sh yaqcaffy_1.40.0.tar.gz /Library/Frameworks/R.framework/Versions/Current/Resources/bin/R yaqcaffy.buildbin-libdir ### ############################################################################## ############################################################################## >>>>>>> >>>>>>> INSTALLATION WITH 'R CMD INSTALL --preclean --no-multiarch --library=yaqcaffy.buildbin-libdir yaqcaffy_1.40.0.tar.gz' >>>>>>> * installing *source* package ‘yaqcaffy’ ... ** R ** inst ** byte-compile and prepare package for lazy loading Creating a generic function for ‘identical’ from package ‘base’ in package ‘yaqcaffy’ ** help *** installing help indices ** building package indices ** installing vignettes ** testing if installed package can be loaded * DONE (yaqcaffy)