| Back to Multiple platform build/check report for BioC 3.7 |
|
This page was generated on 2018-10-17 08:36:47 -0400 (Wed, 17 Oct 2018).
| Package 1542/1561 | Hostname | OS / Arch | INSTALL | BUILD | CHECK | BUILD BIN | ||||||
| wateRmelon 1.24.0 Leo
| malbec2 | Linux (Ubuntu 16.04.1 LTS) / x86_64 | OK | OK | WARNINGS | |||||||
| tokay2 | Windows Server 2012 R2 Standard / x64 | [ OK ] | OK | WARNINGS | OK | |||||||
| merida2 | OS X 10.11.6 El Capitan / x86_64 | OK | OK | WARNINGS | OK |
| Package: wateRmelon |
| Version: 1.24.0 |
| Command: C:\cygwin\bin\curl.exe -O https://malbec2.bioconductor.org/BBS/3.7/bioc/src/contrib/wateRmelon_1.24.0.tar.gz && rm -rf wateRmelon.buildbin-libdir && mkdir wateRmelon.buildbin-libdir && C:\Users\biocbuild\bbs-3.7-bioc\R\bin\R.exe CMD INSTALL --merge-multiarch --build --library=wateRmelon.buildbin-libdir wateRmelon_1.24.0.tar.gz && C:\Users\biocbuild\bbs-3.7-bioc\R\bin\R.exe CMD INSTALL wateRmelon_1.24.0.zip && rm wateRmelon_1.24.0.tar.gz wateRmelon_1.24.0.zip |
| StartedAt: 2018-10-16 20:27:18 -0400 (Tue, 16 Oct 2018) |
| EndedAt: 2018-10-16 20:29:02 -0400 (Tue, 16 Oct 2018) |
| EllapsedTime: 104.4 seconds |
| RetCode: 0 |
| Status: OK |
##############################################################################
##############################################################################
###
### Running command:
###
### C:\cygwin\bin\curl.exe -O https://malbec2.bioconductor.org/BBS/3.7/bioc/src/contrib/wateRmelon_1.24.0.tar.gz && rm -rf wateRmelon.buildbin-libdir && mkdir wateRmelon.buildbin-libdir && C:\Users\biocbuild\bbs-3.7-bioc\R\bin\R.exe CMD INSTALL --merge-multiarch --build --library=wateRmelon.buildbin-libdir wateRmelon_1.24.0.tar.gz && C:\Users\biocbuild\bbs-3.7-bioc\R\bin\R.exe CMD INSTALL wateRmelon_1.24.0.zip && rm wateRmelon_1.24.0.tar.gz wateRmelon_1.24.0.zip
###
##############################################################################
##############################################################################
% Total % Received % Xferd Average Speed Time Time Time Current
Dload Upload Total Spent Left Speed
0 0 0 0 0 0 0 0 --:--:-- --:--:-- --:--:-- 0
100 1055k 100 1055k 0 0 15.2M 0 --:--:-- --:--:-- --:--:-- 16.9M
install for i386
* installing *source* package 'wateRmelon' ...
** R
** data
** inst
** byte-compile and prepare package for lazy loading
Creating a generic function from function 'as.methylumi' in package 'wateRmelon'
Note: possible error in 'preprocessIlluminaMethylation(path2data = path2data, ': unused arguments (path2data = path2data, path2controlData = path2controlData, projectName = projectName)
** help
*** installing help indices
converting help for package 'wateRmelon'
finding HTML links ... done
BMIQ html
Beta2M html
adaptRefQuantiles html
agep html
as.methylumi-methods html
beadc html
beadcount html
bscon html
colnames-methods html
combo html
dasen-MethyLumiSet html
dasen-MethySet html
dasen-exprmethy450 html
dasen html
db1 html
dmrse-methods html
dmrse html
estimateCellCounts.wmln html
genki-methods html
genki html
genkme html
got html
iDMR html
melon html
metrics html
outlyx-methods html
outlyx html
pfilter html
pwod-methods html
pwod html
qual html
readEPIC html
seabi-methods html
seabi html
seabird html
sextest html
wateRmelon-package html
wm_internal html
** building package indices
** installing vignettes
'wateRmelon.Rnw'
** testing if installed package can be loaded
In R CMD INSTALL
install for x64
* installing *source* package 'wateRmelon' ...
** testing if installed package can be loaded
* MD5 sums
packaged installation of 'wateRmelon' as wateRmelon_1.24.0.zip
* DONE (wateRmelon)
In R CMD INSTALL
In R CMD INSTALL
* installing to library 'C:/Users/biocbuild/bbs-3.7-bioc/R/library'
package 'wateRmelon' successfully unpacked and MD5 sums checked
In R CMD INSTALL