| Back to Multiple platform build/check report for BioC 3.7 |
|
This page was generated on 2018-10-17 08:36:47 -0400 (Wed, 17 Oct 2018).
| Package 1542/1561 | Hostname | OS / Arch | INSTALL | BUILD | CHECK | BUILD BIN | ||||||
| wateRmelon 1.24.0 Leo
| malbec2 | Linux (Ubuntu 16.04.1 LTS) / x86_64 | OK | OK | WARNINGS | |||||||
| tokay2 | Windows Server 2012 R2 Standard / x64 | OK | OK | WARNINGS | [ OK ] | |||||||
| merida2 | OS X 10.11.6 El Capitan / x86_64 | OK | OK | WARNINGS | OK |
| Package: wateRmelon |
| Version: 1.24.0 |
| Command: rm -rf wateRmelon.buildbin-libdir && mkdir wateRmelon.buildbin-libdir && C:\Users\biocbuild\bbs-3.7-bioc\R\bin\R.exe CMD INSTALL --merge-multiarch --build --library=wateRmelon.buildbin-libdir wateRmelon_1.24.0.tar.gz |
| StartedAt: 2018-10-17 07:06:46 -0400 (Wed, 17 Oct 2018) |
| EndedAt: 2018-10-17 07:07:36 -0400 (Wed, 17 Oct 2018) |
| EllapsedTime: 49.3 seconds |
| RetCode: 0 |
| Status: OK |
| PackageFile: wateRmelon_1.24.0.zip |
| PackageFileSize: 1.404 MiB |
##############################################################################
##############################################################################
###
### Running command:
###
### rm -rf wateRmelon.buildbin-libdir && mkdir wateRmelon.buildbin-libdir && C:\Users\biocbuild\bbs-3.7-bioc\R\bin\R.exe CMD INSTALL --merge-multiarch --build --library=wateRmelon.buildbin-libdir wateRmelon_1.24.0.tar.gz
###
##############################################################################
##############################################################################
install for i386
* installing *source* package 'wateRmelon' ...
** R
** data
** inst
** byte-compile and prepare package for lazy loading
Creating a generic function from function 'as.methylumi' in package 'wateRmelon'
Note: possible error in 'preprocessIlluminaMethylation(path2data = path2data, ': unused arguments (path2data = path2data, path2controlData = path2controlData, projectName = projectName)
** help
*** installing help indices
converting help for package 'wateRmelon'
finding HTML links ... done
BMIQ html
Beta2M html
adaptRefQuantiles html
agep html
as.methylumi-methods html
beadc html
beadcount html
bscon html
colnames-methods html
combo html
dasen-MethyLumiSet html
dasen-MethySet html
dasen-exprmethy450 html
dasen html
db1 html
dmrse-methods html
dmrse html
estimateCellCounts.wmln html
genki-methods html
genki html
genkme html
got html
iDMR html
melon html
metrics html
outlyx-methods html
outlyx html
pfilter html
pwod-methods html
pwod html
qual html
readEPIC html
seabi-methods html
seabi html
seabird html
sextest html
wateRmelon-package html
wm_internal html
** building package indices
** installing vignettes
** testing if installed package can be loaded
In R CMD INSTALL
install for x64
* installing *source* package 'wateRmelon' ...
** testing if installed package can be loaded
* MD5 sums
packaged installation of 'wateRmelon' as wateRmelon_1.24.0.zip
* DONE (wateRmelon)
In R CMD INSTALL
In R CMD INSTALL