| Back to Multiple platform build/check report for BioC 3.7 |
|
This page was generated on 2018-10-17 08:37:17 -0400 (Wed, 17 Oct 2018).
| Package 1499/1561 | Hostname | OS / Arch | INSTALL | BUILD | CHECK | BUILD BIN | ||||||
| tRanslatome 1.18.5 Toma Tebaldi
| malbec2 | Linux (Ubuntu 16.04.1 LTS) / x86_64 | OK | OK | OK | |||||||
| tokay2 | Windows Server 2012 R2 Standard / x64 | OK | OK | OK | [ OK ] | |||||||
| merida2 | OS X 10.11.6 El Capitan / x86_64 | OK | OK | OK | OK |
| Package: tRanslatome |
| Version: 1.18.5 |
| Command: rm -rf tRanslatome.buildbin-libdir && mkdir tRanslatome.buildbin-libdir && C:\Users\biocbuild\bbs-3.7-bioc\R\bin\R.exe CMD INSTALL --merge-multiarch --build --library=tRanslatome.buildbin-libdir tRanslatome_1.18.5.tar.gz |
| StartedAt: 2018-10-17 07:05:14 -0400 (Wed, 17 Oct 2018) |
| EndedAt: 2018-10-17 07:05:44 -0400 (Wed, 17 Oct 2018) |
| EllapsedTime: 29.9 seconds |
| RetCode: 0 |
| Status: OK |
| PackageFile: tRanslatome_1.18.5.zip |
| PackageFileSize: 1.093 MiB |
##############################################################################
##############################################################################
###
### Running command:
###
### rm -rf tRanslatome.buildbin-libdir && mkdir tRanslatome.buildbin-libdir && C:\Users\biocbuild\bbs-3.7-bioc\R\bin\R.exe CMD INSTALL --merge-multiarch --build --library=tRanslatome.buildbin-libdir tRanslatome_1.18.5.tar.gz
###
##############################################################################
##############################################################################
install for i386
* installing *source* package 'tRanslatome' ...
** R
** data
** inst
** byte-compile and prepare package for lazy loading
groupGOTerms: GOBPTerm, GOMFTerm, GOCCTerm environments built.
** help
*** installing help indices
converting help for package 'tRanslatome'
finding HTML links ... done
CVplot html
DEGs html
DEGs.table html
EnrichedSets html
FC.threshold html
GOComparison html
GOEnrichment html
GOsets html
GOsims html
Heatmap html
Histogram html
IdentityPlot html
MAplot html
Radar html
RegulatoryEnrichment html
SDplot html
Scatterplot html
SimilarityPlot html
TranslatomeDataset html
average.similarity.scores html
computeDEGs html
enriched.table html
getConditionA html
getConditionB html
getConditionC html
getConditionD html
getConditionLabels html
getDEGs html
getDEGsMethod html
getDataType html
getExprMatrix html
getLevelLabels html
identity.matrix html
label.condition html
label.level.DEGs html
label.level.enriched html
newTranslatomeDataset html
significance.threshold html
similarity.matrix html
tRanslatome-package html
tRanslatomeSampleData html
** building package indices
** installing vignettes
** testing if installed package can be loaded
groupGOTerms: GOBPTerm, GOMFTerm, GOCCTerm environments built.
In R CMD INSTALL
install for x64
* installing *source* package 'tRanslatome' ...
** testing if installed package can be loaded
groupGOTerms: GOBPTerm, GOMFTerm, GOCCTerm environments built.
* MD5 sums
packaged installation of 'tRanslatome' as tRanslatome_1.18.5.zip
* DONE (tRanslatome)
In R CMD INSTALL
In R CMD INSTALL