| Back to Multiple platform build/check report for BioC 3.7 |
|
This page was generated on 2018-10-17 08:51:36 -0400 (Wed, 17 Oct 2018).
| Package 1499/1561 | Hostname | OS / Arch | INSTALL | BUILD | CHECK | BUILD BIN | ||||||
| tRanslatome 1.18.5 Toma Tebaldi
| malbec2 | Linux (Ubuntu 16.04.1 LTS) / x86_64 | OK | OK | OK | |||||||
| tokay2 | Windows Server 2012 R2 Standard / x64 | OK | OK | OK | OK | |||||||
| merida2 | OS X 10.11.6 El Capitan / x86_64 | OK | OK | OK | [ OK ] |
| Package: tRanslatome |
| Version: 1.18.5 |
| Command: rm -rf tRanslatome.buildbin-libdir && mkdir tRanslatome.buildbin-libdir && /Users/biocbuild/BBS/utils/build-universal.sh tRanslatome_1.18.5.tar.gz /Library/Frameworks/R.framework/Versions/Current/Resources/bin/R tRanslatome.buildbin-libdir |
| StartedAt: 2018-10-17 02:17:14 -0400 (Wed, 17 Oct 2018) |
| EndedAt: 2018-10-17 02:18:08 -0400 (Wed, 17 Oct 2018) |
| EllapsedTime: 53.7 seconds |
| RetCode: 0 |
| Status: OK |
| PackageFile: tRanslatome_1.18.5.tgz |
| PackageFileSize: 1.045 MiB |
############################################################################## ############################################################################## ### ### Running command: ### ### rm -rf tRanslatome.buildbin-libdir && mkdir tRanslatome.buildbin-libdir && /Users/biocbuild/BBS/utils/build-universal.sh tRanslatome_1.18.5.tar.gz /Library/Frameworks/R.framework/Versions/Current/Resources/bin/R tRanslatome.buildbin-libdir ### ############################################################################## ############################################################################## >>>>>>> >>>>>>> INSTALLATION WITH 'R CMD INSTALL --preclean --no-multiarch --library=tRanslatome.buildbin-libdir tRanslatome_1.18.5.tar.gz' >>>>>>> * installing *source* package ‘tRanslatome’ ... ** R ** data ** inst ** byte-compile and prepare package for lazy loading groupGOTerms: GOBPTerm, GOMFTerm, GOCCTerm environments built. ** help *** installing help indices ** building package indices ** installing vignettes ** testing if installed package can be loaded groupGOTerms: GOBPTerm, GOMFTerm, GOCCTerm environments built. * DONE (tRanslatome)