| Back to Multiple platform build/check report for BioC 3.7 | 
 | 
This page was generated on 2018-10-17 08:32:58 -0400 (Wed, 17 Oct 2018).
| Package 1419/1561 | Hostname | OS / Arch | INSTALL | BUILD | CHECK | BUILD BIN | ||||||
| splots 1.46.0 Wolfgang Huber 
 | malbec2 | Linux (Ubuntu 16.04.1 LTS) / x86_64 | OK | OK | OK |  | ||||||
| tokay2 | Windows Server 2012 R2 Standard / x64 | [ OK ] | OK | OK | OK |  | ||||||
| merida2 | OS X 10.11.6 El Capitan / x86_64 | OK | OK | OK | OK |  | 
| Package: splots | 
| Version: 1.46.0 | 
| Command: C:\cygwin\bin\curl.exe -O https://malbec2.bioconductor.org/BBS/3.7/bioc/src/contrib/splots_1.46.0.tar.gz && rm -rf splots.buildbin-libdir && mkdir splots.buildbin-libdir && C:\Users\biocbuild\bbs-3.7-bioc\R\bin\R.exe CMD INSTALL --merge-multiarch --build --library=splots.buildbin-libdir splots_1.46.0.tar.gz && C:\Users\biocbuild\bbs-3.7-bioc\R\bin\R.exe CMD INSTALL splots_1.46.0.zip && rm splots_1.46.0.tar.gz splots_1.46.0.zip | 
| StartedAt: 2018-10-16 18:31:12 -0400 (Tue, 16 Oct 2018) | 
| EndedAt: 2018-10-16 18:31:28 -0400 (Tue, 16 Oct 2018) | 
| EllapsedTime: 16.3 seconds | 
| RetCode: 0 | 
| Status: OK | 
##############################################################################
##############################################################################
###
### Running command:
###
###   C:\cygwin\bin\curl.exe -O https://malbec2.bioconductor.org/BBS/3.7/bioc/src/contrib/splots_1.46.0.tar.gz && rm -rf splots.buildbin-libdir && mkdir splots.buildbin-libdir && C:\Users\biocbuild\bbs-3.7-bioc\R\bin\R.exe CMD INSTALL --merge-multiarch --build --library=splots.buildbin-libdir splots_1.46.0.tar.gz && C:\Users\biocbuild\bbs-3.7-bioc\R\bin\R.exe CMD INSTALL splots_1.46.0.zip && rm splots_1.46.0.tar.gz splots_1.46.0.zip
###
##############################################################################
##############################################################################
  % Total    % Received % Xferd  Average Speed   Time    Time     Time  Current
                                 Dload  Upload   Total   Spent    Left  Speed
  0     0    0     0    0     0      0      0 --:--:-- --:--:-- --:--:--     0
100  4954  100  4954    0     0   101k      0 --:--:-- --:--:-- --:--:--  115k
install for i386
* installing *source* package 'splots' ...
** R
** byte-compile and prepare package for lazy loading
** help
*** installing help indices
  converting help for package 'splots'
    finding HTML links ... done
    plotScreen                              html  
** building package indices
** installing vignettes
** testing if installed package can be loaded
In R CMD INSTALL
install for x64
* installing *source* package 'splots' ...
** testing if installed package can be loaded
* MD5 sums
packaged installation of 'splots' as splots_1.46.0.zip
* DONE (splots)
In R CMD INSTALL
In R CMD INSTALL
* installing to library 'C:/Users/biocbuild/bbs-3.7-bioc/R/library'
package 'splots' successfully unpacked and MD5 sums checked
In R CMD INSTALL