| Back to Multiple platform build/check report for BioC 3.7 |
|
This page was generated on 2018-10-17 08:21:49 -0400 (Wed, 17 Oct 2018).
| Package 1419/1561 | Hostname | OS / Arch | INSTALL | BUILD | CHECK | BUILD BIN | ||||||
| splots 1.46.0 Wolfgang Huber
| malbec2 | Linux (Ubuntu 16.04.1 LTS) / x86_64 | [ OK ] | OK | OK | |||||||
| tokay2 | Windows Server 2012 R2 Standard / x64 | OK | OK | OK | OK | |||||||
| merida2 | OS X 10.11.6 El Capitan / x86_64 | OK | OK | OK | OK |
| Package: splots |
| Version: 1.46.0 |
| Command: /home/biocbuild/bbs-3.7-bioc/R/bin/R CMD INSTALL splots |
| StartedAt: 2018-10-15 17:55:25 -0400 (Mon, 15 Oct 2018) |
| EndedAt: 2018-10-15 17:55:30 -0400 (Mon, 15 Oct 2018) |
| EllapsedTime: 4.8 seconds |
| RetCode: 0 |
| Status: OK |
############################################################################## ############################################################################## ### ### Running command: ### ### /home/biocbuild/bbs-3.7-bioc/R/bin/R CMD INSTALL splots ### ############################################################################## ############################################################################## * installing to library ‘/home/biocbuild/bbs-3.7-bioc/R/library’ * installing *source* package ‘splots’ ... ** R ** byte-compile and prepare package for lazy loading ** help *** installing help indices ** building package indices ** installing vignettes ** testing if installed package can be loaded * DONE (splots)