| Back to Multiple platform build/check report for BioC 3.7 |
|
This page was generated on 2018-10-17 08:58:58 -0400 (Wed, 17 Oct 2018).
| Package 1387/1561 | Hostname | OS / Arch | INSTALL | BUILD | CHECK | BUILD BIN | ||||||
| slalom 1.2.0 Davis McCarthy
| malbec2 | Linux (Ubuntu 16.04.1 LTS) / x86_64 | OK | OK | OK | |||||||
| tokay2 | Windows Server 2012 R2 Standard / x64 | OK | OK | OK | OK | |||||||
| merida2 | OS X 10.11.6 El Capitan / x86_64 | [ OK ] | OK | OK | OK |
| Package: slalom |
| Version: 1.2.0 |
| Command: /Library/Frameworks/R.framework/Versions/Current/Resources/bin/R CMD INSTALL slalom |
| StartedAt: 2018-10-16 15:44:47 -0400 (Tue, 16 Oct 2018) |
| EndedAt: 2018-10-16 15:45:52 -0400 (Tue, 16 Oct 2018) |
| EllapsedTime: 64.8 seconds |
| RetCode: 0 |
| Status: OK |
##############################################################################
##############################################################################
###
### Running command:
###
### /Library/Frameworks/R.framework/Versions/Current/Resources/bin/R CMD INSTALL slalom
###
##############################################################################
##############################################################################
* installing to library ‘/Library/Frameworks/R.framework/Versions/3.5/Resources/library’
* installing *source* package ‘slalom’ ...
** libs
clang++ -I"/Library/Frameworks/R.framework/Resources/include" -DNDEBUG -I"/Library/Frameworks/R.framework/Versions/3.5/Resources/library/Rcpp/include" -I"/Library/Frameworks/R.framework/Versions/3.5/Resources/library/RcppArmadillo/include" -I"/Library/Frameworks/R.framework/Versions/3.5/Resources/library/BH/include" -I/usr/local/include -fPIC -Wall -g -O2 -c RcppExports.cpp -o RcppExports.o
clang++ -I"/Library/Frameworks/R.framework/Resources/include" -DNDEBUG -I"/Library/Frameworks/R.framework/Versions/3.5/Resources/library/Rcpp/include" -I"/Library/Frameworks/R.framework/Versions/3.5/Resources/library/RcppArmadillo/include" -I"/Library/Frameworks/R.framework/Versions/3.5/Resources/library/BH/include" -I/usr/local/include -fPIC -Wall -g -O2 -c slalom-classes.cpp -o slalom-classes.o
In file included from slalom-classes.cpp:20:
In file included from /Library/Frameworks/R.framework/Versions/3.5/Resources/library/BH/include/boost/math/special_functions/digamma.hpp:20:
In file included from /Library/Frameworks/R.framework/Versions/3.5/Resources/library/BH/include/boost/math/constants/constants.hpp:13:
In file included from /Library/Frameworks/R.framework/Versions/3.5/Resources/library/BH/include/boost/math/tools/convert_from_string.hpp:15:
In file included from /Library/Frameworks/R.framework/Versions/3.5/Resources/library/BH/include/boost/lexical_cast.hpp:32:
In file included from /Library/Frameworks/R.framework/Versions/3.5/Resources/library/BH/include/boost/lexical_cast/try_lexical_convert.hpp:42:
In file included from /Library/Frameworks/R.framework/Versions/3.5/Resources/library/BH/include/boost/lexical_cast/detail/converter_lexical.hpp:52:
In file included from /Library/Frameworks/R.framework/Versions/3.5/Resources/library/BH/include/boost/container/container_fwd.hpp:61:
/Library/Frameworks/R.framework/Versions/3.5/Resources/library/BH/include/boost/container/detail/std_fwd.hpp:27:1: warning: inline namespaces are a C++11 feature [-Wc++11-inline-namespace]
BOOST_MOVE_STD_NS_BEG
^
/Library/Frameworks/R.framework/Versions/3.5/Resources/library/BH/include/boost/move/detail/std_ns_begin.hpp:18:34: note: expanded from macro 'BOOST_MOVE_STD_NS_BEG'
#define BOOST_MOVE_STD_NS_BEG _LIBCPP_BEGIN_NAMESPACE_STD
^
/usr/local/clang4/bin/../include/c++/v1/__config:388:52: note: expanded from macro '_LIBCPP_BEGIN_NAMESPACE_STD'
#define _LIBCPP_BEGIN_NAMESPACE_STD namespace std {inline namespace _LIBCPP_NAMESPACE {
^
slalom-classes.cpp:223:20: warning: unused variable 'meanerr' [-Wunused-variable]
double meanerr = arma::mean(error);
^
slalom-classes.cpp:202:12: warning: unused variable 'meanerr' [-Wunused-variable]
double meanerr = arma::mean(error);
^
3 warnings generated.
clang++ -dynamiclib -Wl,-headerpad_max_install_names -undefined dynamic_lookup -single_module -multiply_defined suppress -L/Library/Frameworks/R.framework/Resources/lib -L/usr/local/lib -o slalom.so RcppExports.o slalom-classes.o -L/Library/Frameworks/R.framework/Resources/lib -lRlapack -L/Library/Frameworks/R.framework/Resources/lib -lRblas -L/usr/local/gfortran/lib/gcc/x86_64-apple-darwin15/6.1.0 -L/usr/local/gfortran/lib -lgfortran -lquadmath -lm -F/Library/Frameworks/R.framework/.. -framework R -Wl,-framework -Wl,CoreFoundation
installing to /Library/Frameworks/R.framework/Versions/3.5/Resources/library/slalom/libs
** R
** data
*** moving datasets to lazyload DB
** inst
** byte-compile and prepare package for lazy loading
** help
*** installing help indices
** building package indices
** installing vignettes
** testing if installed package can be loaded
* DONE (slalom)